{"text_format":"1","workbook":"xlsx","n_sheets":5,"sheets":["tabula","1-50","51-150","raundi","Sheet2"],"not_rendered":{"charts":0,"images":16,"macros":0,"external_links":0,"defined_names":6,"comments":0,"pivot_tables":0},"unopened":[],"bounds":{"document_bytes":16777216,"sheet_cells":100000,"rows_first":2000,"rows_last":500,"rows_between":2000,"halvings":0,"cell_chars":16384,"cell_head_chars":4096},"cells_cut":0,"cells_raw":0,"read":"whole","date_system":"1900"}

{"sheet":"tabula","index":0,"n_rows":113,"n_cols":14,"rows_kept":113,"cut":false,"hidden":false,"merged":[[5,2,5,3],[4,10,5,10],[2,11,5,11],[2,13,5,13],[2,3,3,3],[1,2,1,13],[2,1,4,1],[2,2,4,2],[2,10,3,10],[2,12,4,12]]}
[]
[null,null,"\"UNESCO viktorīna\" (tiešsaistē / vebinārā) | 2025.gada 17.oktobris"]
[null,"Grupa","#","Dalībnieks | Raunds | Tēma ",1,2,3,4,5,6,"KOPĀ","Laiks kopā uz pareizajām atbildēm","Pareizās atbildes (max)","Vid.laiks uz 1 pareizo atb."]
[null,null,null,null,"Pavediens: Par UNESCO un programmu “Pasaules atmiņa”","\"Pasaules atmiņas\": Latvijas nacionālais reģistrs","Latvijas nominācijas “Pasaules atmiņas” starptautiskajā reģistrā","Pasaules atmiņas” starptautiskais reģistrs","Kas kopīgs?","Multimediji"]
[null,null,null,"Max punkti raundā (bez bonusiem) ",250,250,250,250,255,250,{"$f":"SUM(E5:J5)","v":1505}]
[null,null,"Jautājumi",null,10,10,10,10,10,10,null,null,{"$f":"SUM(E6:J6)","v":60}]
[null,null,null,"Vidējie rādītāji",{"$f":"ROUND(AVERAGE(E8:E783),1)","v":100.1},{"$f":"ROUND(AVERAGE(F8:F783),1)","v":74.599999999999994},87.6,81.3,74.400000000000006,43.2,453.1,"-",25.7,"-"]
[null,3,1,"Vecā Stendere",192,143,192,184,182,146,1039,"04 min. 24,404",48,"05,508 sek."]
[null,1,2,"UNprosSeco",147,143,209,193,144,115,951,"05 min. 12,324",46,"06,790 sek."]
[null,1,3,"Ķengaraga vēsturiskais centrs",170,97,151,164,191,125,898,"04 min. 49,760",43,"06,739 sek."]
[null,3,4,"ultravista",148,177,160,186,117,76,864,"04 min. 58,869",42,"07,116 sek."]
[null,1,5,"Pundurplanēta",184,141,200,105,137,89,856,"04 min. 04,099",40,"06,102 sek."]
[null,3,6,"abrakadabra",174,143,185,127,162,55,846,"04 min. 47,221",41,"07,005 sek."]
[null,1,7,"Anita",160,131,216,109,110,78,804,"04 min. 02,487",38,"06,381 sek."]
[null,1,8,"Zobenbrāļu bordelis",133,149,169,145,121,68,785,"05 min. 05,270",39,"07,827 sek."]
[null,2,9,"Sindija DJV",86,127,162,151,135,123,784,"05 min. 12,072",39,"08,002 sek."]
[null,3,10,"Inspektors ar atmiņu",167,92,163,167,135,59,783,"07 min. 24,219",42,"10,577 sek."]
[null,2,11,"nezinu",142,90,170,185,136,47,770,"06 min. 49,051",41,"09,977 sek."]
[null,2,12,"Bandītu perēklis",129,144,210,130,105,49,767,"05 min. 37,265",39,"08,648 sek."]
[null,2,13,"UNESCO futbola nav",137,103,121,177,135,77,750,"05 min. 28,640",38,"08,648 sek."]
[null,3,14,"Romuls un Rema",127,101,123,115,185,86,737,"05 min. 47,167",38,"09,136 sek."]
[null,1,15,"Babyshark",154,96,186,89,119,81,725,"04 min. 09,687",35,"07,134 sek."]
[null,3,16,"Civeta",156,100,80,123,139,101,699,"06 min. 56,527",38,"10,961 sek."]
[null,3,17,"marta smeļ",113,129,155,131,139,18,685,"04 min. 28,774",34,"07,905 sek."]
[null,3,18,"MELNAIS CAURUMS",55,73,185,129,161,81,684,"10 min. 39,782",43,"14,879 sek."]
[null,1,19,"Quizzly Bears",105,97,113,123,144,75,657,"04 min. 47,774",33,"08,720 sek."]
[null,1,20,"Bugatti 21023",128,72,96,142,151,67,656,"06 min. 24,413",36,"10,678 sek."]
[null,3,21,"VMR",105,61,127,159,113,66,631,"06 min. 26,423",35,"11,041 sek."]
[null,null,22,"Kņopienei volga!",141,86,158,83,144,17,629,"05 min. 09,338",33,"09,374 sek."]
[null,null,23,"STŪRĪŠI",129,106,105,116,90,76,622,"08 min. 13,219",37,"13,330 sek."]
[null,null,24,"Aitu banda",133,61,113,135,138,37,617,"06 min. 27,949",34,"11,410 sek."]
[null,null,25,"Virsskaņas alus iznīcinātājs",129,100,109,139,62,77,616,"07 min. 51,475",36,"13,097 sek."]
[null,null,26,"Bagete",165,98,110,82,65,92,612,"04 min. 11,989",31,"08,129 sek."]
[null,null,27,"(. )( .)",118,94,108,76,153,48,597,"08 min. 01,482",36,"13,375 sek."]
[null,null,28,"Dairis",74,95,100,141,106,58,574,"05 min. 26,494",31,"10,532 sek."]
[null,null,29,"pupsiks",97,118,107,139,38,72,571,"04 min. 40,231",30,"09,341 sek."]
[null,null,30,"Vācieši",152,98,113,103,95,10,571,"06 min. 42,688",33,"12,203 sek."]
[null,null,31,"Morica ielas republika",137,82,128,134,43,34,558,"05 min. 36,459",31,"10,854 sek."]
[null,null,32,"BokasJaunkundze",146,68,63,57,135,85,554,"05 min. 16,698",30,"10,557 sek."]
[null,null,33,"Mandragoras saknes",133,69,140,89,85,37,553,"05 min. 58,255",31,"11,557 sek."]
[null,null,34,"Brians",145,76,137,30,84,74,546,"05 min. 30,280",30,"11,009 sek."]
[null,null,35,"piegirl",93,118,72,111,83,57,534,"04 min. 24,842",28,"09,459 sek."]
[null,null,36,"Reposts Kāposts",65,116,160,96,55,41,533,"07 min. 45,147",33,"14,095 sek."]
[null,null,37,"Agnusdei",98,72,102,61,115,84,532,"06 min. 58,329",32,"13,073 sek."]
[null,null,38,"BraveDucks",118,61,117,75,111,36,518,"08 min. 08,266",32,"15,258 sek."]
[null,null,39,"Miroņi mostas",131,123,83,66,62,49,514,"05 min. 29,026",29,"11,346 sek."]
[null,null,40,"Stiprenieki",144,65,123,77,63,34,506,"06 min. 46,814",30,"13,560 sek."]
[null,null,41,"Kickmons",128,98,70,107,89,14,506,"07 min. 45,373",32,"14,543 sek."]
[null,null,42,"GarGamels",137,70,95,68,72,63,505,"07 min. 53,683",32,"14,803 sek."]
[null,null,43,"Gubs",105,57,107,95,133,7,504,"09 min. 41,075",34,"17,090 sek."]
[null,null,44,"Ilze",108,108,63,105,67,39,490,"03 min. 40,938",25,"08,838 sek."]
[null,null,45,"Mopši & Co",98,67,42,161,93,26,487,"10 min. 16,846",34,"18,143 sek."]
[null,null,46,"Jirgens Klops",108,41,48,137,130,0,464,"01 min. 45,718",21,"05,034 sek."]
[null,null,47,"EstiPois",94,116,85,57,94,17,463,"07 min. 49,537",30,"15,651 sek."]
[null,null,48,"Pilskalni",75,87,101,76,62,43,444,"06 min. 27,803",28,"13,850 sek."]
[null,null,49,"Reinis",98,71,63,97,21,90,440,"03 min. 24,902",23,"08,909 sek."]
[null,null,50,"Cukurs un Ķobis",124,89,62,97,60,0,432,"04 min. 57,499",25,"11,900 sek."]
[null,null,51,"BĒRZI",65,46,18,115,118,66,428,"09 min. 14,611",30,"18,487 sek."]
[null,null,52,"Zanda",126,57,90,0,100,54,427,"04 min. 02,017",23,"10,522 sek."]
[null,null,53,"Kantoris3",114,38,70,60,80,57,419,"04 min. 44,461",24,"11,853 sek."]
[null,null,54,"Potato",80,94,70,82,46,36,408,"03 min. 14,462",21,"09,260 sek."]
[null,null,55,"Pritons",60,55,89,104,43,57,408,"04 min. 54,202",24,"12,258 sek."]
[null,null,56,"PAGASTMĀJA",84,25,99,61,91,28,388,"07 min. 08,123",26,"16,466 sek."]
[null,null,57,"Anastasika4",69,70,84,64,65,35,387,"06 min. 34,601",25,"15,784 sek."]
[null,null,58,"Mildas vergi",89,78,67,63,67,17,381,"02 min. 40,649",19,"08,455 sek."]
[null,null,59,"Umpalumpas",56,56,128,36,67,37,380,"07 min. 00,875",25,"16,835 sek."]
[null,null,60,"Cirsium",126,78,78,37,18,37,374,"03 min. 15,830",20,"09,792 sek."]
[null,null,61,"Kaimiņi",65,49,42,134,49,28,367,"08 min. 14,670",27,"18,321 sek."]
[null,null,62,"Saules iela",80,50,27,69,103,36,365,"05 min. 40,020",23,"14,783 sek."]
[null,null,63,"Aleksandrs",119,129,48,18,47,0,361,"02 min. 29,507",18,"08,306 sek."]
[null,null,64,"Nezinitis",101,33,74,77,45,30,360,"04 min. 11,899",21,"11,995 sek."]
[null,null,65,"Smilšu rukši",101,55,67,63,56,16,358,"04 min. 56,090",21,"14,100 sek."]
[null,null,66,"Lind",69,46,21,66,115,38,355,"04 min. 13,573",20,"12,679 sek."]
[null,null,67,"Vītoli",51,60,95,82,49,18,355,"06 min. 47,524",24,"16,980 sek."]
[null,null,68,"Garām",85,41,59,82,63,24,354,"06 min. 37,134",24,"16,547 sek."]
[null,null,69,"L-komanda",117,66,15,76,43,35,352,"04 min. 58,721",22,"13,578 sek."]
[null,null,70,"Marinēti gurķīši",92,73,75,30,40,41,351,"03 min. 53,541",20,"11,677 sek."]
[null,null,71,"Ieva_a",82,58,33,90,52,35,350,"07 min. 08,337",25,"17,133 sek."]
[null,null,72,"Zelta peles",62,62,132,35,56,0,347,"05 min. 56,907",23,"15,518 sek."]
[null,null,73,"Speedy Gonzales",93,49,59,73,69,0,343,"06 min. 21,513",23,"16,588 sek."]
[null,null,74,"Jā nu sanāk",111,80,88,17,45,0,341,"02 min. 46,229",18,"09,235 sek."]
[null,null,75,"Kūmiņš",89,82,36,69,46,16,338,"06 min. 35,781",24,"16,491 sek."]
[null,null,76,"Gutta",65,62,78,20,49,40,314,"03 min. 06,481",17,"10,969 sek."]
[null,null,77,"Lauma",73,72,0,124,21,23,313,"02 min. 12,182",16,"08,261 sek."]
[null,null,78,"Marta Rafelde",87,63,43,63,21,30,307,"06 min. 01,186",21,"17,199 sek."]
[null,null,79,"Drakulīši",86,52,34,95,0,34,301,"08 min. 03,907",25,"19,356 sek."]
[null,null,80,"Kristiāna",45,44,34,35,96,42,296,"05 min. 06,538",19,"16,134 sek."]
[null,null,81,"Arearo",105,28,62,54,23,18,290,"02 min. 43,458",16,"10,216 sek."]
[null,null,82,"AniKoz",123,0,59,21,67,16,286,"01 min. 39,030",14,"07,074 sek."]
[null,null,83,"KATOLI",84,52,22,37,32,58,285,"05 min. 00,117",19,"15,796 sek."]
[null,null,84,"Eri",null,null,132,43,51,52,278,"03 min. 23,698",16,"12,731 sek."]
[null,null,85,"janisvalm",57,49,89,0,21,56,272,"02 min. 00,608",14,"08,615 sek."]
[null,null,86,"Vita",86,41,35,35,19,55,271,"03 min. 55,581",17,"13,858 sek."]
[null,null,87,"Bubīši",63,24,60,30,59,35,271,"05 min. 18,221",19,"16,748 sek."]
[null,null,88,"Teikas inteligences dienests",79,35,54,63,6,31,268,"06 min. 38,604",21,"18,981 sek."]
[null,null,89,"Kate",64,53,35,63,41,6,262,"05 min. 47,593",19,"18,294 sek."]
[null,null,90,"Pitijs",68,87,75,22,0,0,252,"03 min. 04,351",15,"12,290 sek."]
[null,null,91,"Jolis",69,29,67,14,39,28,246,"03 min. 22,539",15,"13,503 sek."]
[null,null,92,67,17,78,0,65,40,41,241,"01 min. 38,405",12,"08,200 sek."]
[null,null,93,"Liepu iela",30,74,38,9,25,58,234,"04 min. 21,202",16,"16,325 sek."]
[null,null,94,"Kātotāji",76,54,59,0,0,40,229,"02 min. 23,984",13,"11,076 sek."]
[null,null,95,"Mikrene",78,18,36,60,0,33,225,"05 min. 38,016",18,"18,779 sek."]
[null,null,96,"Toptip",35,17,38,80,34,16,220,"04 min. 43,880",16,"17,743 sek."]
[null,null,97,"Em",25,47,18,57,43,28,218,"03 min. 36,381",14,"15,456 sek."]
[null,null,98,"Estere",49,18,40,12,22,54,195,"02 min. 41,368",12,"13,447 sek."]
[null,null,99,"Endijs",71,63,0,52,0,0,186,"02 min. 51,645",12,"14,304 sek."]
[null,null,100,"GandrīzPēdējie",60,63,22,0,25,0,170,"02 min. 52,332",11,"15,667 sek."]
[null,null,101,"Andersoni",43,37,62,0,0,17,159,"02 min. 53,405",11,"15,764 sek."]
[null,null,102,"Gailenes",109,38,0,0,0,0,147,"01 min. 57,895",9,"13,099 sek."]
[null,null,103,"Mario",18,29,0,0,0,0,47,"01 min. 21,171",4,"20,293 sek."]
[null,null,104,"kavējos",null,null,null,35,0,0,35,"00 min. 23,034",2,"11,517 sek."]
[null,null,105,"Sala",20,9,0,0,0,0,29,"01 min. 09,169",3,"23,056 sek."]
[null,null,106,"kD",null,null,null,null,null,24,24,"00 min. 38,832",2,"19,416 sek."]

{"sheet":"1-50","index":1,"n_rows":57,"n_cols":14,"rows_kept":57,"cut":false,"hidden":false,"merged":[[2,12,4,12],[2,13,5,13],[4,10,5,10],[5,2,5,3],[2,1,4,1],[2,2,4,2],[2,10,3,10],[2,3,3,3],[2,11,5,11]]}
[]
[null,null,{"$f":"tabula!C2","v":"\"UNESCO viktorīna\" (tiešsaistē / vebinārā) | 2025.gada 17.oktobris"}]
[null,"Grupa","#","Dalībnieks | Raunds | Tēma ",1,2,3,4,5,6,"KOPĀ","Laiks kopā uz pareizajām atbildēm","Pareizās atbildes (max)","Vid.laiks uz 1 pareizo atb."]
[null,null,null,null,{"$f":"tabula!E4","v":"Pavediens: Par UNESCO un programmu “Pasaules atmiņa”"},{"$f":"tabula!F4","v":"\"Pasaules atmiņas\": Latvijas nacionālais reģistrs"},{"$f":"tabula!G4","v":"Latvijas nominācijas “Pasaules atmiņas” starptautiskajā reģistrā"},{"$f":"tabula!H4","v":"Pasaules atmiņas” starptautiskais reģistrs"},{"$f":"tabula!I4","v":"Kas kopīgs?"},{"$f":"tabula!J4","v":"Multimediji"}]
[null,null,null,"Max punkti raundā (bez bonusiem) ",{"$f":"tabula!E5","v":250},{"$f":"tabula!F5","v":250},{"$f":"tabula!G5","v":250},{"$f":"tabula!H5","v":250},{"$f":"tabula!I5","v":255},{"$f":"tabula!J5","v":250},{"$f":"SUM(E5:J5)","v":1505}]
[null,null,"Jautājumi",null,{"$f":"tabula!E6","v":10},{"$f":"tabula!F6","v":10},{"$f":"tabula!G6","v":10},{"$f":"tabula!H6","v":10},{"$f":"tabula!I6","v":10},{"$f":"tabula!J6","v":10},null,null,{"$f":"SUM(E6:J6)","v":60}]
[null,null,null,"Vidējie rādītāji",{"$f":"tabula!E7","v":100.1},{"$f":"tabula!F7","v":74.599999999999994},{"$f":"tabula!G7","v":87.6},{"$f":"tabula!H7","v":81.3},{"$f":"tabula!I7","v":74.400000000000006},{"$f":"tabula!J7","v":43.2},{"$f":"tabula!K7","v":453.1},{"$f":"tabula!L7","v":"-"},{"$f":"tabula!M7","v":25.7},{"$f":"tabula!N7","v":"-"}]
[null,3,{"$f":"tabula!C8","v":1},{"$f":"tabula!D8","v":"Vecā Stendere"},{"$f":"tabula!E8","v":192},{"$f":"tabula!F8","v":143},{"$f":"tabula!G8","v":192},{"$f":"tabula!H8","v":184},{"$f":"tabula!I8","v":182},{"$f":"tabula!J8","v":146},{"$f":"tabula!K8","v":1039},{"$f":"tabula!L8","v":"04 min. 24,404"},{"$f":"tabula!M8","v":48},{"$f":"tabula!N8","v":"05,508 sek."}]
[null,1,{"$f":"tabula!C9","v":2},{"$f":"tabula!D9","v":"UNprosSeco"},{"$f":"tabula!E9","v":147},{"$f":"tabula!F9","v":143},{"$f":"tabula!G9","v":209},{"$f":"tabula!H9","v":193},{"$f":"tabula!I9","v":144},{"$f":"tabula!J9","v":115},{"$f":"tabula!K9","v":951},{"$f":"tabula!L9","v":"05 min. 12,324"},{"$f":"tabula!M9","v":46},{"$f":"tabula!N9","v":"06,790 sek."}]
[null,1,{"$f":"tabula!C10","v":3},{"$f":"tabula!D10","v":"Ķengaraga vēsturiskais centrs"},{"$f":"tabula!E10","v":170},{"$f":"tabula!F10","v":97},{"$f":"tabula!G10","v":151},{"$f":"tabula!H10","v":164},{"$f":"tabula!I10","v":191},{"$f":"tabula!J10","v":125},{"$f":"tabula!K10","v":898},{"$f":"tabula!L10","v":"04 min. 49,760"},{"$f":"tabula!M10","v":43},{"$f":"tabula!N10","v":"06,739 sek."}]
[null,3,{"$f":"tabula!C11","v":4},{"$f":"tabula!D11","v":"ultravista"},{"$f":"tabula!E11","v":148},{"$f":"tabula!F11","v":177},{"$f":"tabula!G11","v":160},{"$f":"tabula!H11","v":186},{"$f":"tabula!I11","v":117},{"$f":"tabula!J11","v":76},{"$f":"tabula!K11","v":864},{"$f":"tabula!L11","v":"04 min. 58,869"},{"$f":"tabula!M11","v":42},{"$f":"tabula!N11","v":"07,116 sek."}]
[null,1,{"$f":"tabula!C12","v":5},{"$f":"tabula!D12","v":"Pundurplanēta"},{"$f":"tabula!E12","v":184},{"$f":"tabula!F12","v":141},{"$f":"tabula!G12","v":200},{"$f":"tabula!H12","v":105},{"$f":"tabula!I12","v":137},{"$f":"tabula!J12","v":89},{"$f":"tabula!K12","v":856},{"$f":"tabula!L12","v":"04 min. 04,099"},{"$f":"tabula!M12","v":40},{"$f":"tabula!N12","v":"06,102 sek."}]
[null,3,{"$f":"tabula!C13","v":6},{"$f":"tabula!D13","v":"abrakadabra"},{"$f":"tabula!E13","v":174},{"$f":"tabula!F13","v":143},{"$f":"tabula!G13","v":185},{"$f":"tabula!H13","v":127},{"$f":"tabula!I13","v":162},{"$f":"tabula!J13","v":55},{"$f":"tabula!K13","v":846},{"$f":"tabula!L13","v":"04 min. 47,221"},{"$f":"tabula!M13","v":41},{"$f":"tabula!N13","v":"07,005 sek."}]
[null,1,{"$f":"tabula!C14","v":7},{"$f":"tabula!D14","v":"Anita"},{"$f":"tabula!E14","v":160},{"$f":"tabula!F14","v":131},{"$f":"tabula!G14","v":216},{"$f":"tabula!H14","v":109},{"$f":"tabula!I14","v":110},{"$f":"tabula!J14","v":78},{"$f":"tabula!K14","v":804},{"$f":"tabula!L14","v":"04 min. 02,487"},{"$f":"tabula!M14","v":38},{"$f":"tabula!N14","v":"06,381 sek."}]
[null,1,{"$f":"tabula!C15","v":8},{"$f":"tabula!D15","v":"Zobenbrāļu bordelis"},{"$f":"tabula!E15","v":133},{"$f":"tabula!F15","v":149},{"$f":"tabula!G15","v":169},{"$f":"tabula!H15","v":145},{"$f":"tabula!I15","v":121},{"$f":"tabula!J15","v":68},{"$f":"tabula!K15","v":785},{"$f":"tabula!L15","v":"05 min. 05,270"},{"$f":"tabula!M15","v":39},{"$f":"tabula!N15","v":"07,827 sek."}]
[null,2,{"$f":"tabula!C16","v":9},{"$f":"tabula!D16","v":"Sindija DJV"},{"$f":"tabula!E16","v":86},{"$f":"tabula!F16","v":127},{"$f":"tabula!G16","v":162},{"$f":"tabula!H16","v":151},{"$f":"tabula!I16","v":135},{"$f":"tabula!J16","v":123},{"$f":"tabula!K16","v":784},{"$f":"tabula!L16","v":"05 min. 12,072"},{"$f":"tabula!M16","v":39},{"$f":"tabula!N16","v":"08,002 sek."}]
[null,3,{"$f":"tabula!C17","v":10},{"$f":"tabula!D17","v":"Inspektors ar atmiņu"},{"$f":"tabula!E17","v":167},{"$f":"tabula!F17","v":92},{"$f":"tabula!G17","v":163},{"$f":"tabula!H17","v":167},{"$f":"tabula!I17","v":135},{"$f":"tabula!J17","v":59},{"$f":"tabula!K17","v":783},{"$f":"tabula!L17","v":"07 min. 24,219"},{"$f":"tabula!M17","v":42},{"$f":"tabula!N17","v":"10,577 sek."}]
[null,2,{"$f":"tabula!C18","v":11},{"$f":"tabula!D18","v":"nezinu"},{"$f":"tabula!E18","v":142},{"$f":"tabula!F18","v":90},{"$f":"tabula!G18","v":170},{"$f":"tabula!H18","v":185},{"$f":"tabula!I18","v":136},{"$f":"tabula!J18","v":47},{"$f":"tabula!K18","v":770},{"$f":"tabula!L18","v":"06 min. 49,051"},{"$f":"tabula!M18","v":41},{"$f":"tabula!N18","v":"09,977 sek."}]
[null,2,{"$f":"tabula!C19","v":12},{"$f":"tabula!D19","v":"Bandītu perēklis"},{"$f":"tabula!E19","v":129},{"$f":"tabula!F19","v":144},{"$f":"tabula!G19","v":210},{"$f":"tabula!H19","v":130},{"$f":"tabula!I19","v":105},{"$f":"tabula!J19","v":49},{"$f":"tabula!K19","v":767},{"$f":"tabula!L19","v":"05 min. 37,265"},{"$f":"tabula!M19","v":39},{"$f":"tabula!N19","v":"08,648 sek."}]
[null,2,{"$f":"tabula!C20","v":13},{"$f":"tabula!D20","v":"UNESCO futbola nav"},{"$f":"tabula!E20","v":137},{"$f":"tabula!F20","v":103},{"$f":"tabula!G20","v":121},{"$f":"tabula!H20","v":177},{"$f":"tabula!I20","v":135},{"$f":"tabula!J20","v":77},{"$f":"tabula!K20","v":750},{"$f":"tabula!L20","v":"05 min. 28,640"},{"$f":"tabula!M20","v":38},{"$f":"tabula!N20","v":"08,648 sek."}]
[null,3,{"$f":"tabula!C21","v":14},{"$f":"tabula!D21","v":"Romuls un Rema"},{"$f":"tabula!E21","v":127},{"$f":"tabula!F21","v":101},{"$f":"tabula!G21","v":123},{"$f":"tabula!H21","v":115},{"$f":"tabula!I21","v":185},{"$f":"tabula!J21","v":86},{"$f":"tabula!K21","v":737},{"$f":"tabula!L21","v":"05 min. 47,167"},{"$f":"tabula!M21","v":38},{"$f":"tabula!N21","v":"09,136 sek."}]
[null,1,{"$f":"tabula!C22","v":15},{"$f":"tabula!D22","v":"Babyshark"},{"$f":"tabula!E22","v":154},{"$f":"tabula!F22","v":96},{"$f":"tabula!G22","v":186},{"$f":"tabula!H22","v":89},{"$f":"tabula!I22","v":119},{"$f":"tabula!J22","v":81},{"$f":"tabula!K22","v":725},{"$f":"tabula!L22","v":"04 min. 09,687"},{"$f":"tabula!M22","v":35},{"$f":"tabula!N22","v":"07,134 sek."}]
[null,3,{"$f":"tabula!C23","v":16},{"$f":"tabula!D23","v":"Civeta"},{"$f":"tabula!E23","v":156},{"$f":"tabula!F23","v":100},{"$f":"tabula!G23","v":80},{"$f":"tabula!H23","v":123},{"$f":"tabula!I23","v":139},{"$f":"tabula!J23","v":101},{"$f":"tabula!K23","v":699},{"$f":"tabula!L23","v":"06 min. 56,527"},{"$f":"tabula!M23","v":38},{"$f":"tabula!N23","v":"10,961 sek."}]
[null,3,{"$f":"tabula!C24","v":17},{"$f":"tabula!D24","v":"marta smeļ"},{"$f":"tabula!E24","v":113},{"$f":"tabula!F24","v":129},{"$f":"tabula!G24","v":155},{"$f":"tabula!H24","v":131},{"$f":"tabula!I24","v":139},{"$f":"tabula!J24","v":18},{"$f":"tabula!K24","v":685},{"$f":"tabula!L24","v":"04 min. 28,774"},{"$f":"tabula!M24","v":34},{"$f":"tabula!N24","v":"07,905 sek."}]
[null,3,{"$f":"tabula!C25","v":18},{"$f":"tabula!D25","v":"MELNAIS CAURUMS"},{"$f":"tabula!E25","v":55},{"$f":"tabula!F25","v":73},{"$f":"tabula!G25","v":185},{"$f":"tabula!H25","v":129},{"$f":"tabula!I25","v":161},{"$f":"tabula!J25","v":81},{"$f":"tabula!K25","v":684},{"$f":"tabula!L25","v":"10 min. 39,782"},{"$f":"tabula!M25","v":43},{"$f":"tabula!N25","v":"14,879 sek."}]
[null,1,{"$f":"tabula!C26","v":19},{"$f":"tabula!D26","v":"Quizzly Bears"},{"$f":"tabula!E26","v":105},{"$f":"tabula!F26","v":97},{"$f":"tabula!G26","v":113},{"$f":"tabula!H26","v":123},{"$f":"tabula!I26","v":144},{"$f":"tabula!J26","v":75},{"$f":"tabula!K26","v":657},{"$f":"tabula!L26","v":"04 min. 47,774"},{"$f":"tabula!M26","v":33},{"$f":"tabula!N26","v":"08,720 sek."}]
[null,1,{"$f":"tabula!C27","v":20},{"$f":"tabula!D27","v":"Bugatti 21023"},{"$f":"tabula!E27","v":128},{"$f":"tabula!F27","v":72},{"$f":"tabula!G27","v":96},{"$f":"tabula!H27","v":142},{"$f":"tabula!I27","v":151},{"$f":"tabula!J27","v":67},{"$f":"tabula!K27","v":656},{"$f":"tabula!L27","v":"06 min. 24,413"},{"$f":"tabula!M27","v":36},{"$f":"tabula!N27","v":"10,678 sek."}]
[null,3,{"$f":"tabula!C28","v":21},{"$f":"tabula!D28","v":"VMR"},{"$f":"tabula!E28","v":105},{"$f":"tabula!F28","v":61},{"$f":"tabula!G28","v":127},{"$f":"tabula!H28","v":159},{"$f":"tabula!I28","v":113},{"$f":"tabula!J28","v":66},{"$f":"tabula!K28","v":631},{"$f":"tabula!L28","v":"06 min. 26,423"},{"$f":"tabula!M28","v":35},{"$f":"tabula!N28","v":"11,041 sek."}]
[null,null,{"$f":"tabula!C29","v":22},{"$f":"tabula!D29","v":"Kņopienei volga!"},{"$f":"tabula!E29","v":141},{"$f":"tabula!F29","v":86},{"$f":"tabula!G29","v":158},{"$f":"tabula!H29","v":83},{"$f":"tabula!I29","v":144},{"$f":"tabula!J29","v":17},{"$f":"tabula!K29","v":629},{"$f":"tabula!L29","v":"05 min. 09,338"},{"$f":"tabula!M29","v":33},{"$f":"tabula!N29","v":"09,374 sek."}]
[null,null,{"$f":"tabula!C30","v":23},{"$f":"tabula!D30","v":"STŪRĪŠI"},{"$f":"tabula!E30","v":129},{"$f":"tabula!F30","v":106},{"$f":"tabula!G30","v":105},{"$f":"tabula!H30","v":116},{"$f":"tabula!I30","v":90},{"$f":"tabula!J30","v":76},{"$f":"tabula!K30","v":622},{"$f":"tabula!L30","v":"08 min. 13,219"},{"$f":"tabula!M30","v":37},{"$f":"tabula!N30","v":"13,330 sek."}]
[null,null,{"$f":"tabula!C31","v":24},{"$f":"tabula!D31","v":"Aitu banda"},{"$f":"tabula!E31","v":133},{"$f":"tabula!F31","v":61},{"$f":"tabula!G31","v":113},{"$f":"tabula!H31","v":135},{"$f":"tabula!I31","v":138},{"$f":"tabula!J31","v":37},{"$f":"tabula!K31","v":617},{"$f":"tabula!L31","v":"06 min. 27,949"},{"$f":"tabula!M31","v":34},{"$f":"tabula!N31","v":"11,410 sek."}]
[null,null,{"$f":"tabula!C32","v":25},{"$f":"tabula!D32","v":"Virsskaņas alus iznīcinātājs"},{"$f":"tabula!E32","v":129},{"$f":"tabula!F32","v":100},{"$f":"tabula!G32","v":109},{"$f":"tabula!H32","v":139},{"$f":"tabula!I32","v":62},{"$f":"tabula!J32","v":77},{"$f":"tabula!K32","v":616},{"$f":"tabula!L32","v":"07 min. 51,475"},{"$f":"tabula!M32","v":36},{"$f":"tabula!N32","v":"13,097 sek."}]
[null,null,{"$f":"tabula!C33","v":26},{"$f":"tabula!D33","v":"Bagete"},{"$f":"tabula!E33","v":165},{"$f":"tabula!F33","v":98},{"$f":"tabula!G33","v":110},{"$f":"tabula!H33","v":82},{"$f":"tabula!I33","v":65},{"$f":"tabula!J33","v":92},{"$f":"tabula!K33","v":612},{"$f":"tabula!L33","v":"04 min. 11,989"},{"$f":"tabula!M33","v":31},{"$f":"tabula!N33","v":"08,129 sek."}]
[null,null,{"$f":"tabula!C34","v":27},{"$f":"tabula!D34","v":"(. )( .)"},{"$f":"tabula!E34","v":118},{"$f":"tabula!F34","v":94},{"$f":"tabula!G34","v":108},{"$f":"tabula!H34","v":76},{"$f":"tabula!I34","v":153},{"$f":"tabula!J34","v":48},{"$f":"tabula!K34","v":597},{"$f":"tabula!L34","v":"08 min. 01,482"},{"$f":"tabula!M34","v":36},{"$f":"tabula!N34","v":"13,375 sek."}]
[null,null,{"$f":"tabula!C35","v":28},{"$f":"tabula!D35","v":"Dairis"},{"$f":"tabula!E35","v":74},{"$f":"tabula!F35","v":95},{"$f":"tabula!G35","v":100},{"$f":"tabula!H35","v":141},{"$f":"tabula!I35","v":106},{"$f":"tabula!J35","v":58},{"$f":"tabula!K35","v":574},{"$f":"tabula!L35","v":"05 min. 26,494"},{"$f":"tabula!M35","v":31},{"$f":"tabula!N35","v":"10,532 sek."}]
[null,null,{"$f":"tabula!C36","v":29},{"$f":"tabula!D36","v":"pupsiks"},{"$f":"tabula!E36","v":97},{"$f":"tabula!F36","v":118},{"$f":"tabula!G36","v":107},{"$f":"tabula!H36","v":139},{"$f":"tabula!I36","v":38},{"$f":"tabula!J36","v":72},{"$f":"tabula!K36","v":571},{"$f":"tabula!L36","v":"04 min. 40,231"},{"$f":"tabula!M36","v":30},{"$f":"tabula!N36","v":"09,341 sek."}]
[null,null,{"$f":"tabula!C37","v":30},{"$f":"tabula!D37","v":"Vācieši"},{"$f":"tabula!E37","v":152},{"$f":"tabula!F37","v":98},{"$f":"tabula!G37","v":113},{"$f":"tabula!H37","v":103},{"$f":"tabula!I37","v":95},{"$f":"tabula!J37","v":10},{"$f":"tabula!K37","v":571},{"$f":"tabula!L37","v":"06 min. 42,688"},{"$f":"tabula!M37","v":33},{"$f":"tabula!N37","v":"12,203 sek."}]
[null,null,{"$f":"tabula!C38","v":31},{"$f":"tabula!D38","v":"Morica ielas republika"},{"$f":"tabula!E38","v":137},{"$f":"tabula!F38","v":82},{"$f":"tabula!G38","v":128},{"$f":"tabula!H38","v":134},{"$f":"tabula!I38","v":43},{"$f":"tabula!J38","v":34},{"$f":"tabula!K38","v":558},{"$f":"tabula!L38","v":"05 min. 36,459"},{"$f":"tabula!M38","v":31},{"$f":"tabula!N38","v":"10,854 sek."}]
[null,null,{"$f":"tabula!C39","v":32},{"$f":"tabula!D39","v":"BokasJaunkundze"},{"$f":"tabula!E39","v":146},{"$f":"tabula!F39","v":68},{"$f":"tabula!G39","v":63},{"$f":"tabula!H39","v":57},{"$f":"tabula!I39","v":135},{"$f":"tabula!J39","v":85},{"$f":"tabula!K39","v":554},{"$f":"tabula!L39","v":"05 min. 16,698"},{"$f":"tabula!M39","v":30},{"$f":"tabula!N39","v":"10,557 sek."}]
[null,null,{"$f":"tabula!C40","v":33},{"$f":"tabula!D40","v":"Mandragoras saknes"},{"$f":"tabula!E40","v":133},{"$f":"tabula!F40","v":69},{"$f":"tabula!G40","v":140},{"$f":"tabula!H40","v":89},{"$f":"tabula!I40","v":85},{"$f":"tabula!J40","v":37},{"$f":"tabula!K40","v":553},{"$f":"tabula!L40","v":"05 min. 58,255"},{"$f":"tabula!M40","v":31},{"$f":"tabula!N40","v":"11,557 sek."}]
[null,null,{"$f":"tabula!C41","v":34},{"$f":"tabula!D41","v":"Brians"},{"$f":"tabula!E41","v":145},{"$f":"tabula!F41","v":76},{"$f":"tabula!G41","v":137},{"$f":"tabula!H41","v":30},{"$f":"tabula!I41","v":84},{"$f":"tabula!J41","v":74},{"$f":"tabula!K41","v":546},{"$f":"tabula!L41","v":"05 min. 30,280"},{"$f":"tabula!M41","v":30},{"$f":"tabula!N41","v":"11,009 sek."}]
[null,null,{"$f":"tabula!C42","v":35},{"$f":"tabula!D42","v":"piegirl"},{"$f":"tabula!E42","v":93},{"$f":"tabula!F42","v":118},{"$f":"tabula!G42","v":72},{"$f":"tabula!H42","v":111},{"$f":"tabula!I42","v":83},{"$f":"tabula!J42","v":57},{"$f":"tabula!K42","v":534},{"$f":"tabula!L42","v":"04 min. 24,842"},{"$f":"tabula!M42","v":28},{"$f":"tabula!N42","v":"09,459 sek."}]
[null,null,{"$f":"tabula!C43","v":36},{"$f":"tabula!D43","v":"Reposts Kāposts"},{"$f":"tabula!E43","v":65},{"$f":"tabula!F43","v":116},{"$f":"tabula!G43","v":160},{"$f":"tabula!H43","v":96},{"$f":"tabula!I43","v":55},{"$f":"tabula!J43","v":41},{"$f":"tabula!K43","v":533},{"$f":"tabula!L43","v":"07 min. 45,147"},{"$f":"tabula!M43","v":33},{"$f":"tabula!N43","v":"14,095 sek."}]
[null,null,{"$f":"tabula!C44","v":37},{"$f":"tabula!D44","v":"Agnusdei"},{"$f":"tabula!E44","v":98},{"$f":"tabula!F44","v":72},{"$f":"tabula!G44","v":102},{"$f":"tabula!H44","v":61},{"$f":"tabula!I44","v":115},{"$f":"tabula!J44","v":84},{"$f":"tabula!K44","v":532},{"$f":"tabula!L44","v":"06 min. 58,329"},{"$f":"tabula!M44","v":32},{"$f":"tabula!N44","v":"13,073 sek."}]
[null,null,{"$f":"tabula!C45","v":38},{"$f":"tabula!D45","v":"BraveDucks"},{"$f":"tabula!E45","v":118},{"$f":"tabula!F45","v":61},{"$f":"tabula!G45","v":117},{"$f":"tabula!H45","v":75},{"$f":"tabula!I45","v":111},{"$f":"tabula!J45","v":36},{"$f":"tabula!K45","v":518},{"$f":"tabula!L45","v":"08 min. 08,266"},{"$f":"tabula!M45","v":32},{"$f":"tabula!N45","v":"15,258 sek."}]
[null,null,{"$f":"tabula!C46","v":39},{"$f":"tabula!D46","v":"Miroņi mostas"},{"$f":"tabula!E46","v":131},{"$f":"tabula!F46","v":123},{"$f":"tabula!G46","v":83},{"$f":"tabula!H46","v":66},{"$f":"tabula!I46","v":62},{"$f":"tabula!J46","v":49},{"$f":"tabula!K46","v":514},{"$f":"tabula!L46","v":"05 min. 29,026"},{"$f":"tabula!M46","v":29},{"$f":"tabula!N46","v":"11,346 sek."}]
[null,null,{"$f":"tabula!C47","v":40},{"$f":"tabula!D47","v":"Stiprenieki"},{"$f":"tabula!E47","v":144},{"$f":"tabula!F47","v":65},{"$f":"tabula!G47","v":123},{"$f":"tabula!H47","v":77},{"$f":"tabula!I47","v":63},{"$f":"tabula!J47","v":34},{"$f":"tabula!K47","v":506},{"$f":"tabula!L47","v":"06 min. 46,814"},{"$f":"tabula!M47","v":30},{"$f":"tabula!N47","v":"13,560 sek."}]
[null,null,{"$f":"tabula!C48","v":41},{"$f":"tabula!D48","v":"Kickmons"},{"$f":"tabula!E48","v":128},{"$f":"tabula!F48","v":98},{"$f":"tabula!G48","v":70},{"$f":"tabula!H48","v":107},{"$f":"tabula!I48","v":89},{"$f":"tabula!J48","v":14},{"$f":"tabula!K48","v":506},{"$f":"tabula!L48","v":"07 min. 45,373"},{"$f":"tabula!M48","v":32},{"$f":"tabula!N48","v":"14,543 sek."}]
[null,null,{"$f":"tabula!C49","v":42},{"$f":"tabula!D49","v":"GarGamels"},{"$f":"tabula!E49","v":137},{"$f":"tabula!F49","v":70},{"$f":"tabula!G49","v":95},{"$f":"tabula!H49","v":68},{"$f":"tabula!I49","v":72},{"$f":"tabula!J49","v":63},{"$f":"tabula!K49","v":505},{"$f":"tabula!L49","v":"07 min. 53,683"},{"$f":"tabula!M49","v":32},{"$f":"tabula!N49","v":"14,803 sek."}]
[null,null,{"$f":"tabula!C50","v":43},{"$f":"tabula!D50","v":"Gubs"},{"$f":"tabula!E50","v":105},{"$f":"tabula!F50","v":57},{"$f":"tabula!G50","v":107},{"$f":"tabula!H50","v":95},{"$f":"tabula!I50","v":133},{"$f":"tabula!J50","v":7},{"$f":"tabula!K50","v":504},{"$f":"tabula!L50","v":"09 min. 41,075"},{"$f":"tabula!M50","v":34},{"$f":"tabula!N50","v":"17,090 sek."}]
[null,null,{"$f":"tabula!C51","v":44},{"$f":"tabula!D51","v":"Ilze"},{"$f":"tabula!E51","v":108},{"$f":"tabula!F51","v":108},{"$f":"tabula!G51","v":63},{"$f":"tabula!H51","v":105},{"$f":"tabula!I51","v":67},{"$f":"tabula!J51","v":39},{"$f":"tabula!K51","v":490},{"$f":"tabula!L51","v":"03 min. 40,938"},{"$f":"tabula!M51","v":25},{"$f":"tabula!N51","v":"08,838 sek."}]
[null,null,{"$f":"tabula!C52","v":45},{"$f":"tabula!D52","v":"Mopši & Co"},{"$f":"tabula!E52","v":98},{"$f":"tabula!F52","v":67},{"$f":"tabula!G52","v":42},{"$f":"tabula!H52","v":161},{"$f":"tabula!I52","v":93},{"$f":"tabula!J52","v":26},{"$f":"tabula!K52","v":487},{"$f":"tabula!L52","v":"10 min. 16,846"},{"$f":"tabula!M52","v":34},{"$f":"tabula!N52","v":"18,143 sek."}]
[null,null,{"$f":"tabula!C53","v":46},{"$f":"tabula!D53","v":"Jirgens Klops"},{"$f":"tabula!E53","v":108},{"$f":"tabula!F53","v":41},{"$f":"tabula!G53","v":48},{"$f":"tabula!H53","v":137},{"$f":"tabula!I53","v":130},{"$f":"tabula!J53","v":0},{"$f":"tabula!K53","v":464},{"$f":"tabula!L53","v":"01 min. 45,718"},{"$f":"tabula!M53","v":21},{"$f":"tabula!N53","v":"05,034 sek."}]
[null,null,{"$f":"tabula!C54","v":47},{"$f":"tabula!D54","v":"EstiPois"},{"$f":"tabula!E54","v":94},{"$f":"tabula!F54","v":116},{"$f":"tabula!G54","v":85},{"$f":"tabula!H54","v":57},{"$f":"tabula!I54","v":94},{"$f":"tabula!J54","v":17},{"$f":"tabula!K54","v":463},{"$f":"tabula!L54","v":"07 min. 49,537"},{"$f":"tabula!M54","v":30},{"$f":"tabula!N54","v":"15,651 sek."}]
[null,null,{"$f":"tabula!C55","v":48},{"$f":"tabula!D55","v":"Pilskalni"},{"$f":"tabula!E55","v":75},{"$f":"tabula!F55","v":87},{"$f":"tabula!G55","v":101},{"$f":"tabula!H55","v":76},{"$f":"tabula!I55","v":62},{"$f":"tabula!J55","v":43},{"$f":"tabula!K55","v":444},{"$f":"tabula!L55","v":"06 min. 27,803"},{"$f":"tabula!M55","v":28},{"$f":"tabula!N55","v":"13,850 sek."}]
[null,null,{"$f":"tabula!C56","v":49},{"$f":"tabula!D56","v":"Reinis"},{"$f":"tabula!E56","v":98},{"$f":"tabula!F56","v":71},{"$f":"tabula!G56","v":63},{"$f":"tabula!H56","v":97},{"$f":"tabula!I56","v":21},{"$f":"tabula!J56","v":90},{"$f":"tabula!K56","v":440},{"$f":"tabula!L56","v":"03 min. 24,902"},{"$f":"tabula!M56","v":23},{"$f":"tabula!N56","v":"08,909 sek."}]
[null,null,{"$f":"tabula!C57","v":50},{"$f":"tabula!D57","v":"Cukurs un Ķobis"},{"$f":"tabula!E57","v":124},{"$f":"tabula!F57","v":89},{"$f":"tabula!G57","v":62},{"$f":"tabula!H57","v":97},{"$f":"tabula!I57","v":60},{"$f":"tabula!J57","v":0},{"$f":"tabula!K57","v":432},{"$f":"tabula!L57","v":"04 min. 57,499"},{"$f":"tabula!M57","v":25},{"$f":"tabula!N57","v":"11,900 sek."}]

{"sheet":"51-150","index":2,"n_rows":72,"n_cols":14,"rows_kept":72,"cut":false,"hidden":false,"merged":[[2,13,5,13],[4,10,5,10],[5,2,5,3],[2,1,4,1],[2,2,4,2],[2,3,3,3],[2,10,3,10],[2,11,5,11],[2,12,4,12]]}
[]
[null,null,{"$f":"tabula!C2","v":"\"UNESCO viktorīna\" (tiešsaistē / vebinārā) | 2025.gada 17.oktobris"}]
[null,"Grupa","#","Dalībnieks | Raunds | Tēma ",1,2,3,4,5,6,"KOPĀ","Laiks kopā uz pareizajām atbildēm","Pareizās atbildes (max)","Vid.laiks uz 1 pareizo atb."]
[null,null,null,null,{"$f":"tabula!E4","v":"Pavediens: Par UNESCO un programmu “Pasaules atmiņa”"},{"$f":"tabula!F4","v":"\"Pasaules atmiņas\": Latvijas nacionālais reģistrs"},{"$f":"tabula!G4","v":"Latvijas nominācijas “Pasaules atmiņas” starptautiskajā reģistrā"},{"$f":"tabula!H4","v":"Pasaules atmiņas” starptautiskais reģistrs"},{"$f":"tabula!I4","v":"Kas kopīgs?"},{"$f":"tabula!J4","v":"Multimediji"}]
[null,null,null,"Max punkti raundā (bez bonusiem) ",{"$f":"tabula!E5","v":250},{"$f":"tabula!F5","v":250},{"$f":"tabula!G5","v":250},{"$f":"tabula!H5","v":250},{"$f":"tabula!I5","v":255},{"$f":"tabula!J5","v":250},{"$f":"SUM(E5:J5)","v":1505}]
[null,null,"Jautājumi",null,{"$f":"tabula!E6","v":10},{"$f":"tabula!F6","v":10},{"$f":"tabula!G6","v":10},{"$f":"tabula!H6","v":10},{"$f":"tabula!I6","v":10},{"$f":"tabula!J6","v":10},null,null,{"$f":"SUM(E6:J6)","v":60}]
[null,null,null,"Vidējie rādītāji",{"$f":"tabula!E7","v":100.1},{"$f":"tabula!F7","v":74.599999999999994},{"$f":"tabula!G7","v":87.6},{"$f":"tabula!H7","v":81.3},{"$f":"tabula!I7","v":74.400000000000006},{"$f":"tabula!J7","v":43.2},{"$f":"tabula!K7","v":453.1},{"$f":"tabula!L7","v":"-"},{"$f":"tabula!M7","v":25.7},{"$f":"tabula!N7","v":"-"}]
[null,3,{"$f":"tabula!C58","v":51},{"$f":"tabula!D58","v":"BĒRZI"},{"$f":"tabula!E58","v":65},{"$f":"tabula!F58","v":46},{"$f":"tabula!G58","v":18},{"$f":"tabula!H58","v":115},{"$f":"tabula!I58","v":118},{"$f":"tabula!J58","v":66},{"$f":"tabula!K58","v":428},{"$f":"tabula!L58","v":"09 min. 14,611"},{"$f":"tabula!M58","v":30},{"$f":"tabula!N58","v":"18,487 sek."}]
[null,1,{"$f":"tabula!C59","v":52},{"$f":"tabula!D59","v":"Zanda"},{"$f":"tabula!E59","v":126},{"$f":"tabula!F59","v":57},{"$f":"tabula!G59","v":90},{"$f":"tabula!H59","v":0},{"$f":"tabula!I59","v":100},{"$f":"tabula!J59","v":54},{"$f":"tabula!K59","v":427},{"$f":"tabula!L59","v":"04 min. 02,017"},{"$f":"tabula!M59","v":23},{"$f":"tabula!N59","v":"10,522 sek."}]
[null,1,{"$f":"tabula!C60","v":53},{"$f":"tabula!D60","v":"Kantoris3"},{"$f":"tabula!E60","v":114},{"$f":"tabula!F60","v":38},{"$f":"tabula!G60","v":70},{"$f":"tabula!H60","v":60},{"$f":"tabula!I60","v":80},{"$f":"tabula!J60","v":57},{"$f":"tabula!K60","v":419},{"$f":"tabula!L60","v":"04 min. 44,461"},{"$f":"tabula!M60","v":24},{"$f":"tabula!N60","v":"11,853 sek."}]
[null,3,{"$f":"tabula!C61","v":54},{"$f":"tabula!D61","v":"Potato"},{"$f":"tabula!E61","v":80},{"$f":"tabula!F61","v":94},{"$f":"tabula!G61","v":70},{"$f":"tabula!H61","v":82},{"$f":"tabula!I61","v":46},{"$f":"tabula!J61","v":36},{"$f":"tabula!K61","v":408},{"$f":"tabula!L61","v":"03 min. 14,462"},{"$f":"tabula!M61","v":21},{"$f":"tabula!N61","v":"09,260 sek."}]
[null,1,{"$f":"tabula!C62","v":55},{"$f":"tabula!D62","v":"Pritons"},{"$f":"tabula!E62","v":60},{"$f":"tabula!F62","v":55},{"$f":"tabula!G62","v":89},{"$f":"tabula!H62","v":104},{"$f":"tabula!I62","v":43},{"$f":"tabula!J62","v":57},{"$f":"tabula!K62","v":408},{"$f":"tabula!L62","v":"04 min. 54,202"},{"$f":"tabula!M62","v":24},{"$f":"tabula!N62","v":"12,258 sek."}]
[null,3,{"$f":"tabula!C63","v":56},{"$f":"tabula!D63","v":"PAGASTMĀJA"},{"$f":"tabula!E63","v":84},{"$f":"tabula!F63","v":25},{"$f":"tabula!G63","v":99},{"$f":"tabula!H63","v":61},{"$f":"tabula!I63","v":91},{"$f":"tabula!J63","v":28},{"$f":"tabula!K63","v":388},{"$f":"tabula!L63","v":"07 min. 08,123"},{"$f":"tabula!M63","v":26},{"$f":"tabula!N63","v":"16,466 sek."}]
[null,1,{"$f":"tabula!C64","v":57},{"$f":"tabula!D64","v":"Anastasika4"},{"$f":"tabula!E64","v":69},{"$f":"tabula!F64","v":70},{"$f":"tabula!G64","v":84},{"$f":"tabula!H64","v":64},{"$f":"tabula!I64","v":65},{"$f":"tabula!J64","v":35},{"$f":"tabula!K64","v":387},{"$f":"tabula!L64","v":"06 min. 34,601"},{"$f":"tabula!M64","v":25},{"$f":"tabula!N64","v":"15,784 sek."}]
[null,1,{"$f":"tabula!C65","v":58},{"$f":"tabula!D65","v":"Mildas vergi"},{"$f":"tabula!E65","v":89},{"$f":"tabula!F65","v":78},{"$f":"tabula!G65","v":67},{"$f":"tabula!H65","v":63},{"$f":"tabula!I65","v":67},{"$f":"tabula!J65","v":17},{"$f":"tabula!K65","v":381},{"$f":"tabula!L65","v":"02 min. 40,649"},{"$f":"tabula!M65","v":19},{"$f":"tabula!N65","v":"08,455 sek."}]
[null,2,{"$f":"tabula!C66","v":59},{"$f":"tabula!D66","v":"Umpalumpas"},{"$f":"tabula!E66","v":56},{"$f":"tabula!F66","v":56},{"$f":"tabula!G66","v":128},{"$f":"tabula!H66","v":36},{"$f":"tabula!I66","v":67},{"$f":"tabula!J66","v":37},{"$f":"tabula!K66","v":380},{"$f":"tabula!L66","v":"07 min. 00,875"},{"$f":"tabula!M66","v":25},{"$f":"tabula!N66","v":"16,835 sek."}]
[null,3,{"$f":"tabula!C67","v":60},{"$f":"tabula!D67","v":"Cirsium"},{"$f":"tabula!E67","v":126},{"$f":"tabula!F67","v":78},{"$f":"tabula!G67","v":78},{"$f":"tabula!H67","v":37},{"$f":"tabula!I67","v":18},{"$f":"tabula!J67","v":37},{"$f":"tabula!K67","v":374},{"$f":"tabula!L67","v":"03 min. 15,830"},{"$f":"tabula!M67","v":20},{"$f":"tabula!N67","v":"09,792 sek."}]
[null,2,{"$f":"tabula!C68","v":61},{"$f":"tabula!D68","v":"Kaimiņi"},{"$f":"tabula!E68","v":65},{"$f":"tabula!F68","v":49},{"$f":"tabula!G68","v":42},{"$f":"tabula!H68","v":134},{"$f":"tabula!I68","v":49},{"$f":"tabula!J68","v":28},{"$f":"tabula!K68","v":367},{"$f":"tabula!L68","v":"08 min. 14,670"},{"$f":"tabula!M68","v":27},{"$f":"tabula!N68","v":"18,321 sek."}]
[null,2,{"$f":"tabula!C69","v":62},{"$f":"tabula!D69","v":"Saules iela"},{"$f":"tabula!E69","v":80},{"$f":"tabula!F69","v":50},{"$f":"tabula!G69","v":27},{"$f":"tabula!H69","v":69},{"$f":"tabula!I69","v":103},{"$f":"tabula!J69","v":36},{"$f":"tabula!K69","v":365},{"$f":"tabula!L69","v":"05 min. 40,020"},{"$f":"tabula!M69","v":23},{"$f":"tabula!N69","v":"14,783 sek."}]
[null,2,{"$f":"tabula!C70","v":63},{"$f":"tabula!D70","v":"Aleksandrs"},{"$f":"tabula!E70","v":119},{"$f":"tabula!F70","v":129},{"$f":"tabula!G70","v":48},{"$f":"tabula!H70","v":18},{"$f":"tabula!I70","v":47},{"$f":"tabula!J70","v":0},{"$f":"tabula!K70","v":361},{"$f":"tabula!L70","v":"02 min. 29,507"},{"$f":"tabula!M70","v":18},{"$f":"tabula!N70","v":"08,306 sek."}]
[null,3,{"$f":"tabula!C71","v":64},{"$f":"tabula!D71","v":"Nezinitis"},{"$f":"tabula!E71","v":101},{"$f":"tabula!F71","v":33},{"$f":"tabula!G71","v":74},{"$f":"tabula!H71","v":77},{"$f":"tabula!I71","v":45},{"$f":"tabula!J71","v":30},{"$f":"tabula!K71","v":360},{"$f":"tabula!L71","v":"04 min. 11,899"},{"$f":"tabula!M71","v":21},{"$f":"tabula!N71","v":"11,995 sek."}]
[null,1,{"$f":"tabula!C72","v":65},{"$f":"tabula!D72","v":"Smilšu rukši"},{"$f":"tabula!E72","v":101},{"$f":"tabula!F72","v":55},{"$f":"tabula!G72","v":67},{"$f":"tabula!H72","v":63},{"$f":"tabula!I72","v":56},{"$f":"tabula!J72","v":16},{"$f":"tabula!K72","v":358},{"$f":"tabula!L72","v":"04 min. 56,090"},{"$f":"tabula!M72","v":21},{"$f":"tabula!N72","v":"14,100 sek."}]
[null,3,{"$f":"tabula!C73","v":66},{"$f":"tabula!D73","v":"Lind"},{"$f":"tabula!E73","v":69},{"$f":"tabula!F73","v":46},{"$f":"tabula!G73","v":21},{"$f":"tabula!H73","v":66},{"$f":"tabula!I73","v":115},{"$f":"tabula!J73","v":38},{"$f":"tabula!K73","v":355},{"$f":"tabula!L73","v":"04 min. 13,573"},{"$f":"tabula!M73","v":20},{"$f":"tabula!N73","v":"12,679 sek."}]
[null,3,{"$f":"tabula!C74","v":67},{"$f":"tabula!D74","v":"Vītoli"},{"$f":"tabula!E74","v":51},{"$f":"tabula!F74","v":60},{"$f":"tabula!G74","v":95},{"$f":"tabula!H74","v":82},{"$f":"tabula!I74","v":49},{"$f":"tabula!J74","v":18},{"$f":"tabula!K74","v":355},{"$f":"tabula!L74","v":"06 min. 47,524"},{"$f":"tabula!M74","v":24},{"$f":"tabula!N74","v":"16,980 sek."}]
[null,3,{"$f":"tabula!C75","v":68},{"$f":"tabula!D75","v":"Garām"},{"$f":"tabula!E75","v":85},{"$f":"tabula!F75","v":41},{"$f":"tabula!G75","v":59},{"$f":"tabula!H75","v":82},{"$f":"tabula!I75","v":63},{"$f":"tabula!J75","v":24},{"$f":"tabula!K75","v":354},{"$f":"tabula!L75","v":"06 min. 37,134"},{"$f":"tabula!M75","v":24},{"$f":"tabula!N75","v":"16,547 sek."}]
[null,1,{"$f":"tabula!C76","v":69},{"$f":"tabula!D76","v":"L-komanda"},{"$f":"tabula!E76","v":117},{"$f":"tabula!F76","v":66},{"$f":"tabula!G76","v":15},{"$f":"tabula!H76","v":76},{"$f":"tabula!I76","v":43},{"$f":"tabula!J76","v":35},{"$f":"tabula!K76","v":352},{"$f":"tabula!L76","v":"04 min. 58,721"},{"$f":"tabula!M76","v":22},{"$f":"tabula!N76","v":"13,578 sek."}]
[null,1,{"$f":"tabula!C77","v":70},{"$f":"tabula!D77","v":"Marinēti gurķīši"},{"$f":"tabula!E77","v":92},{"$f":"tabula!F77","v":73},{"$f":"tabula!G77","v":75},{"$f":"tabula!H77","v":30},{"$f":"tabula!I77","v":40},{"$f":"tabula!J77","v":41},{"$f":"tabula!K77","v":351},{"$f":"tabula!L77","v":"03 min. 53,541"},{"$f":"tabula!M77","v":20},{"$f":"tabula!N77","v":"11,677 sek."}]
[null,3,{"$f":"tabula!C78","v":71},{"$f":"tabula!D78","v":"Ieva_a"},{"$f":"tabula!E78","v":82},{"$f":"tabula!F78","v":58},{"$f":"tabula!G78","v":33},{"$f":"tabula!H78","v":90},{"$f":"tabula!I78","v":52},{"$f":"tabula!J78","v":35},{"$f":"tabula!K78","v":350},{"$f":"tabula!L78","v":"07 min. 08,337"},{"$f":"tabula!M78","v":25},{"$f":"tabula!N78","v":"17,133 sek."}]
[null,null,{"$f":"tabula!C79","v":72},{"$f":"tabula!D79","v":"Zelta peles"},{"$f":"tabula!E79","v":62},{"$f":"tabula!F79","v":62},{"$f":"tabula!G79","v":132},{"$f":"tabula!H79","v":35},{"$f":"tabula!I79","v":56},{"$f":"tabula!J79","v":0},{"$f":"tabula!K79","v":347},{"$f":"tabula!L79","v":"05 min. 56,907"},{"$f":"tabula!M79","v":23},{"$f":"tabula!N79","v":"15,518 sek."}]
[null,null,{"$f":"tabula!C80","v":73},{"$f":"tabula!D80","v":"Speedy Gonzales"},{"$f":"tabula!E80","v":93},{"$f":"tabula!F80","v":49},{"$f":"tabula!G80","v":59},{"$f":"tabula!H80","v":73},{"$f":"tabula!I80","v":69},{"$f":"tabula!J80","v":0},{"$f":"tabula!K80","v":343},{"$f":"tabula!L80","v":"06 min. 21,513"},{"$f":"tabula!M80","v":23},{"$f":"tabula!N80","v":"16,588 sek."}]
[null,null,{"$f":"tabula!C81","v":74},{"$f":"tabula!D81","v":"Jā nu sanāk"},{"$f":"tabula!E81","v":111},{"$f":"tabula!F81","v":80},{"$f":"tabula!G81","v":88},{"$f":"tabula!H81","v":17},{"$f":"tabula!I81","v":45},{"$f":"tabula!J81","v":0},{"$f":"tabula!K81","v":341},{"$f":"tabula!L81","v":"02 min. 46,229"},{"$f":"tabula!M81","v":18},{"$f":"tabula!N81","v":"09,235 sek."}]
[null,null,{"$f":"tabula!C82","v":75},{"$f":"tabula!D82","v":"Kūmiņš"},{"$f":"tabula!E82","v":89},{"$f":"tabula!F82","v":82},{"$f":"tabula!G82","v":36},{"$f":"tabula!H82","v":69},{"$f":"tabula!I82","v":46},{"$f":"tabula!J82","v":16},{"$f":"tabula!K82","v":338},{"$f":"tabula!L82","v":"06 min. 35,781"},{"$f":"tabula!M82","v":24},{"$f":"tabula!N82","v":"16,491 sek."}]
[null,null,{"$f":"tabula!C83","v":76},{"$f":"tabula!D83","v":"Gutta"},{"$f":"tabula!E83","v":65},{"$f":"tabula!F83","v":62},{"$f":"tabula!G83","v":78},{"$f":"tabula!H83","v":20},{"$f":"tabula!I83","v":49},{"$f":"tabula!J83","v":40},{"$f":"tabula!K83","v":314},{"$f":"tabula!L83","v":"03 min. 06,481"},{"$f":"tabula!M83","v":17},{"$f":"tabula!N83","v":"10,969 sek."}]
[null,null,{"$f":"tabula!C84","v":77},{"$f":"tabula!D84","v":"Lauma"},{"$f":"tabula!E84","v":73},{"$f":"tabula!F84","v":72},{"$f":"tabula!G84","v":0},{"$f":"tabula!H84","v":124},{"$f":"tabula!I84","v":21},{"$f":"tabula!J84","v":23},{"$f":"tabula!K84","v":313},{"$f":"tabula!L84","v":"02 min. 12,182"},{"$f":"tabula!M84","v":16},{"$f":"tabula!N84","v":"08,261 sek."}]
[null,null,{"$f":"tabula!C85","v":78},{"$f":"tabula!D85","v":"Marta Rafelde"},{"$f":"tabula!E85","v":87},{"$f":"tabula!F85","v":63},{"$f":"tabula!G85","v":43},{"$f":"tabula!H85","v":63},{"$f":"tabula!I85","v":21},{"$f":"tabula!J85","v":30},{"$f":"tabula!K85","v":307},{"$f":"tabula!L85","v":"06 min. 01,186"},{"$f":"tabula!M85","v":21},{"$f":"tabula!N85","v":"17,199 sek."}]
[null,null,{"$f":"tabula!C86","v":79},{"$f":"tabula!D86","v":"Drakulīši"},{"$f":"tabula!E86","v":86},{"$f":"tabula!F86","v":52},{"$f":"tabula!G86","v":34},{"$f":"tabula!H86","v":95},{"$f":"tabula!I86","v":0},{"$f":"tabula!J86","v":34},{"$f":"tabula!K86","v":301},{"$f":"tabula!L86","v":"08 min. 03,907"},{"$f":"tabula!M86","v":25},{"$f":"tabula!N86","v":"19,356 sek."}]
[null,null,{"$f":"tabula!C87","v":80},{"$f":"tabula!D87","v":"Kristiāna"},{"$f":"tabula!E87","v":45},{"$f":"tabula!F87","v":44},{"$f":"tabula!G87","v":34},{"$f":"tabula!H87","v":35},{"$f":"tabula!I87","v":96},{"$f":"tabula!J87","v":42},{"$f":"tabula!K87","v":296},{"$f":"tabula!L87","v":"05 min. 06,538"},{"$f":"tabula!M87","v":19},{"$f":"tabula!N87","v":"16,134 sek."}]
[null,null,{"$f":"tabula!C88","v":81},{"$f":"tabula!D88","v":"Arearo"},{"$f":"tabula!E88","v":105},{"$f":"tabula!F88","v":28},{"$f":"tabula!G88","v":62},{"$f":"tabula!H88","v":54},{"$f":"tabula!I88","v":23},{"$f":"tabula!J88","v":18},{"$f":"tabula!K88","v":290},{"$f":"tabula!L88","v":"02 min. 43,458"},{"$f":"tabula!M88","v":16},{"$f":"tabula!N88","v":"10,216 sek."}]
[null,null,{"$f":"tabula!C89","v":82},{"$f":"tabula!D89","v":"AniKoz"},{"$f":"tabula!E89","v":123},{"$f":"tabula!F89","v":0},{"$f":"tabula!G89","v":59},{"$f":"tabula!H89","v":21},{"$f":"tabula!I89","v":67},{"$f":"tabula!J89","v":16},{"$f":"tabula!K89","v":286},{"$f":"tabula!L89","v":"01 min. 39,030"},{"$f":"tabula!M89","v":14},{"$f":"tabula!N89","v":"07,074 sek."}]
[null,null,{"$f":"tabula!C90","v":83},{"$f":"tabula!D90","v":"KATOLI"},{"$f":"tabula!E90","v":84},{"$f":"tabula!F90","v":52},{"$f":"tabula!G90","v":22},{"$f":"tabula!H90","v":37},{"$f":"tabula!I90","v":32},{"$f":"tabula!J90","v":58},{"$f":"tabula!K90","v":285},{"$f":"tabula!L90","v":"05 min. 00,117"},{"$f":"tabula!M90","v":19},{"$f":"tabula!N90","v":"15,796 sek."}]
[null,null,{"$f":"tabula!C91","v":84},{"$f":"tabula!D91","v":"Eri"},{"$f":"tabula!E91","v":0},{"$f":"tabula!F91","v":0},{"$f":"tabula!G91","v":132},{"$f":"tabula!H91","v":43},{"$f":"tabula!I91","v":51},{"$f":"tabula!J91","v":52},{"$f":"tabula!K91","v":278},{"$f":"tabula!L91","v":"03 min. 23,698"},{"$f":"tabula!M91","v":16},{"$f":"tabula!N91","v":"12,731 sek."}]
[null,null,{"$f":"tabula!C92","v":85},{"$f":"tabula!D92","v":"janisvalm"},{"$f":"tabula!E92","v":57},{"$f":"tabula!F92","v":49},{"$f":"tabula!G92","v":89},{"$f":"tabula!H92","v":0},{"$f":"tabula!I92","v":21},{"$f":"tabula!J92","v":56},{"$f":"tabula!K92","v":272},{"$f":"tabula!L92","v":"02 min. 00,608"},{"$f":"tabula!M92","v":14},{"$f":"tabula!N92","v":"08,615 sek."}]
[null,null,{"$f":"tabula!C93","v":86},{"$f":"tabula!D93","v":"Vita"},{"$f":"tabula!E93","v":86},{"$f":"tabula!F93","v":41},{"$f":"tabula!G93","v":35},{"$f":"tabula!H93","v":35},{"$f":"tabula!I93","v":19},{"$f":"tabula!J93","v":55},{"$f":"tabula!K93","v":271},{"$f":"tabula!L93","v":"03 min. 55,581"},{"$f":"tabula!M93","v":17},{"$f":"tabula!N93","v":"13,858 sek."}]
[null,null,{"$f":"tabula!C94","v":87},{"$f":"tabula!D94","v":"Bubīši"},{"$f":"tabula!E94","v":63},{"$f":"tabula!F94","v":24},{"$f":"tabula!G94","v":60},{"$f":"tabula!H94","v":30},{"$f":"tabula!I94","v":59},{"$f":"tabula!J94","v":35},{"$f":"tabula!K94","v":271},{"$f":"tabula!L94","v":"05 min. 18,221"},{"$f":"tabula!M94","v":19},{"$f":"tabula!N94","v":"16,748 sek."}]
[null,null,{"$f":"tabula!C95","v":88},{"$f":"tabula!D95","v":"Teikas inteligences dienests"},{"$f":"tabula!E95","v":79},{"$f":"tabula!F95","v":35},{"$f":"tabula!G95","v":54},{"$f":"tabula!H95","v":63},{"$f":"tabula!I95","v":6},{"$f":"tabula!J95","v":31},{"$f":"tabula!K95","v":268},{"$f":"tabula!L95","v":"06 min. 38,604"},{"$f":"tabula!M95","v":21},{"$f":"tabula!N95","v":"18,981 sek."}]
[null,null,{"$f":"tabula!C96","v":89},{"$f":"tabula!D96","v":"Kate"},{"$f":"tabula!E96","v":64},{"$f":"tabula!F96","v":53},{"$f":"tabula!G96","v":35},{"$f":"tabula!H96","v":63},{"$f":"tabula!I96","v":41},{"$f":"tabula!J96","v":6},{"$f":"tabula!K96","v":262},{"$f":"tabula!L96","v":"05 min. 47,593"},{"$f":"tabula!M96","v":19},{"$f":"tabula!N96","v":"18,294 sek."}]
[null,null,{"$f":"tabula!C97","v":90},{"$f":"tabula!D97","v":"Pitijs"},{"$f":"tabula!E97","v":68},{"$f":"tabula!F97","v":87},{"$f":"tabula!G97","v":75},{"$f":"tabula!H97","v":22},{"$f":"tabula!I97","v":0},{"$f":"tabula!J97","v":0},{"$f":"tabula!K97","v":252},{"$f":"tabula!L97","v":"03 min. 04,351"},{"$f":"tabula!M97","v":15},{"$f":"tabula!N97","v":"12,290 sek."}]
[null,null,{"$f":"tabula!C98","v":91},{"$f":"tabula!D98","v":"Jolis"},{"$f":"tabula!E98","v":69},{"$f":"tabula!F98","v":29},{"$f":"tabula!G98","v":67},{"$f":"tabula!H98","v":14},{"$f":"tabula!I98","v":39},{"$f":"tabula!J98","v":28},{"$f":"tabula!K98","v":246},{"$f":"tabula!L98","v":"03 min. 22,539"},{"$f":"tabula!M98","v":15},{"$f":"tabula!N98","v":"13,503 sek."}]
[null,null,{"$f":"tabula!C99","v":92},{"$f":"tabula!D99","v":67},{"$f":"tabula!E99","v":17},{"$f":"tabula!F99","v":78},{"$f":"tabula!G99","v":0},{"$f":"tabula!H99","v":65},{"$f":"tabula!I99","v":40},{"$f":"tabula!J99","v":41},{"$f":"tabula!K99","v":241},{"$f":"tabula!L99","v":"01 min. 38,405"},{"$f":"tabula!M99","v":12},{"$f":"tabula!N99","v":"08,200 sek."}]
[null,null,{"$f":"tabula!C100","v":93},{"$f":"tabula!D100","v":"Liepu iela"},{"$f":"tabula!E100","v":30},{"$f":"tabula!F100","v":74},{"$f":"tabula!G100","v":38},{"$f":"tabula!H100","v":9},{"$f":"tabula!I100","v":25},{"$f":"tabula!J100","v":58},{"$f":"tabula!K100","v":234},{"$f":"tabula!L100","v":"04 min. 21,202"},{"$f":"tabula!M100","v":16},{"$f":"tabula!N100","v":"16,325 sek."}]
[null,null,{"$f":"tabula!C101","v":94},{"$f":"tabula!D101","v":"Kātotāji"},{"$f":"tabula!E101","v":76},{"$f":"tabula!F101","v":54},{"$f":"tabula!G101","v":59},{"$f":"tabula!H101","v":0},{"$f":"tabula!I101","v":0},{"$f":"tabula!J101","v":40},{"$f":"tabula!K101","v":229},{"$f":"tabula!L101","v":"02 min. 23,984"},{"$f":"tabula!M101","v":13},{"$f":"tabula!N101","v":"11,076 sek."}]
[null,null,{"$f":"tabula!C102","v":95},{"$f":"tabula!D102","v":"Mikrene"},{"$f":"tabula!E102","v":78},{"$f":"tabula!F102","v":18},{"$f":"tabula!G102","v":36},{"$f":"tabula!H102","v":60},{"$f":"tabula!I102","v":0},{"$f":"tabula!J102","v":33},{"$f":"tabula!K102","v":225},{"$f":"tabula!L102","v":"05 min. 38,016"},{"$f":"tabula!M102","v":18},{"$f":"tabula!N102","v":"18,779 sek."}]
[null,null,{"$f":"tabula!C103","v":96},{"$f":"tabula!D103","v":"Toptip"},{"$f":"tabula!E103","v":35},{"$f":"tabula!F103","v":17},{"$f":"tabula!G103","v":38},{"$f":"tabula!H103","v":80},{"$f":"tabula!I103","v":34},{"$f":"tabula!J103","v":16},{"$f":"tabula!K103","v":220},{"$f":"tabula!L103","v":"04 min. 43,880"},{"$f":"tabula!M103","v":16},{"$f":"tabula!N103","v":"17,743 sek."}]
[null,null,{"$f":"tabula!C104","v":97},{"$f":"tabula!D104","v":"Em"},{"$f":"tabula!E104","v":25},{"$f":"tabula!F104","v":47},{"$f":"tabula!G104","v":18},{"$f":"tabula!H104","v":57},{"$f":"tabula!I104","v":43},{"$f":"tabula!J104","v":28},{"$f":"tabula!K104","v":218},{"$f":"tabula!L104","v":"03 min. 36,381"},{"$f":"tabula!M104","v":14},{"$f":"tabula!N104","v":"15,456 sek."}]
[null,null,{"$f":"tabula!C105","v":98},{"$f":"tabula!D105","v":"Estere"},{"$f":"tabula!E105","v":49},{"$f":"tabula!F105","v":18},{"$f":"tabula!G105","v":40},{"$f":"tabula!H105","v":12},{"$f":"tabula!I105","v":22},{"$f":"tabula!J105","v":54},{"$f":"tabula!K105","v":195},{"$f":"tabula!L105","v":"02 min. 41,368"},{"$f":"tabula!M105","v":12},{"$f":"tabula!N105","v":"13,447 sek."}]
[null,null,{"$f":"tabula!C106","v":99},{"$f":"tabula!D106","v":"Endijs"},{"$f":"tabula!E106","v":71},{"$f":"tabula!F106","v":63},{"$f":"tabula!G106","v":0},{"$f":"tabula!H106","v":52},{"$f":"tabula!I106","v":0},{"$f":"tabula!J106","v":0},{"$f":"tabula!K106","v":186},{"$f":"tabula!L106","v":"02 min. 51,645"},{"$f":"tabula!M106","v":12},{"$f":"tabula!N106","v":"14,304 sek."}]
[null,null,{"$f":"tabula!C107","v":100},{"$f":"tabula!D107","v":"GandrīzPēdējie"},{"$f":"tabula!E107","v":60},{"$f":"tabula!F107","v":63},{"$f":"tabula!G107","v":22},{"$f":"tabula!H107","v":0},{"$f":"tabula!I107","v":25},{"$f":"tabula!J107","v":0},{"$f":"tabula!K107","v":170},{"$f":"tabula!L107","v":"02 min. 52,332"},{"$f":"tabula!M107","v":11},{"$f":"tabula!N107","v":"15,667 sek."}]
[null,null,{"$f":"tabula!C108","v":101},{"$f":"tabula!D108","v":"Andersoni"},{"$f":"tabula!E108","v":43},{"$f":"tabula!F108","v":37},{"$f":"tabula!G108","v":62},{"$f":"tabula!H108","v":0},{"$f":"tabula!I108","v":0},{"$f":"tabula!J108","v":17},{"$f":"tabula!K108","v":159},{"$f":"tabula!L108","v":"02 min. 53,405"},{"$f":"tabula!M108","v":11},{"$f":"tabula!N108","v":"15,764 sek."}]
[null,null,{"$f":"tabula!C109","v":102},{"$f":"tabula!D109","v":"Gailenes"},{"$f":"tabula!E109","v":109},{"$f":"tabula!F109","v":38},{"$f":"tabula!G109","v":0},{"$f":"tabula!H109","v":0},{"$f":"tabula!I109","v":0},{"$f":"tabula!J109","v":0},{"$f":"tabula!K109","v":147},{"$f":"tabula!L109","v":"01 min. 57,895"},{"$f":"tabula!M109","v":9},{"$f":"tabula!N109","v":"13,099 sek."}]
[null,null,{"$f":"tabula!C110","v":103},{"$f":"tabula!D110","v":"Mario"},{"$f":"tabula!E110","v":18},{"$f":"tabula!F110","v":29},{"$f":"tabula!G110","v":0},{"$f":"tabula!H110","v":0},{"$f":"tabula!I110","v":0},{"$f":"tabula!J110","v":0},{"$f":"tabula!K110","v":47},{"$f":"tabula!L110","v":"01 min. 21,171"},{"$f":"tabula!M110","v":4},{"$f":"tabula!N110","v":"20,293 sek."}]
[null,null,{"$f":"tabula!C111","v":104},{"$f":"tabula!D111","v":"kavējos"},{"$f":"tabula!E111","v":0},{"$f":"tabula!F111","v":0},{"$f":"tabula!G111","v":0},{"$f":"tabula!H111","v":35},{"$f":"tabula!I111","v":0},{"$f":"tabula!J111","v":0},{"$f":"tabula!K111","v":35},{"$f":"tabula!L111","v":"00 min. 23,034"},{"$f":"tabula!M111","v":2},{"$f":"tabula!N111","v":"11,517 sek."}]
[null,null,{"$f":"tabula!C112","v":105},{"$f":"tabula!D112","v":"Sala"},{"$f":"tabula!E112","v":20},{"$f":"tabula!F112","v":9},{"$f":"tabula!G112","v":0},{"$f":"tabula!H112","v":0},{"$f":"tabula!I112","v":0},{"$f":"tabula!J112","v":0},{"$f":"tabula!K112","v":29},{"$f":"tabula!L112","v":"01 min. 09,169"},{"$f":"tabula!M112","v":3},{"$f":"tabula!N112","v":"23,056 sek."}]
[null,null,{"$f":"tabula!C113","v":106},{"$f":"tabula!D113","v":"kD"},{"$f":"tabula!E113","v":0},{"$f":"tabula!F113","v":0},{"$f":"tabula!G113","v":0},{"$f":"tabula!H113","v":0},{"$f":"tabula!I113","v":0},{"$f":"tabula!J113","v":24},{"$f":"tabula!K113","v":24},{"$f":"tabula!L113","v":"00 min. 38,832"},{"$f":"tabula!M113","v":2},{"$f":"tabula!N113","v":"19,416 sek."}]
[null,null,{"$f":"tabula!C114","v":0},{"$f":"tabula!D114","v":0},{"$f":"tabula!E114","v":0},{"$f":"tabula!F114","v":0},{"$f":"tabula!G114","v":0},{"$f":"tabula!H114","v":0},{"$f":"tabula!I114","v":0},{"$f":"tabula!J114","v":0},{"$f":"tabula!K114","v":0},{"$f":"tabula!L114","v":0},{"$f":"tabula!M114","v":0},{"$f":"tabula!N114","v":0}]
[null,null,{"$f":"tabula!C115","v":0},{"$f":"tabula!D115","v":0},{"$f":"tabula!E115","v":0},{"$f":"tabula!F115","v":0},{"$f":"tabula!G115","v":0},{"$f":"tabula!H115","v":0},{"$f":"tabula!I115","v":0},{"$f":"tabula!J115","v":0},{"$f":"tabula!K115","v":0},{"$f":"tabula!L115","v":0},{"$f":"tabula!M115","v":0},{"$f":"tabula!N115","v":0}]
[null,null,{"$f":"tabula!C116","v":0},{"$f":"tabula!D116","v":0},{"$f":"tabula!E116","v":0},{"$f":"tabula!F116","v":0},{"$f":"tabula!G116","v":0},{"$f":"tabula!H116","v":0},{"$f":"tabula!I116","v":0},{"$f":"tabula!J116","v":0},{"$f":"tabula!K116","v":0},{"$f":"tabula!L116","v":0},{"$f":"tabula!M116","v":0},{"$f":"tabula!N116","v":0}]
[null,null,{"$f":"tabula!C117","v":0},{"$f":"tabula!D117","v":0},{"$f":"tabula!E117","v":0},{"$f":"tabula!F117","v":0},{"$f":"tabula!G117","v":0},{"$f":"tabula!H117","v":0},{"$f":"tabula!I117","v":0},{"$f":"tabula!J117","v":0},{"$f":"tabula!K117","v":0},{"$f":"tabula!L117","v":0},{"$f":"tabula!M117","v":0},{"$f":"tabula!N117","v":0}]
[null,null,{"$f":"tabula!C118","v":0},{"$f":"tabula!D118","v":0},{"$f":"tabula!E118","v":0},{"$f":"tabula!F118","v":0},{"$f":"tabula!G118","v":0},{"$f":"tabula!H118","v":0},{"$f":"tabula!I118","v":0},{"$f":"tabula!J118","v":0},{"$f":"tabula!K118","v":0},{"$f":"tabula!L118","v":0},{"$f":"tabula!M118","v":0},{"$f":"tabula!N118","v":0}]
[null,null,{"$f":"tabula!C119","v":0},{"$f":"tabula!D119","v":0},{"$f":"tabula!E119","v":0},{"$f":"tabula!F119","v":0},{"$f":"tabula!G119","v":0},{"$f":"tabula!H119","v":0},{"$f":"tabula!I119","v":0},{"$f":"tabula!J119","v":0},{"$f":"tabula!K119","v":0},{"$f":"tabula!L119","v":0},{"$f":"tabula!M119","v":0},{"$f":"tabula!N119","v":0}]
[null,null,{"$f":"tabula!C120","v":0},{"$f":"tabula!D120","v":0},{"$f":"tabula!E120","v":0},{"$f":"tabula!F120","v":0},{"$f":"tabula!G120","v":0},{"$f":"tabula!H120","v":0},{"$f":"tabula!I120","v":0},{"$f":"tabula!J120","v":0},{"$f":"tabula!K120","v":0},{"$f":"tabula!L120","v":0},{"$f":"tabula!M120","v":0},{"$f":"tabula!N120","v":0}]
[null,null,{"$f":"tabula!C121","v":0},{"$f":"tabula!D121","v":0},{"$f":"tabula!E121","v":0},{"$f":"tabula!F121","v":0},{"$f":"tabula!G121","v":0},{"$f":"tabula!H121","v":0},{"$f":"tabula!I121","v":0},{"$f":"tabula!J121","v":0},{"$f":"tabula!K121","v":0},{"$f":"tabula!L121","v":0},{"$f":"tabula!M121","v":0},{"$f":"tabula!N121","v":0}]
[null,null,{"$f":"tabula!C122","v":0},{"$f":"tabula!D122","v":0},{"$f":"tabula!E122","v":0},{"$f":"tabula!F122","v":0},{"$f":"tabula!G122","v":0},{"$f":"tabula!H122","v":0},{"$f":"tabula!I122","v":0},{"$f":"tabula!J122","v":0},{"$f":"tabula!K122","v":0},{"$f":"tabula!L122","v":0},{"$f":"tabula!M122","v":0},{"$f":"tabula!N122","v":0}]

{"sheet":"raundi","index":3,"n_rows":17,"n_cols":8,"rows_kept":17,"cut":false,"hidden":false,"merged":[[1,1,1,7],[13,1,14,1],[13,2,13,3],[13,4,14,4],[13,6,14,6],[13,7,14,7],[14,2,14,3],[13,5,14,5]]}
[]
[null,{"$f":"CONCATENATE(tabula!C2,\" --> Raundu uzvarētāji\")","v":"\"UNESCO viktorīna\" (tiešsaistē / vebinārā) | 2025.gada 17.oktobris --> Raundu uzvarētāji"}]
[null,"#","Raunda nosaukums","Dalībnieks","Rezultāts","AVG","MAX","% no max"]
[null,1,{"$f":"TRANSPOSE(tabula!E4:J4)","v":"Pavediens: Par UNESCO un programmu “Pasaules atmiņa”"},"Vecā Stendere",192,{"$f":"TRANSPOSE(tabula!E7:J7)","v":100.1},{"$f":"TRANSPOSE(tabula!E5:J5)","v":250},{"$f":"E4/G4","v":0.76800000000000002}]
[null,2,"\"Pasaules atmiņas\": Latvijas nacionālais reģistrs","ultravista",177,74.599999999999994,250,{"$f":"E5/G5","v":0.70799999999999996}]
[null,3,"Latvijas nominācijas “Pasaules atmiņas” starptautiskajā reģistrā","Anita",216,87.6,250,0.86399999999999999]
[null,4,"Pasaules atmiņas” starptautiskais reģistrs","UNprosSeco",193,81.3,250,0.77200000000000002]
[null,5,"Kas kopīgs?","Ķengaraga vēsturiskais centrs",191,74.400000000000006,255,0.74901960784313726]
[null,6,"Multimediji","Vecā Stendere",146,43.2,250,0.58399999999999996]
[null,7,{"$error":"#N/A"},"Quizzly Bears",111,{"$error":"#N/A"},{"$error":"#N/A"},{"$error":"#N/A"}]
[null,8,{"$error":"#N/A"},"Āreče",194,{"$error":"#N/A"},{"$error":"#N/A"},{"$error":"#N/A"}]
[null,9,{"$error":"#N/A"},"Āreče",111,{"$error":"#N/A"},{"$error":"#N/A"},{"$error":"#N/A"}]
[null,10,{"$error":"#N/A"},"ROGAS",136,{"$error":"#N/A"},{"$error":"#N/A"},{"$error":"#N/A"}]
[null,"-","Uzvarētājs",null,{"$f":"tabula!K8","v":1039},{"$f":"tabula!K7","v":453.1},{"$f":"SUM(G4:G9)","v":1505},{"$f":"E14/G14","v":0.69036544850498338}]
[null,null,{"$f":"tabula!D8","v":"Vecā Stendere"}]
[]
[null,"LIELDRAUGS                             ATBALSTĪTĀJI"]

{"sheet":"Sheet2","index":4,"n_rows":6,"n_cols":3,"rows_kept":6,"cut":false,"hidden":false,"merged":[]}
[1,"Vecā Stendere",192]
[2,"ultravista",177]
[3,"Anita",216]
[4,"UNprosSeco",193]
[5,"Ķengaraga vēsturiskais centrs",191]
[6,"Vecā Stendere",146]