{"text_format":"1","workbook":"xlsx","n_sheets":4,"sheets":["tabula","1-50","51-100","raundi"],"not_rendered":{"charts":0,"images":22,"macros":0,"external_links":0,"defined_names":3,"comments":0,"pivot_tables":0},"unopened":[],"bounds":{"document_bytes":16777216,"sheet_cells":100000,"rows_first":2000,"rows_last":500,"rows_between":2000,"halvings":0,"cell_chars":16384,"cell_head_chars":4096},"cells_cut":0,"cells_raw":0,"read":"whole","date_system":"1900"}

{"sheet":"tabula","index":0,"n_rows":62,"n_cols":18,"rows_kept":62,"cut":false,"hidden":true,"merged":[[1,2,1,17],[2,1,4,1],[2,2,4,2],[2,3,4,3],[2,14,3,14],[2,15,5,15],[2,17,5,17],[2,16,4,16]]}
[]
[null,null,{"$f":"'1-50'!C2","v":"Tēva dienas viktorīna LIVE (tiešsaistē/vebinārā) | 2024.gada 8.septembris"}]
[null,"Grupa","#","Dalībnieks | Raunds | Tēma | Max punkti raundā (bez bonusiem) ",1,2,3,4,5,6,7,8,9,10,"KOPĀ","Laiks kopā","Pareizās atbildes (max)","Vid.laiks uz 1 pareizo atb."]
[null,null,null,null,{"$f":"'1-50'!E4","v":"Pavediens"},{"$f":"'1-50'!F4","v":"Vizuālais"},{"$f":"'1-50'!G4","v":"Ekspresis"},{"$f":"'1-50'!H4","v":"Burtu mīkla"},{"$f":"'1-50'!I4","v":"Ķēde"},{"$f":"'1-50'!J4","v":"Latvija"},{"$f":"'1-50'!K4","v":"Risks: Tēvi un dēli seriālos un kino"},{"$f":"'1-50'!L4","v":"Kas kopīgs?"},{"$f":"'1-50'!M4","v":"Liekais pazūd ārpus kastes"},{"$f":"'1-50'!N4","v":"Audio"}]
[null,null,null,null,{"$f":"'1-50'!E5","v":150},{"$f":"'1-50'!F5","v":150},{"$f":"'1-50'!G5","v":180},{"$f":"'1-50'!H5","v":180},{"$f":"'1-50'!I5","v":175},{"$f":"'1-50'!J5","v":150},{"$f":"'1-50'!K5","v":120},{"$f":"'1-50'!L5","v":180},{"$f":"'1-50'!M5","v":150},{"$f":"'1-50'!N5","v":150},{"$f":"SUM(E5:N5)","v":1585}]
[null,null,null,"Vidēji p-ti raundā",{"$f":"ROUND(AVERAGE(E7:E124),1)","v":93},140.80000000000001,134.80000000000001,83.4,87.4,86.4,30.7,105.3,70.2,62.2,894.2,null,{"$f":"6+6+12+6+7+6+6+7+6+6","v":68}]
[null,1,1,"Sindija JV",103,151,187,121,136,122,67,144,89,112,1232,"05 min. 21,161",58,"05,537 sek."]
[null,3,2,"Bunkurs_13",122,144,172,127,156,108,74,158,106,65,1232,"07 min. 27,665",61,"07,339 sek."]
[null,1,3,"VMR",101,157,174,121,135,125,68,151,92,97,1221,"06 min. 48,451",60,"06,808 sek."]
[null,3,4,"BunS",112,154,149,119,92,119,80,150,83,108,1166,"11 min. 56,735",65,"11,027 sek."]
[null,1,5,"FraRix",101,150,167,119,141,104,40,147,87,108,1164,"10 min. 20,801",63,"09,854 sek."]
[null,1,6,"Bandītu perēklis",129,168,125,107,118,127,74,126,64,119,1157,"08 min. 17,947",58,"08,585 sek."]
[null,2,7,"MELDRI",99,160,128,113,121,134,81,118,58,118,1130,"09 min. 41,449",61,"09,532 sek."]
[null,3,8,"Mazkaloriju biskvīts",114,157,141,111,105,136,90,132,51,78,1115,"11 min. 08,416",61,"10,958 sek."]
[null,2,9,"Bugatti 21023",129,164,142,112,124,102,51,141,89,53,1107,"08 min. 23,053",57,"08,825 sek."]
[null,2,10,"Visu zinām",104,157,167,99,108,107,65,89,70,94,1060,"10 min. 37,968",59,"10,813 sek."]
[null,2,11,"Jāzepa Banda",114,166,145,83,100,86,70,133,84,67,1048,"10 min. 25,682",58,"10,788 sek."]
[null,3,12,"Zvirbulis122",98,124,157,79,116,108,63,133,82,83,1043,"10 min. 59,089",59,"11,171 sek."]
[null,1,13,"nezinu",92,148,131,97,94,105,53,150,81,70,1021,"09 min. 49,395",57,"10,340 sek."]
[null,3,14,"kemeru tantas",119,149,158,78,58,110,44,109,94,86,1005,"07 min. 05,738",52,"08,187 sek."]
[null,3,15,"Vilciņi",100,145,181,107,78,92,28,81,98,86,996,"10 min. 33,525",58,"10,923 sek."]
[null,3,16,"Sālsvārnas Salas Vasarnieki",100,153,140,109,103,116,60,106,78,17,982,"05 min. 57,091",48,"07,439 sek."]
[null,1,17,"Te tikai Dieviņš palīdzēs",117,110,149,108,52,100,77,118,72,61,964,"12 min. 14,212",58,"12,659 sek."]
[null,1,18,"Pundurplanēta",100,128,141,109,87,127,25,125,80,41,963,"06 min. 53,883",50,"08,278 sek."]
[null,3,19,"Burkānciema egles",99,139,155,93,97,88,47,100,61,84,963,"09 min. 41,270",54,"10,764 sek."]
[null,null,20,"Inspektors JĀNIS",118,151,116,89,85,93,70,105,64,63,954,"12 min. 05,285",57,"12,724 sek."]
[null,null,21,"Alise",127,144,176,50,64,93,47,138,50,56,945,"06 min. 33,557",49,"08,032 sek."]
[null,null,22,"Imantā futbola nav",121,137,121,126,101,87,-21,133,97,40,942,"06 min. 54,014",49,"08,449 sek."]
[null,null,23,"Bugatti Gožār",119,153,160,97,58,68,67,103,55,42,922,"08 min. 44,309",51,"10,281 sek."]
[null,null,24,"Pitijs",91,152,173,75,110,63,9,120,86,42,921,"06 min. 16,552",47,"08,012 sek."]
[null,null,25,"Načo",79,163,136,74,59,133,30,117,44,78,913,"07 min. 41,197",50,"09,224 sek."]
[null,null,26,"Eu, es tak šito zinu",83,140,99,54,84,88,72,149,82,61,912,"09 min. 54,219",53,"11,212 sek."]
[null,null,27,"Panzera vergi",115,140,118,68,93,66,12,131,99,69,911,"06 min. 52,100",47,"08,768 sek."]
[null,null,28,"Šautras šašlikos",113,153,102,103,117,86,-37,98,86,77,898,"09 min. 08,883",51,"10,762 sek."]
[null,null,29,"Alfisti",115,153,138,34,81,109,35,98,50,81,894,"08 min. 22,968",50,"10,059 sek."]
[null,null,30,"AneO",87,166,192,106,21,38,8,83,69,81,851,"04 min. 29,193",43,"06,260 sek."]
[null,null,31,"Meistariņi",89,151,129,63,63,100,19,88,72,68,842,"08 min. 45,821",48,"10,955 sek."]
[null,null,32,"Saule20",91,154,118,87,118,44,22,100,80,19,833,"06 min. 21,826",44,"08,678 sek."]
[null,null,33,"K8K",70,162,128,80,114,76,-29,69,73,82,825,"05 min. 47,044",44,"07,887 sek."]
[null,null,34,"Samantas tīni",102,101,150,83,57,117,39,47,56,64,816,"05 min. 46,203",45,"07,693 sek."]
[null,null,35,"Kleopatra un Marks Antonijs",89,141,143,89,92,101,-8,65,78,26,816,"09 min. 10,234",48,"11,463 sek."]
[null,null,36,"Saulgruzis",80,120,121,61,65,134,-28,105,101,52,811,"06 min. 11,200",44,"08,436 sek."]
[null,null,37,"Čujs, ņuhs un poņa bez poņas",102,147,105,59,57,77,46,112,32,73,810,"11 min. 44,517",51,"13,814 sek."]
[null,null,38,"lielmezi.lv",111,148,138,53,101,0,0,82,69,107,809,"09 min. 24,140",48,"11,753 sek."]
[null,null,39,"Kiukucanes",70,137,135,106,50,44,20,103,50,82,797,"13 min. 28,527",54,"14,973 sek."]
[null,null,40,"ROGAS",60,130,131,92,69,72,11,110,70,51,796,"12 min. 48,725",51,"15,073 sek."]
[null,null,41,"Bumbieri un Kubiks",66,150,111,67,65,51,26,100,79,76,791,"06 min. 04,372",41,"08,887 sek."]
[null,null,42,"Šašliks un Marināde",79,145,147,57,139,79,-5,51,48,43,783,"10 min. 07,314",48,"12,652 sek."]
[null,null,43,"User",89,112,124,64,38,75,16,114,94,44,770,"09 min. 22,081",46,"12,219 sek."]
[null,null,44,"Stams",84,133,88,80,99,78,6,128,38,31,765,"09 min. 23,088",46,"12,241 sek."]
[null,null,45,"Jāņa Sieriņi",98,97,101,62,86,80,45,96,89,9,763,"09 min. 19,759",45,"12,439 sek."]
[null,null,46,"Bumba",53,129,122,52,63,71,27,110,60,69,756,"09 min. 29,400",46,"12,378 sek."]
[null,null,47,"Pārdaugavas atbildes",93,135,186,44,84,21,-5,78,66,44,746,"05 min. 13,414",40,"07,835 sek."]
[null,null,48,"Miksons un Co",43,152,129,109,71,48,36,59,69,16,732,"06 min. 10,656",40,"09,266 sek."]
[null,null,49,"23.dzīvoklis",67,135,87,51,70,58,10,107,74,70,729,"08 min. 30,907",42,"12,164 sek."]
[null,null,50,"Duduls",87,146,92,22,91,73,17,92,41,33,694,"06 min. 36,658",39,"10,171 sek."]
[null,null,51,"Just80%",89,104,79,77,74,86,27,55,47,38,676,"12 min. 17,100",47,"15,683 sek."]
[null,null,52,"Bunkeristi",53,122,118,68,63,84,-20,96,39,35,658,"06 min. 34,644",37,"10,666 sek."]
[null,null,53,"Jāņabērns",58,120,142,27,104,61,11,65,26,41,655,"10 min. 39,055",43,"14,862 sek."]
[null,null,54,"Zizzle",56,129,92,90,72,41,-30,77,70,19,616,"07 min. 39,483",36,"12,763 sek."]
[null,null,55,"Smaidas",38,103,89,76,39,67,27,61,42,40,582,"11 min. 45,211",43,"16,400 sek."]
[null,null,56,"Kanelūri",69,105,101,63,59,60,-8,40,66,16,571,"08 min. 59,922",38,"14,208 sek."]

{"sheet":"1-50","index":1,"n_rows":64,"n_cols":18,"rows_kept":64,"cut":false,"hidden":false,"merged":[[1,2,1,17],[2,1,4,1],[2,2,4,2],[2,3,4,3],[2,14,3,14],[2,15,5,15],[2,16,5,16],[2,17,5,17]]}
[]
[null,null,"Tēva dienas viktorīna LIVE (tiešsaistē/vebinārā) | 2024.gada 8.septembris"]
[null,"Grupa",{"$f":"tabula!C3","v":"#"},{"$f":"tabula!D3","v":"Dalībnieks | Raunds | Tēma | Max punkti raundā (bez bonusiem) "},{"$f":"tabula!E3","v":1},{"$f":"tabula!F3","v":2},{"$f":"tabula!G3","v":3},{"$f":"tabula!H3","v":4},{"$f":"tabula!I3","v":5},{"$f":"tabula!J3","v":6},{"$f":"tabula!K3","v":7},{"$f":"tabula!L3","v":8},{"$f":"tabula!M3","v":9},{"$f":"tabula!N3","v":10},{"$f":"tabula!O3","v":"KOPĀ"},{"$f":"tabula!P3","v":"Laiks kopā"},"Pareizās atbildes (max 68)",{"$f":"tabula!R3","v":"Vid.laiks uz 1 pareizo atb."}]
[null,null,null,null,"Pavediens","Vizuālais","Ekspresis","Burtu mīkla","Ķēde","Latvija","Risks: Tēvi un dēli seriālos un kino","Kas kopīgs?","Liekais pazūd ārpus kastes","Audio"]
[null,null,null,null,150,150,180,180,175,150,120,180,150,150,{"$f":"SUM(E5:N5)","v":1585}]
[null,null,null,{"$f":"tabula!D6","v":"Vidēji p-ti raundā"},{"$f":"ROUND(AVERAGE(E7:E62),2)","v":93.91},{"$f":"ROUND(AVERAGE(F7:F62),2)","v":92.77},103.16,57.89,80.38,69.709999999999994,40.630000000000003,113.2,55.07,68.8,775.52]
[null,1,1,"Tētuks DJV",130,111,162,97,165,100,80,149,110,121,1225,"05 min. 56,846",61,"05,850 sek."]
[null,3,2,"Pundurplanēta",120,118,154,86,170,117,96,145,118,84,1208,"05 min. 28,348",60,"05,472 sek."]
[null,1,3,"Rupuči, turās!",137,110,118,126,152,110,103,125,120,91,1192,"06 min. 50,453",60,"06,841 sek."]
[null,3,4,"Bunkurs_13",120,93,131,116,164,92,75,145,109,120,1165,"08 min. 17,219",62,"08,020 sek."]
[null,1,5,"Van Tūži",109,117,101,77,140,109,56,165,117,109,1100,"09 min. 22,160",61,"09,216 sek."]
[null,1,6,"Neļķu iela",101,131,87,84,148,86,91,154,89,91,1062,"10 min. 57,365",61,"10,776 sek."]
[null,2,7,"VMR",97,89,85,108,161,101,74,69,130,103,1017,"06 min. 24,110",52,"07,387 sek."]
[null,3,8,"Bandītu perēklis",124,140,98,69,131,94,45,140,78,74,993,"07 min. 11,964",53,"08,150 sek."]
[null,2,9,"kristiansd",97,104,110,92,117,83,95,129,70,89,986,"09 min. 58,899",57,"10,507 sek."]
[null,2,10,"Inspektora tētis",133,129,97,78,99,76,54,140,89,85,980,"08 min. 55,197",56,"09,557 sek."]
[null,2,11,"Pirmie matiņi",107,118,79,81,85,137,74,158,21,120,980,"09 min. 19,103",56,"09,984 sek."]
[null,3,12,"Ļoti labi",110,78,119,101,78,90,66,164,105,66,977,"11 min. 17,549",60,"11,292 sek."]
[null,1,13,"Vācieši",97,97,134,89,156,99,19,120,87,75,973,"08 min. 53,593",56,"09,528 sek."]
[null,3,14,"Koklētāji",90,122,124,66,108,115,59,146,30,99,959,"09 min. 58,249",57,"10,496 sek."]
[null,3,15,"Rogas",104,80,119,65,107,65,84,156,73,94,947,"08 min. 42,788",54,"09,681 sek."]
[null,3,16,"Swan",114,135,114,54,124,47,50,139,43,94,914,"07 min. 52,498",52,"09,087 sek."]
[null,1,17,"BraveDucks",114,115,74,74,108,99,65,107,60,96,912,"08 min. 49,010",52,"10,173 sek."]
[null,1,18,"Salacas Banāni",115,117,120,48,120,67,72,107,52,83,901,"08 min. 42,651",52,"10,051 sek."]
[null,3,19,"Bugatti 21023",126,76,131,87,23,102,43,133,80,97,898,"07 min. 00,335",50,"08,407 sek."]
[null,null,20,"nezinu",111,103,86,45,103,75,45,166,54,84,872,"11 min. 29,785",55,"12,542 sek."]
[null,null,21,"Rūķis Stūķis",89,103,134,83,67,66,40,117,51,95,845,"07 min. 25,693",48,"09,285 sek."]
[null,null,22,"Trešā tēva meita",93,118,119,57,83,48,87,136,50,51,842,"08 min. 23,452",49,"10,275 sek."]
[null,null,23,"ttomstt",97,82,98,47,124,54,72,122,60,63,819,"07 min. 33,010",47,"09,639 sek."]
[null,null,24,"Klieši & Draugi",104,97,103,31,70,64,63,149,44,88,813,"10 min. 45,243",52,"12,409 sek."]
[null,null,25,"Twister&Dobby",106,103,130,72,71,35,50,121,53,67,808,"06 min. 27,611",45,"08,614 sek."]
[null,null,26,"Cukuriņi",102,116,127,83,83,93,32,73,40,44,793,"06 min. 42,599",45,"08,947 sek."]
[null,null,27,"Virsskaņas alus iznīcinātājs",91,67,77,73,117,89,30,95,112,40,791,"06 min. 18,439",43,"08,801 sek."]
[null,null,28,"No One",94,127,119,58,52,63,47,88,55,69,772,"06 min. 41,959",45,"08,932 sek."]
[null,null,29,"Morgana",110,114,107,43,110,32,54,87,63,51,771,"08 min. 32,955",46,"11,151 sek."]
[null,null,30,"LBG",97,106,128,68,12,64,67,96,68,64,770,"07 min. 41,293",46,"10,028 sek."]
[null,null,31,"Yao Aģentūra",88,87,86,41,32,73,57,162,5,100,731,"09 min. 46,386",47,"12,476 sek."]
[null,null,32,"Chiltoni",113,87,136,61,21,23,45,97,57,71,711,"08 min. 06,505",45,"10,811 sek."]
[null,null,33,"Chuks",84,118,97,59,50,54,45,101,17,79,704,"11 min. 01,694",46,"14,385 sek."]
[null,null,34,"Pitijs",109,92,115,56,69,73,-1,85,43,42,683,"05 min. 20,994",40,"08,025 sek."]
[null,null,35,"Trakie Truši",74,64,121,47,70,61,22,108,74,21,662,"12 min. 45,525",48,"15,948 sek."]
[null,null,36,"Roberti",73,82,103,59,39,65,35,117,13,73,659,"06 min. 22,246",39,"09,801 sek."]
[null,null,37,"John Snicker Ar Kundzi",91,89,92,52,17,86,29,91,34,73,654,"08 min. 44,583",42,"12,490 sek."]
[null,null,38,"Zefīrs",73,72,84,31,68,42,18,130,59,67,644,"07 min. 08,625",40,"10,716 sek."]
[null,null,39,"Saule20",106,84,80,7,54,53,38,110,62,50,644,"07 min. 21,205",39,"11,313 sek."]
[null,null,40,"Germany",63,88,102,57,86,30,2,126,41,49,644,"10 min. 14,160",44,"13,958 sek."]
[null,null,41,"Pilskalni",85,81,65,62,88,55,-12,125,33,48,630,"09 min. 26,397",41,"13,815 sek."]
[null,null,42,"Tikai mieru!",97,39,98,37,70,76,50,108,29,25,629,"09 min. 25,314",42,"13,460 sek."]
[null,null,43,"Stams",35,91,77,53,99,33,-13,109,51,84,619,"10 min. 59,470",44,"14,988 sek."]
[null,null,44,"Yuki",78,54,94,37,51,75,28,83,64,31,595,"08 min. 38,458",41,"12,645 sek."]
[null,null,45,"Zvaigžņu iela",64,111,105,26,57,47,-2,105,27,42,582,"05 min. 50,336",36,"09,732 sek."]
[null,null,46,"Tēva dēls",73,61,68,16,46,102,-9,119,27,72,575,"09 min. 48,761",41,"14,360 sek."]
[null,null,47,"Butenieki",74,72,86,42,19,64,43,96,29,46,571,"08 min. 05,979",39,"12,461 sek."]
[null,null,48,"Anniņmuiža",88,92,82,46,53,53,17,65,9,62,567,"06 min. 02,749",34,"10,669 sek."]
[null,null,49,"Rukšu tētis un sivēni",101,75,51,8,55,95,-3,63,43,49,537,"06 min. 16,060",34,"11,061 sek."]
[null,null,50,"Trīs Visvalži",44,75,105,61,43,20,5,101,6,74,534,"07 min. 48,899",36,"13,025 sek."]
[null,null,51,"KARSTI.POPE",76,24,70,23,40,67,25,102,39,63,529,"10 min. 16,524",39,"15,808 sek."]
[null,null,52,"15.dzīvoklis ir atpakaļ!",101,54,93,42,17,82,-2,57,7,21,472,"04 min. 59,535",29,"10,329 sek."]
[null,null,53,"MOPŠI&Co",68,82,99,18,44,28,-22,97,23,33,470,"10 min. 11,240",38,"16,085 sek."]
[null,null,54,"Bučmulīši",45,83,122,11,29,22,32,59,0,17,420,"05 min. 06,925",29,"10,584 sek."]
[null,null,55,"Kantoris3",77,65,86,13,36,34,-53,39,61,17,375,"05 min. 30,790",28,"11,814 sek."]
[null,null,56,"TĒVA bērni",40,57,75,19,0,19,13,43,0,37,303,"03 min. 31,858",22,"09,630 sek."]
[]
[null,null,"LIELDRAUGS                                                    ATBALSTĪTĀJI"]

{"sheet":"51-100","index":2,"n_rows":53,"n_cols":18,"rows_kept":53,"cut":false,"hidden":true,"merged":[[1,2,1,17],[2,1,4,1],[2,2,4,2],[2,3,4,3],[2,14,3,14],[2,15,5,15],[2,16,5,16],[2,17,5,17]]}
[]
[null,null,{"$f":"tabula!C2","v":"Tēva dienas viktorīna LIVE (tiešsaistē/vebinārā) | 2024.gada 8.septembris"}]
[null,"Grupa",{"$f":"tabula!C3","v":"#"},{"$f":"tabula!D3","v":"Dalībnieks | Raunds | Tēma | Max punkti raundā (bez bonusiem) "},{"$f":"tabula!E3","v":1},{"$f":"tabula!F3","v":2},{"$f":"tabula!G3","v":3},{"$f":"tabula!H3","v":4},{"$f":"tabula!I3","v":5},{"$f":"tabula!J3","v":6},{"$f":"tabula!K3","v":7},{"$f":"tabula!L3","v":8},{"$f":"tabula!M3","v":9},{"$f":"tabula!N3","v":10},{"$f":"tabula!O3","v":"KOPĀ"},{"$f":"tabula!P3","v":"Laiks kopā"},{"$f":"tabula!Q3","v":"Pareizās atbildes (max)"},{"$f":"tabula!R3","v":"Vid.laiks uz 1 pareizo atb."}]
[null,null,null,null,{"$f":"tabula!E4","v":"Pavediens"},{"$f":"tabula!F4","v":"Vizuālais"},{"$f":"tabula!G4","v":"Ekspresis"},{"$f":"tabula!H4","v":"Burtu mīkla"},{"$f":"tabula!I4","v":"Ķēde"},{"$f":"tabula!J4","v":"Latvija"},{"$f":"tabula!K4","v":"Risks: Tēvi un dēli seriālos un kino"},{"$f":"tabula!L4","v":"Kas kopīgs?"},{"$f":"tabula!M4","v":"Liekais pazūd ārpus kastes"},{"$f":"tabula!N4","v":"Audio"}]
[null,null,null,null,{"$f":"tabula!E5","v":150},{"$f":"tabula!F5","v":150},{"$f":"tabula!G5","v":180},{"$f":"tabula!H5","v":180},{"$f":"tabula!I5","v":175},{"$f":"tabula!J5","v":150},{"$f":"tabula!K5","v":120},{"$f":"tabula!L5","v":180},{"$f":"tabula!M5","v":150},{"$f":"tabula!N5","v":150},{"$f":"tabula!O5","v":1585}]
[null,null,null,"Vidēji p-ti raundā",{"$f":"tabula!E6","v":93},{"$f":"tabula!F6","v":140.80000000000001},{"$f":"tabula!G6","v":134.80000000000001},{"$f":"tabula!H6","v":83.4},{"$f":"tabula!I6","v":87.4},{"$f":"tabula!J6","v":86.4},{"$f":"tabula!K6","v":30.7},{"$f":"tabula!L6","v":105.3},{"$f":"tabula!M6","v":70.2},{"$f":"tabula!N6","v":62.2},{"$f":"tabula!O6","v":894.2}]
[null,3,{"$f":"tabula!C55","v":49},{"$f":"tabula!D55","v":"23.dzīvoklis"},{"$f":"tabula!E55","v":67},{"$f":"tabula!F55","v":135},{"$f":"tabula!G55","v":87},{"$f":"tabula!H55","v":51},{"$f":"tabula!I55","v":70},{"$f":"tabula!J55","v":58},{"$f":"tabula!K55","v":10},{"$f":"tabula!L55","v":107},{"$f":"tabula!M55","v":74},{"$f":"tabula!N55","v":70},{"$f":"tabula!O55","v":729},{"$f":"tabula!P55","v":"08 min. 30,907"},{"$f":"tabula!Q55","v":42},{"$f":"tabula!R55","v":"12,164 sek."}]
[null,1,{"$f":"tabula!C56","v":50},{"$f":"tabula!D56","v":"Duduls"},{"$f":"tabula!E56","v":87},{"$f":"tabula!F56","v":146},{"$f":"tabula!G56","v":92},{"$f":"tabula!H56","v":22},{"$f":"tabula!I56","v":91},{"$f":"tabula!J56","v":73},{"$f":"tabula!K56","v":17},{"$f":"tabula!L56","v":92},{"$f":"tabula!M56","v":41},{"$f":"tabula!N56","v":33},{"$f":"tabula!O56","v":694},{"$f":"tabula!P56","v":"06 min. 36,658"},{"$f":"tabula!Q56","v":39},{"$f":"tabula!R56","v":"10,171 sek."}]
[null,1,{"$f":"tabula!C57","v":51},{"$f":"tabula!D57","v":"Just80%"},{"$f":"tabula!E57","v":89},{"$f":"tabula!F57","v":104},{"$f":"tabula!G57","v":79},{"$f":"tabula!H57","v":77},{"$f":"tabula!I57","v":74},{"$f":"tabula!J57","v":86},{"$f":"tabula!K57","v":27},{"$f":"tabula!L57","v":55},{"$f":"tabula!M57","v":47},{"$f":"tabula!N57","v":38},{"$f":"tabula!O57","v":676},{"$f":"tabula!P57","v":"12 min. 17,100"},{"$f":"tabula!Q57","v":47},{"$f":"tabula!R57","v":"15,683 sek."}]
[null,3,{"$f":"tabula!#REF!","v":{"$error":"#REF!"}},{"$f":"tabula!#REF!","v":{"$error":"#REF!"}},{"$f":"tabula!#REF!","v":{"$error":"#REF!"}},{"$f":"tabula!#REF!","v":{"$error":"#REF!"}},{"$f":"tabula!#REF!","v":{"$error":"#REF!"}},{"$f":"tabula!#REF!","v":{"$error":"#REF!"}},{"$f":"tabula!#REF!","v":{"$error":"#REF!"}},{"$f":"tabula!#REF!","v":{"$error":"#REF!"}},{"$f":"tabula!#REF!","v":{"$error":"#REF!"}},{"$f":"tabula!#REF!","v":{"$error":"#REF!"}},{"$f":"tabula!#REF!","v":{"$error":"#REF!"}},{"$f":"tabula!#REF!","v":{"$error":"#REF!"}},{"$f":"tabula!#REF!","v":{"$error":"#REF!"}},{"$f":"tabula!#REF!","v":{"$error":"#REF!"}},{"$f":"tabula!#REF!","v":{"$error":"#REF!"}},{"$f":"tabula!#REF!","v":{"$error":"#REF!"}}]
[null,1,{"$f":"tabula!C58","v":52},{"$f":"tabula!D58","v":"Bunkeristi"},{"$f":"tabula!E58","v":53},{"$f":"tabula!F58","v":122},{"$f":"tabula!G58","v":118},{"$f":"tabula!H58","v":68},{"$f":"tabula!I58","v":63},{"$f":"tabula!J58","v":84},{"$f":"tabula!K58","v":-20},{"$f":"tabula!L58","v":96},{"$f":"tabula!M58","v":39},{"$f":"tabula!N58","v":35},{"$f":"tabula!O58","v":658},{"$f":"tabula!P58","v":"06 min. 34,644"},{"$f":"tabula!Q58","v":37},{"$f":"tabula!R58","v":"10,666 sek."}]
[null,3,{"$f":"tabula!C59","v":53},{"$f":"tabula!D59","v":"Jāņabērns"},{"$f":"tabula!E59","v":58},{"$f":"tabula!F59","v":120},{"$f":"tabula!G59","v":142},{"$f":"tabula!H59","v":27},{"$f":"tabula!I59","v":104},{"$f":"tabula!J59","v":61},{"$f":"tabula!K59","v":11},{"$f":"tabula!L59","v":65},{"$f":"tabula!M59","v":26},{"$f":"tabula!N59","v":41},{"$f":"tabula!O59","v":655},{"$f":"tabula!P59","v":"10 min. 39,055"},{"$f":"tabula!Q59","v":43},{"$f":"tabula!R59","v":"14,862 sek."}]
[null,1,{"$f":"tabula!C60","v":54},{"$f":"tabula!D60","v":"Zizzle"},{"$f":"tabula!E60","v":56},{"$f":"tabula!F60","v":129},{"$f":"tabula!G60","v":92},{"$f":"tabula!H60","v":90},{"$f":"tabula!I60","v":72},{"$f":"tabula!J60","v":41},{"$f":"tabula!K60","v":-30},{"$f":"tabula!L60","v":77},{"$f":"tabula!M60","v":70},{"$f":"tabula!N60","v":19},{"$f":"tabula!O60","v":616},{"$f":"tabula!P60","v":"07 min. 39,483"},{"$f":"tabula!Q60","v":36},{"$f":"tabula!R60","v":"12,763 sek."}]
[null,1,{"$f":"tabula!C61","v":55},{"$f":"tabula!D61","v":"Smaidas"},{"$f":"tabula!E61","v":38},{"$f":"tabula!F61","v":103},{"$f":"tabula!G61","v":89},{"$f":"tabula!H61","v":76},{"$f":"tabula!I61","v":39},{"$f":"tabula!J61","v":67},{"$f":"tabula!K61","v":27},{"$f":"tabula!L61","v":61},{"$f":"tabula!M61","v":42},{"$f":"tabula!N61","v":40},{"$f":"tabula!O61","v":582},{"$f":"tabula!P61","v":"11 min. 45,211"},{"$f":"tabula!Q61","v":43},{"$f":"tabula!R61","v":"16,400 sek."}]
[null,2,{"$f":"tabula!C62","v":56},{"$f":"tabula!D62","v":"Kanelūri"},{"$f":"tabula!E62","v":69},{"$f":"tabula!F62","v":105},{"$f":"tabula!G62","v":101},{"$f":"tabula!H62","v":63},{"$f":"tabula!I62","v":59},{"$f":"tabula!J62","v":60},{"$f":"tabula!K62","v":-8},{"$f":"tabula!L62","v":40},{"$f":"tabula!M62","v":66},{"$f":"tabula!N62","v":16},{"$f":"tabula!O62","v":571},{"$f":"tabula!P62","v":"08 min. 59,922"},{"$f":"tabula!Q62","v":38},{"$f":"tabula!R62","v":"14,208 sek."}]
[null,3,{"$f":"tabula!C63","v":0},{"$f":"tabula!D63","v":0},{"$f":"tabula!E63","v":0},{"$f":"tabula!F63","v":0},{"$f":"tabula!G63","v":0},{"$f":"tabula!H63","v":0},{"$f":"tabula!I63","v":0},{"$f":"tabula!J63","v":0},{"$f":"tabula!K63","v":0},{"$f":"tabula!L63","v":0},{"$f":"tabula!M63","v":0},{"$f":"tabula!N63","v":0},{"$f":"tabula!O63","v":0},{"$f":"tabula!P63","v":0},{"$f":"tabula!Q63","v":0},{"$f":"tabula!R63","v":0}]
[null,2,{"$f":"tabula!C64","v":0},{"$f":"tabula!D64","v":0},{"$f":"tabula!E64","v":0},{"$f":"tabula!F64","v":0},{"$f":"tabula!G64","v":0},{"$f":"tabula!H64","v":0},{"$f":"tabula!I64","v":0},{"$f":"tabula!J64","v":0},{"$f":"tabula!K64","v":0},{"$f":"tabula!L64","v":0},{"$f":"tabula!M64","v":0},{"$f":"tabula!N64","v":0},{"$f":"tabula!O64","v":0},{"$f":"tabula!P64","v":0},{"$f":"tabula!Q64","v":0},{"$f":"tabula!R64","v":0}]
[null,2,{"$f":"tabula!C65","v":0},{"$f":"tabula!D65","v":0},{"$f":"tabula!E65","v":0},{"$f":"tabula!F65","v":0},{"$f":"tabula!G65","v":0},{"$f":"tabula!H65","v":0},{"$f":"tabula!I65","v":0},{"$f":"tabula!J65","v":0},{"$f":"tabula!K65","v":0},{"$f":"tabula!L65","v":0},{"$f":"tabula!M65","v":0},{"$f":"tabula!N65","v":0},{"$f":"tabula!O65","v":0},{"$f":"tabula!P65","v":0},{"$f":"tabula!Q65","v":0},{"$f":"tabula!R65","v":0}]
[null,2,{"$f":"tabula!C66","v":0},{"$f":"tabula!D66","v":0},{"$f":"tabula!E66","v":0},{"$f":"tabula!F66","v":0},{"$f":"tabula!G66","v":0},{"$f":"tabula!H66","v":0},{"$f":"tabula!I66","v":0},{"$f":"tabula!J66","v":0},{"$f":"tabula!K66","v":0},{"$f":"tabula!L66","v":0},{"$f":"tabula!M66","v":0},{"$f":"tabula!N66","v":0},{"$f":"tabula!O66","v":0},{"$f":"tabula!P66","v":0},{"$f":"tabula!Q66","v":0},{"$f":"tabula!R66","v":0}]
[null,3,{"$f":"tabula!C67","v":0},{"$f":"tabula!D67","v":0},{"$f":"tabula!E67","v":0},{"$f":"tabula!F67","v":0},{"$f":"tabula!G67","v":0},{"$f":"tabula!H67","v":0},{"$f":"tabula!I67","v":0},{"$f":"tabula!J67","v":0},{"$f":"tabula!K67","v":0},{"$f":"tabula!L67","v":0},{"$f":"tabula!M67","v":0},{"$f":"tabula!N67","v":0},{"$f":"tabula!O67","v":0},{"$f":"tabula!P67","v":0},{"$f":"tabula!Q67","v":0},{"$f":"tabula!R67","v":0}]
[null,1,{"$f":"tabula!C68","v":0},{"$f":"tabula!D68","v":0},{"$f":"tabula!E68","v":0},{"$f":"tabula!F68","v":0},{"$f":"tabula!G68","v":0},{"$f":"tabula!H68","v":0},{"$f":"tabula!I68","v":0},{"$f":"tabula!J68","v":0},{"$f":"tabula!K68","v":0},{"$f":"tabula!L68","v":0},{"$f":"tabula!M68","v":0},{"$f":"tabula!N68","v":0},{"$f":"tabula!O68","v":0},{"$f":"tabula!P68","v":0},{"$f":"tabula!Q68","v":0},{"$f":"tabula!R68","v":0}]
[null,3,{"$f":"tabula!C69","v":0},{"$f":"tabula!D69","v":0},{"$f":"tabula!E69","v":0},{"$f":"tabula!F69","v":0},{"$f":"tabula!G69","v":0},{"$f":"tabula!H69","v":0},{"$f":"tabula!I69","v":0},{"$f":"tabula!J69","v":0},{"$f":"tabula!K69","v":0},{"$f":"tabula!L69","v":0},{"$f":"tabula!M69","v":0},{"$f":"tabula!N69","v":0},{"$f":"tabula!O69","v":0},{"$f":"tabula!P69","v":0},{"$f":"tabula!Q69","v":0},{"$f":"tabula!R69","v":0}]
[null,3,{"$f":"tabula!C70","v":0},{"$f":"tabula!D70","v":0},{"$f":"tabula!E70","v":0},{"$f":"tabula!F70","v":0},{"$f":"tabula!G70","v":0},{"$f":"tabula!H70","v":0},{"$f":"tabula!I70","v":0},{"$f":"tabula!J70","v":0},{"$f":"tabula!K70","v":0},{"$f":"tabula!L70","v":0},{"$f":"tabula!M70","v":0},{"$f":"tabula!N70","v":0},{"$f":"tabula!O70","v":0},{"$f":"tabula!P70","v":0},{"$f":"tabula!Q70","v":0},{"$f":"tabula!R70","v":0}]
[null,3,{"$f":"tabula!C71","v":0},{"$f":"tabula!D71","v":0},{"$f":"tabula!E71","v":0},{"$f":"tabula!F71","v":0},{"$f":"tabula!G71","v":0},{"$f":"tabula!H71","v":0},{"$f":"tabula!I71","v":0},{"$f":"tabula!J71","v":0},{"$f":"tabula!K71","v":0},{"$f":"tabula!L71","v":0},{"$f":"tabula!M71","v":0},{"$f":"tabula!N71","v":0},{"$f":"tabula!O71","v":0},{"$f":"tabula!P71","v":0},{"$f":"tabula!Q71","v":0},{"$f":"tabula!R71","v":0}]
[null,1,{"$f":"tabula!#REF!","v":{"$error":"#REF!"}},{"$f":"tabula!#REF!","v":{"$error":"#REF!"}},{"$f":"tabula!#REF!","v":{"$error":"#REF!"}},{"$f":"tabula!#REF!","v":{"$error":"#REF!"}},{"$f":"tabula!#REF!","v":{"$error":"#REF!"}},{"$f":"tabula!#REF!","v":{"$error":"#REF!"}},{"$f":"tabula!#REF!","v":{"$error":"#REF!"}},{"$f":"tabula!#REF!","v":{"$error":"#REF!"}},{"$f":"tabula!#REF!","v":{"$error":"#REF!"}},{"$f":"tabula!#REF!","v":{"$error":"#REF!"}},{"$f":"tabula!#REF!","v":{"$error":"#REF!"}},{"$f":"tabula!#REF!","v":{"$error":"#REF!"}},{"$f":"tabula!#REF!","v":{"$error":"#REF!"}},{"$f":"tabula!#REF!","v":{"$error":"#REF!"}},{"$f":"tabula!#REF!","v":{"$error":"#REF!"}},{"$f":"tabula!#REF!","v":{"$error":"#REF!"}}]
[null,1,{"$f":"tabula!#REF!","v":{"$error":"#REF!"}},{"$f":"tabula!#REF!","v":{"$error":"#REF!"}},{"$f":"tabula!#REF!","v":{"$error":"#REF!"}},{"$f":"tabula!#REF!","v":{"$error":"#REF!"}},{"$f":"tabula!#REF!","v":{"$error":"#REF!"}},{"$f":"tabula!#REF!","v":{"$error":"#REF!"}},{"$f":"tabula!#REF!","v":{"$error":"#REF!"}},{"$f":"tabula!#REF!","v":{"$error":"#REF!"}},{"$f":"tabula!#REF!","v":{"$error":"#REF!"}},{"$f":"tabula!#REF!","v":{"$error":"#REF!"}},{"$f":"tabula!#REF!","v":{"$error":"#REF!"}},{"$f":"tabula!#REF!","v":{"$error":"#REF!"}},{"$f":"tabula!#REF!","v":{"$error":"#REF!"}},{"$f":"tabula!#REF!","v":{"$error":"#REF!"}},{"$f":"tabula!#REF!","v":{"$error":"#REF!"}},{"$f":"tabula!#REF!","v":{"$error":"#REF!"}}]
[null,3,{"$f":"tabula!#REF!","v":{"$error":"#REF!"}},{"$f":"tabula!#REF!","v":{"$error":"#REF!"}},{"$f":"tabula!#REF!","v":{"$error":"#REF!"}},{"$f":"tabula!#REF!","v":{"$error":"#REF!"}},{"$f":"tabula!#REF!","v":{"$error":"#REF!"}},{"$f":"tabula!#REF!","v":{"$error":"#REF!"}},{"$f":"tabula!#REF!","v":{"$error":"#REF!"}},{"$f":"tabula!#REF!","v":{"$error":"#REF!"}},{"$f":"tabula!#REF!","v":{"$error":"#REF!"}},{"$f":"tabula!#REF!","v":{"$error":"#REF!"}},{"$f":"tabula!#REF!","v":{"$error":"#REF!"}},{"$f":"tabula!#REF!","v":{"$error":"#REF!"}},{"$f":"tabula!#REF!","v":{"$error":"#REF!"}},{"$f":"tabula!#REF!","v":{"$error":"#REF!"}},{"$f":"tabula!#REF!","v":{"$error":"#REF!"}},{"$f":"tabula!#REF!","v":{"$error":"#REF!"}}]
[null,null,{"$f":"tabula!#REF!","v":{"$error":"#REF!"}},{"$f":"tabula!#REF!","v":{"$error":"#REF!"}},{"$f":"tabula!#REF!","v":{"$error":"#REF!"}},{"$f":"tabula!#REF!","v":{"$error":"#REF!"}},{"$f":"tabula!#REF!","v":{"$error":"#REF!"}},{"$f":"tabula!#REF!","v":{"$error":"#REF!"}},{"$f":"tabula!#REF!","v":{"$error":"#REF!"}},{"$f":"tabula!#REF!","v":{"$error":"#REF!"}},{"$f":"tabula!#REF!","v":{"$error":"#REF!"}},{"$f":"tabula!#REF!","v":{"$error":"#REF!"}},{"$f":"tabula!#REF!","v":{"$error":"#REF!"}},{"$f":"tabula!#REF!","v":{"$error":"#REF!"}},{"$f":"tabula!#REF!","v":{"$error":"#REF!"}},{"$f":"tabula!#REF!","v":{"$error":"#REF!"}},{"$f":"tabula!#REF!","v":{"$error":"#REF!"}},{"$f":"tabula!#REF!","v":{"$error":"#REF!"}}]
[null,null,{"$f":"tabula!#REF!","v":{"$error":"#REF!"}},{"$f":"tabula!#REF!","v":{"$error":"#REF!"}},{"$f":"tabula!#REF!","v":{"$error":"#REF!"}},{"$f":"tabula!#REF!","v":{"$error":"#REF!"}},{"$f":"tabula!#REF!","v":{"$error":"#REF!"}},{"$f":"tabula!#REF!","v":{"$error":"#REF!"}},{"$f":"tabula!#REF!","v":{"$error":"#REF!"}},{"$f":"tabula!#REF!","v":{"$error":"#REF!"}},{"$f":"tabula!#REF!","v":{"$error":"#REF!"}},{"$f":"tabula!#REF!","v":{"$error":"#REF!"}},{"$f":"tabula!#REF!","v":{"$error":"#REF!"}},{"$f":"tabula!#REF!","v":{"$error":"#REF!"}},{"$f":"tabula!#REF!","v":{"$error":"#REF!"}},{"$f":"tabula!#REF!","v":{"$error":"#REF!"}},{"$f":"tabula!#REF!","v":{"$error":"#REF!"}},{"$f":"tabula!#REF!","v":{"$error":"#REF!"}}]
[null,null,{"$f":"tabula!#REF!","v":{"$error":"#REF!"}},{"$f":"tabula!#REF!","v":{"$error":"#REF!"}},{"$f":"tabula!#REF!","v":{"$error":"#REF!"}},{"$f":"tabula!#REF!","v":{"$error":"#REF!"}},{"$f":"tabula!#REF!","v":{"$error":"#REF!"}},{"$f":"tabula!#REF!","v":{"$error":"#REF!"}},{"$f":"tabula!#REF!","v":{"$error":"#REF!"}},{"$f":"tabula!#REF!","v":{"$error":"#REF!"}},{"$f":"tabula!#REF!","v":{"$error":"#REF!"}},{"$f":"tabula!#REF!","v":{"$error":"#REF!"}},{"$f":"tabula!#REF!","v":{"$error":"#REF!"}},{"$f":"tabula!#REF!","v":{"$error":"#REF!"}},{"$f":"tabula!#REF!","v":{"$error":"#REF!"}},{"$f":"tabula!#REF!","v":{"$error":"#REF!"}},{"$f":"tabula!#REF!","v":{"$error":"#REF!"}},{"$f":"tabula!#REF!","v":{"$error":"#REF!"}}]
[null,null,{"$f":"tabula!#REF!","v":{"$error":"#REF!"}},{"$f":"tabula!#REF!","v":{"$error":"#REF!"}},{"$f":"tabula!#REF!","v":{"$error":"#REF!"}},{"$f":"tabula!#REF!","v":{"$error":"#REF!"}},{"$f":"tabula!#REF!","v":{"$error":"#REF!"}},{"$f":"tabula!#REF!","v":{"$error":"#REF!"}},{"$f":"tabula!#REF!","v":{"$error":"#REF!"}},{"$f":"tabula!#REF!","v":{"$error":"#REF!"}},{"$f":"tabula!#REF!","v":{"$error":"#REF!"}},{"$f":"tabula!#REF!","v":{"$error":"#REF!"}},{"$f":"tabula!#REF!","v":{"$error":"#REF!"}},{"$f":"tabula!#REF!","v":{"$error":"#REF!"}},{"$f":"tabula!#REF!","v":{"$error":"#REF!"}},{"$f":"tabula!#REF!","v":{"$error":"#REF!"}},{"$f":"tabula!#REF!","v":{"$error":"#REF!"}},{"$f":"tabula!#REF!","v":{"$error":"#REF!"}}]
[null,null,{"$f":"tabula!#REF!","v":{"$error":"#REF!"}},{"$f":"tabula!#REF!","v":{"$error":"#REF!"}},{"$f":"tabula!#REF!","v":{"$error":"#REF!"}},{"$f":"tabula!#REF!","v":{"$error":"#REF!"}},{"$f":"tabula!#REF!","v":{"$error":"#REF!"}},{"$f":"tabula!#REF!","v":{"$error":"#REF!"}},{"$f":"tabula!#REF!","v":{"$error":"#REF!"}},{"$f":"tabula!#REF!","v":{"$error":"#REF!"}},{"$f":"tabula!#REF!","v":{"$error":"#REF!"}},{"$f":"tabula!#REF!","v":{"$error":"#REF!"}},{"$f":"tabula!#REF!","v":{"$error":"#REF!"}},{"$f":"tabula!#REF!","v":{"$error":"#REF!"}},{"$f":"tabula!#REF!","v":{"$error":"#REF!"}},{"$f":"tabula!#REF!","v":{"$error":"#REF!"}},{"$f":"tabula!#REF!","v":{"$error":"#REF!"}},{"$f":"tabula!#REF!","v":{"$error":"#REF!"}}]
[null,null,{"$f":"tabula!#REF!","v":{"$error":"#REF!"}},{"$f":"tabula!#REF!","v":{"$error":"#REF!"}},{"$f":"tabula!#REF!","v":{"$error":"#REF!"}},{"$f":"tabula!#REF!","v":{"$error":"#REF!"}},{"$f":"tabula!#REF!","v":{"$error":"#REF!"}},{"$f":"tabula!#REF!","v":{"$error":"#REF!"}},{"$f":"tabula!#REF!","v":{"$error":"#REF!"}},{"$f":"tabula!#REF!","v":{"$error":"#REF!"}},{"$f":"tabula!#REF!","v":{"$error":"#REF!"}},{"$f":"tabula!#REF!","v":{"$error":"#REF!"}},{"$f":"tabula!#REF!","v":{"$error":"#REF!"}},{"$f":"tabula!#REF!","v":{"$error":"#REF!"}},{"$f":"tabula!#REF!","v":{"$error":"#REF!"}},{"$f":"tabula!#REF!","v":{"$error":"#REF!"}},{"$f":"tabula!#REF!","v":{"$error":"#REF!"}},{"$f":"tabula!#REF!","v":{"$error":"#REF!"}}]
[null,null,{"$f":"tabula!#REF!","v":{"$error":"#REF!"}},{"$f":"tabula!#REF!","v":{"$error":"#REF!"}},{"$f":"tabula!#REF!","v":{"$error":"#REF!"}},{"$f":"tabula!#REF!","v":{"$error":"#REF!"}},{"$f":"tabula!#REF!","v":{"$error":"#REF!"}},{"$f":"tabula!#REF!","v":{"$error":"#REF!"}},{"$f":"tabula!#REF!","v":{"$error":"#REF!"}},{"$f":"tabula!#REF!","v":{"$error":"#REF!"}},{"$f":"tabula!#REF!","v":{"$error":"#REF!"}},{"$f":"tabula!#REF!","v":{"$error":"#REF!"}},{"$f":"tabula!#REF!","v":{"$error":"#REF!"}},{"$f":"tabula!#REF!","v":{"$error":"#REF!"}},{"$f":"tabula!#REF!","v":{"$error":"#REF!"}},{"$f":"tabula!#REF!","v":{"$error":"#REF!"}},{"$f":"tabula!#REF!","v":{"$error":"#REF!"}},{"$f":"tabula!#REF!","v":{"$error":"#REF!"}}]
[null,null,{"$f":"tabula!#REF!","v":{"$error":"#REF!"}},{"$f":"tabula!#REF!","v":{"$error":"#REF!"}},{"$f":"tabula!#REF!","v":{"$error":"#REF!"}},{"$f":"tabula!#REF!","v":{"$error":"#REF!"}},{"$f":"tabula!#REF!","v":{"$error":"#REF!"}},{"$f":"tabula!#REF!","v":{"$error":"#REF!"}},{"$f":"tabula!#REF!","v":{"$error":"#REF!"}},{"$f":"tabula!#REF!","v":{"$error":"#REF!"}},{"$f":"tabula!#REF!","v":{"$error":"#REF!"}},{"$f":"tabula!#REF!","v":{"$error":"#REF!"}},{"$f":"tabula!#REF!","v":{"$error":"#REF!"}},{"$f":"tabula!#REF!","v":{"$error":"#REF!"}},{"$f":"tabula!#REF!","v":{"$error":"#REF!"}},{"$f":"tabula!#REF!","v":{"$error":"#REF!"}},{"$f":"tabula!#REF!","v":{"$error":"#REF!"}},{"$f":"tabula!#REF!","v":{"$error":"#REF!"}}]
[null,null,{"$f":"tabula!#REF!","v":{"$error":"#REF!"}},{"$f":"tabula!#REF!","v":{"$error":"#REF!"}},{"$f":"tabula!#REF!","v":{"$error":"#REF!"}},{"$f":"tabula!#REF!","v":{"$error":"#REF!"}},{"$f":"tabula!#REF!","v":{"$error":"#REF!"}},{"$f":"tabula!#REF!","v":{"$error":"#REF!"}},{"$f":"tabula!#REF!","v":{"$error":"#REF!"}},{"$f":"tabula!#REF!","v":{"$error":"#REF!"}},{"$f":"tabula!#REF!","v":{"$error":"#REF!"}},{"$f":"tabula!#REF!","v":{"$error":"#REF!"}},{"$f":"tabula!#REF!","v":{"$error":"#REF!"}},{"$f":"tabula!#REF!","v":{"$error":"#REF!"}},{"$f":"tabula!#REF!","v":{"$error":"#REF!"}},{"$f":"tabula!#REF!","v":{"$error":"#REF!"}},{"$f":"tabula!#REF!","v":{"$error":"#REF!"}},{"$f":"tabula!#REF!","v":{"$error":"#REF!"}}]
[null,null,{"$f":"tabula!#REF!","v":{"$error":"#REF!"}},{"$f":"tabula!#REF!","v":{"$error":"#REF!"}},{"$f":"tabula!#REF!","v":{"$error":"#REF!"}},{"$f":"tabula!#REF!","v":{"$error":"#REF!"}},{"$f":"tabula!#REF!","v":{"$error":"#REF!"}},{"$f":"tabula!#REF!","v":{"$error":"#REF!"}},{"$f":"tabula!#REF!","v":{"$error":"#REF!"}},{"$f":"tabula!#REF!","v":{"$error":"#REF!"}},{"$f":"tabula!#REF!","v":{"$error":"#REF!"}},{"$f":"tabula!#REF!","v":{"$error":"#REF!"}},{"$f":"tabula!#REF!","v":{"$error":"#REF!"}},{"$f":"tabula!#REF!","v":{"$error":"#REF!"}},{"$f":"tabula!#REF!","v":{"$error":"#REF!"}},{"$f":"tabula!#REF!","v":{"$error":"#REF!"}},{"$f":"tabula!#REF!","v":{"$error":"#REF!"}},{"$f":"tabula!#REF!","v":{"$error":"#REF!"}}]
[null,null,{"$f":"tabula!#REF!","v":{"$error":"#REF!"}},{"$f":"tabula!#REF!","v":{"$error":"#REF!"}},{"$f":"tabula!#REF!","v":{"$error":"#REF!"}},{"$f":"tabula!#REF!","v":{"$error":"#REF!"}},{"$f":"tabula!#REF!","v":{"$error":"#REF!"}},{"$f":"tabula!#REF!","v":{"$error":"#REF!"}},{"$f":"tabula!#REF!","v":{"$error":"#REF!"}},{"$f":"tabula!#REF!","v":{"$error":"#REF!"}},{"$f":"tabula!#REF!","v":{"$error":"#REF!"}},{"$f":"tabula!#REF!","v":{"$error":"#REF!"}},{"$f":"tabula!#REF!","v":{"$error":"#REF!"}},{"$f":"tabula!#REF!","v":{"$error":"#REF!"}},{"$f":"tabula!#REF!","v":{"$error":"#REF!"}},{"$f":"tabula!#REF!","v":{"$error":"#REF!"}},{"$f":"tabula!#REF!","v":{"$error":"#REF!"}},{"$f":"tabula!#REF!","v":{"$error":"#REF!"}}]
[null,null,{"$f":"tabula!#REF!","v":{"$error":"#REF!"}},{"$f":"tabula!#REF!","v":{"$error":"#REF!"}},{"$f":"tabula!#REF!","v":{"$error":"#REF!"}},{"$f":"tabula!#REF!","v":{"$error":"#REF!"}},{"$f":"tabula!#REF!","v":{"$error":"#REF!"}},{"$f":"tabula!#REF!","v":{"$error":"#REF!"}},{"$f":"tabula!#REF!","v":{"$error":"#REF!"}},{"$f":"tabula!#REF!","v":{"$error":"#REF!"}},{"$f":"tabula!#REF!","v":{"$error":"#REF!"}},{"$f":"tabula!#REF!","v":{"$error":"#REF!"}},{"$f":"tabula!#REF!","v":{"$error":"#REF!"}},{"$f":"tabula!#REF!","v":{"$error":"#REF!"}},{"$f":"tabula!#REF!","v":{"$error":"#REF!"}},{"$f":"tabula!#REF!","v":{"$error":"#REF!"}},{"$f":"tabula!#REF!","v":{"$error":"#REF!"}},{"$f":"tabula!#REF!","v":{"$error":"#REF!"}}]
[null,null,{"$f":"tabula!#REF!","v":{"$error":"#REF!"}},{"$f":"tabula!#REF!","v":{"$error":"#REF!"}},{"$f":"tabula!#REF!","v":{"$error":"#REF!"}},{"$f":"tabula!#REF!","v":{"$error":"#REF!"}},{"$f":"tabula!#REF!","v":{"$error":"#REF!"}},{"$f":"tabula!#REF!","v":{"$error":"#REF!"}},{"$f":"tabula!#REF!","v":{"$error":"#REF!"}},{"$f":"tabula!#REF!","v":{"$error":"#REF!"}},{"$f":"tabula!#REF!","v":{"$error":"#REF!"}},{"$f":"tabula!#REF!","v":{"$error":"#REF!"}},{"$f":"tabula!#REF!","v":{"$error":"#REF!"}},{"$f":"tabula!#REF!","v":{"$error":"#REF!"}},{"$f":"tabula!#REF!","v":{"$error":"#REF!"}},{"$f":"tabula!#REF!","v":{"$error":"#REF!"}},{"$f":"tabula!#REF!","v":{"$error":"#REF!"}},{"$f":"tabula!#REF!","v":{"$error":"#REF!"}}]
[null,null,{"$f":"tabula!#REF!","v":{"$error":"#REF!"}},{"$f":"tabula!#REF!","v":{"$error":"#REF!"}},{"$f":"tabula!#REF!","v":{"$error":"#REF!"}},{"$f":"tabula!#REF!","v":{"$error":"#REF!"}},{"$f":"tabula!#REF!","v":{"$error":"#REF!"}},{"$f":"tabula!#REF!","v":{"$error":"#REF!"}},{"$f":"tabula!#REF!","v":{"$error":"#REF!"}},{"$f":"tabula!#REF!","v":{"$error":"#REF!"}},{"$f":"tabula!#REF!","v":{"$error":"#REF!"}},{"$f":"tabula!#REF!","v":{"$error":"#REF!"}},{"$f":"tabula!#REF!","v":{"$error":"#REF!"}},{"$f":"tabula!#REF!","v":{"$error":"#REF!"}},{"$f":"tabula!#REF!","v":{"$error":"#REF!"}},{"$f":"tabula!#REF!","v":{"$error":"#REF!"}},{"$f":"tabula!#REF!","v":{"$error":"#REF!"}},{"$f":"tabula!#REF!","v":{"$error":"#REF!"}}]
[null,null,{"$f":"tabula!#REF!","v":{"$error":"#REF!"}},{"$f":"tabula!#REF!","v":{"$error":"#REF!"}},{"$f":"tabula!#REF!","v":{"$error":"#REF!"}},{"$f":"tabula!#REF!","v":{"$error":"#REF!"}},{"$f":"tabula!#REF!","v":{"$error":"#REF!"}},{"$f":"tabula!#REF!","v":{"$error":"#REF!"}},{"$f":"tabula!#REF!","v":{"$error":"#REF!"}},{"$f":"tabula!#REF!","v":{"$error":"#REF!"}},{"$f":"tabula!#REF!","v":{"$error":"#REF!"}},{"$f":"tabula!#REF!","v":{"$error":"#REF!"}},{"$f":"tabula!#REF!","v":{"$error":"#REF!"}},{"$f":"tabula!#REF!","v":{"$error":"#REF!"}},{"$f":"tabula!#REF!","v":{"$error":"#REF!"}},{"$f":"tabula!#REF!","v":{"$error":"#REF!"}},{"$f":"tabula!#REF!","v":{"$error":"#REF!"}},{"$f":"tabula!#REF!","v":{"$error":"#REF!"}}]
[null,null,{"$f":"tabula!#REF!","v":{"$error":"#REF!"}},{"$f":"tabula!#REF!","v":{"$error":"#REF!"}},{"$f":"tabula!#REF!","v":{"$error":"#REF!"}},{"$f":"tabula!#REF!","v":{"$error":"#REF!"}},{"$f":"tabula!#REF!","v":{"$error":"#REF!"}},{"$f":"tabula!#REF!","v":{"$error":"#REF!"}},{"$f":"tabula!#REF!","v":{"$error":"#REF!"}},{"$f":"tabula!#REF!","v":{"$error":"#REF!"}},{"$f":"tabula!#REF!","v":{"$error":"#REF!"}},{"$f":"tabula!#REF!","v":{"$error":"#REF!"}},{"$f":"tabula!#REF!","v":{"$error":"#REF!"}},{"$f":"tabula!#REF!","v":{"$error":"#REF!"}},{"$f":"tabula!#REF!","v":{"$error":"#REF!"}},{"$f":"tabula!#REF!","v":{"$error":"#REF!"}},{"$f":"tabula!#REF!","v":{"$error":"#REF!"}},{"$f":"tabula!#REF!","v":{"$error":"#REF!"}}]
[null,null,{"$f":"tabula!#REF!","v":{"$error":"#REF!"}},{"$f":"tabula!#REF!","v":{"$error":"#REF!"}},{"$f":"tabula!#REF!","v":{"$error":"#REF!"}},{"$f":"tabula!#REF!","v":{"$error":"#REF!"}},{"$f":"tabula!#REF!","v":{"$error":"#REF!"}},{"$f":"tabula!#REF!","v":{"$error":"#REF!"}},{"$f":"tabula!#REF!","v":{"$error":"#REF!"}},{"$f":"tabula!#REF!","v":{"$error":"#REF!"}},{"$f":"tabula!#REF!","v":{"$error":"#REF!"}},{"$f":"tabula!#REF!","v":{"$error":"#REF!"}},{"$f":"tabula!#REF!","v":{"$error":"#REF!"}},{"$f":"tabula!#REF!","v":{"$error":"#REF!"}},{"$f":"tabula!#REF!","v":{"$error":"#REF!"}},{"$f":"tabula!#REF!","v":{"$error":"#REF!"}},{"$f":"tabula!#REF!","v":{"$error":"#REF!"}},{"$f":"tabula!#REF!","v":{"$error":"#REF!"}}]
[null,null,{"$f":"tabula!#REF!","v":{"$error":"#REF!"}},{"$f":"tabula!#REF!","v":{"$error":"#REF!"}},{"$f":"tabula!#REF!","v":{"$error":"#REF!"}},{"$f":"tabula!#REF!","v":{"$error":"#REF!"}},{"$f":"tabula!#REF!","v":{"$error":"#REF!"}},{"$f":"tabula!#REF!","v":{"$error":"#REF!"}},{"$f":"tabula!#REF!","v":{"$error":"#REF!"}},{"$f":"tabula!#REF!","v":{"$error":"#REF!"}},{"$f":"tabula!#REF!","v":{"$error":"#REF!"}},{"$f":"tabula!#REF!","v":{"$error":"#REF!"}},{"$f":"tabula!#REF!","v":{"$error":"#REF!"}},{"$f":"tabula!#REF!","v":{"$error":"#REF!"}},{"$f":"tabula!#REF!","v":{"$error":"#REF!"}},{"$f":"tabula!#REF!","v":{"$error":"#REF!"}},{"$f":"tabula!#REF!","v":{"$error":"#REF!"}},{"$f":"tabula!#REF!","v":{"$error":"#REF!"}}]
[null,null,{"$f":"tabula!#REF!","v":{"$error":"#REF!"}},{"$f":"tabula!#REF!","v":{"$error":"#REF!"}},{"$f":"tabula!#REF!","v":{"$error":"#REF!"}},{"$f":"tabula!#REF!","v":{"$error":"#REF!"}},{"$f":"tabula!#REF!","v":{"$error":"#REF!"}},{"$f":"tabula!#REF!","v":{"$error":"#REF!"}},{"$f":"tabula!#REF!","v":{"$error":"#REF!"}},{"$f":"tabula!#REF!","v":{"$error":"#REF!"}},{"$f":"tabula!#REF!","v":{"$error":"#REF!"}},{"$f":"tabula!#REF!","v":{"$error":"#REF!"}},{"$f":"tabula!#REF!","v":{"$error":"#REF!"}},{"$f":"tabula!#REF!","v":{"$error":"#REF!"}},{"$f":"tabula!#REF!","v":{"$error":"#REF!"}},{"$f":"tabula!#REF!","v":{"$error":"#REF!"}},{"$f":"tabula!#REF!","v":{"$error":"#REF!"}},{"$f":"tabula!#REF!","v":{"$error":"#REF!"}}]
[null,null,{"$f":"tabula!#REF!","v":{"$error":"#REF!"}},{"$f":"tabula!#REF!","v":{"$error":"#REF!"}},{"$f":"tabula!#REF!","v":{"$error":"#REF!"}},{"$f":"tabula!#REF!","v":{"$error":"#REF!"}},{"$f":"tabula!#REF!","v":{"$error":"#REF!"}},{"$f":"tabula!#REF!","v":{"$error":"#REF!"}},{"$f":"tabula!#REF!","v":{"$error":"#REF!"}},{"$f":"tabula!#REF!","v":{"$error":"#REF!"}},{"$f":"tabula!#REF!","v":{"$error":"#REF!"}},{"$f":"tabula!#REF!","v":{"$error":"#REF!"}},{"$f":"tabula!#REF!","v":{"$error":"#REF!"}},{"$f":"tabula!#REF!","v":{"$error":"#REF!"}},{"$f":"tabula!#REF!","v":{"$error":"#REF!"}},{"$f":"tabula!#REF!","v":{"$error":"#REF!"}},{"$f":"tabula!#REF!","v":{"$error":"#REF!"}},{"$f":"tabula!#REF!","v":{"$error":"#REF!"}}]
[null,null,{"$f":"tabula!#REF!","v":{"$error":"#REF!"}},{"$f":"tabula!#REF!","v":{"$error":"#REF!"}},{"$f":"tabula!#REF!","v":{"$error":"#REF!"}},{"$f":"tabula!#REF!","v":{"$error":"#REF!"}},{"$f":"tabula!#REF!","v":{"$error":"#REF!"}},{"$f":"tabula!#REF!","v":{"$error":"#REF!"}},{"$f":"tabula!#REF!","v":{"$error":"#REF!"}},{"$f":"tabula!#REF!","v":{"$error":"#REF!"}},{"$f":"tabula!#REF!","v":{"$error":"#REF!"}},{"$f":"tabula!#REF!","v":{"$error":"#REF!"}},{"$f":"tabula!#REF!","v":{"$error":"#REF!"}},{"$f":"tabula!#REF!","v":{"$error":"#REF!"}},{"$f":"tabula!#REF!","v":{"$error":"#REF!"}},{"$f":"tabula!#REF!","v":{"$error":"#REF!"}},{"$f":"tabula!#REF!","v":{"$error":"#REF!"}},{"$f":"tabula!#REF!","v":{"$error":"#REF!"}}]
[null,null,{"$f":"tabula!#REF!","v":{"$error":"#REF!"}},{"$f":"tabula!#REF!","v":{"$error":"#REF!"}},{"$f":"tabula!#REF!","v":{"$error":"#REF!"}},{"$f":"tabula!#REF!","v":{"$error":"#REF!"}},{"$f":"tabula!#REF!","v":{"$error":"#REF!"}},{"$f":"tabula!#REF!","v":{"$error":"#REF!"}},{"$f":"tabula!#REF!","v":{"$error":"#REF!"}},{"$f":"tabula!#REF!","v":{"$error":"#REF!"}},{"$f":"tabula!#REF!","v":{"$error":"#REF!"}},{"$f":"tabula!#REF!","v":{"$error":"#REF!"}},{"$f":"tabula!#REF!","v":{"$error":"#REF!"}},{"$f":"tabula!#REF!","v":{"$error":"#REF!"}},{"$f":"tabula!#REF!","v":{"$error":"#REF!"}},{"$f":"tabula!#REF!","v":{"$error":"#REF!"}},{"$f":"tabula!#REF!","v":{"$error":"#REF!"}},{"$f":"tabula!#REF!","v":{"$error":"#REF!"}}]
[null,null,{"$f":"tabula!#REF!","v":{"$error":"#REF!"}},{"$f":"tabula!#REF!","v":{"$error":"#REF!"}},{"$f":"tabula!#REF!","v":{"$error":"#REF!"}},{"$f":"tabula!#REF!","v":{"$error":"#REF!"}},{"$f":"tabula!#REF!","v":{"$error":"#REF!"}},{"$f":"tabula!#REF!","v":{"$error":"#REF!"}},{"$f":"tabula!#REF!","v":{"$error":"#REF!"}},{"$f":"tabula!#REF!","v":{"$error":"#REF!"}},{"$f":"tabula!#REF!","v":{"$error":"#REF!"}},{"$f":"tabula!#REF!","v":{"$error":"#REF!"}},{"$f":"tabula!#REF!","v":{"$error":"#REF!"}},{"$f":"tabula!#REF!","v":{"$error":"#REF!"}},{"$f":"tabula!#REF!","v":{"$error":"#REF!"}},{"$f":"tabula!#REF!","v":{"$error":"#REF!"}},{"$f":"tabula!#REF!","v":{"$error":"#REF!"}},{"$f":"tabula!#REF!","v":{"$error":"#REF!"}}]
[null,null,{"$f":"tabula!#REF!","v":{"$error":"#REF!"}},{"$f":"tabula!#REF!","v":{"$error":"#REF!"}},{"$f":"tabula!#REF!","v":{"$error":"#REF!"}},{"$f":"tabula!#REF!","v":{"$error":"#REF!"}},{"$f":"tabula!#REF!","v":{"$error":"#REF!"}},{"$f":"tabula!#REF!","v":{"$error":"#REF!"}},{"$f":"tabula!#REF!","v":{"$error":"#REF!"}},{"$f":"tabula!#REF!","v":{"$error":"#REF!"}},{"$f":"tabula!#REF!","v":{"$error":"#REF!"}},{"$f":"tabula!#REF!","v":{"$error":"#REF!"}},{"$f":"tabula!#REF!","v":{"$error":"#REF!"}},{"$f":"tabula!#REF!","v":{"$error":"#REF!"}},{"$f":"tabula!#REF!","v":{"$error":"#REF!"}},{"$f":"tabula!#REF!","v":{"$error":"#REF!"}},{"$f":"tabula!#REF!","v":{"$error":"#REF!"}},{"$f":"tabula!#REF!","v":{"$error":"#REF!"}}]
[]
[null,null,"LIELDRAUGS                                                  ATBALSTĪTĀJI"]

{"sheet":"raundi","index":3,"n_rows":17,"n_cols":8,"rows_kept":17,"cut":false,"hidden":false,"merged":[[1,1,1,7],[13,1,14,1],[13,2,13,3],[13,4,14,4],[13,6,14,6],[13,7,14,7],[14,2,14,3],[13,5,14,5]]}
[]
[null,{"$f":"CONCATENATE(tabula!C2,\" --> Raundu uzvarētāji\")","v":"Tēva dienas viktorīna LIVE (tiešsaistē/vebinārā) | 2024.gada 8.septembris --> Raundu uzvarētāji"}]
[null,"#","Raunda nosaukums","Dalībnieks","Rezultāts","AVG","MAX","% no max"]
[null,1,{"$f":"TRANSPOSE(tabula!E4:N4)","v":"Pavediens"},"Rupuči, turās!",137,{"$f":"TRANSPOSE('1-50'!E6:N6)","v":93.91},{"$f":"TRANSPOSE(tabula!E5:N5)","v":150},{"$f":"E4/G4","v":0.91333333333333333}]
[null,2,"Vizuālais","Bandītu perēklis",140,92.77,150,{"$f":"E5/G5","v":0.93333333333333335}]
[null,3,"Ekspresis","Tētuks DJV",162,103.16,180,0.9]
[null,4,"Burtu mīkla","Rupuči, turās!",126,57.89,180,0.7]
[null,5,"Ķēde","Pundurplanēta",170,80.38,175,0.97142857142857142]
[null,6,"Latvija","Pirmie matiņi",137,69.709999999999994,150,0.91333333333333333]
[null,7,"Risks: Tēvi un dēli seriālos un kino","Rupuči, turās!",103,40.630000000000003,120,0.85833333333333328]
[null,8,"Kas kopīgs?","nezinu",166,113.2,180,0.92222222222222228]
[null,9,"Liekais pazūd ārpus kastes","VMR",130,55.07,150,0.8666666666666667]
[null,10,"Audio","Tētuks DJV",121,68.8,150,0.80666666666666664]
[null,"-","Uzvarētājs",null,{"$f":"tabula!O7","v":1232},{"$f":"tabula!O6","v":894.2},{"$f":"SUM(G4:G13)","v":1585},{"$f":"E14/G14","v":0.77728706624605681}]
[null,null,{"$f":"'1-50'!D7","v":"Tētuks DJV"}]
[]
[null,"LIELDRAUGS                                     ATBALSTĪTĀJI"]