{"text_format":"1","workbook":"xlsx","n_sheets":4,"sheets":["tabula","1-50","51-100","raundi"],"not_rendered":{"charts":0,"images":19,"macros":0,"external_links":0,"defined_names":3,"comments":0,"pivot_tables":0},"unopened":[],"bounds":{"document_bytes":16777216,"sheet_cells":100000,"rows_first":2000,"rows_last":500,"rows_between":2000,"halvings":0,"cell_chars":16384,"cell_head_chars":4096},"cells_cut":0,"cells_raw":0,"read":"whole","date_system":"1900"}

{"sheet":"tabula","index":0,"n_rows":67,"n_cols":18,"rows_kept":67,"cut":false,"hidden":true,"merged":[[1,2,1,17],[2,1,4,1],[2,2,4,2],[2,3,4,3],[2,14,3,14],[2,15,5,15],[2,16,5,16],[2,17,5,17]]}
[]
[null,null,"\"Sporta viktorīna\" (tiešsaistē / vebinārā) | 2024.gada 12.oktobris"]
[null,"Grupa","#","Dalībnieks | Raunds | Tēma | Max punkti raundā (bez bonusiem) ",1,2,3,4,5,6,7,8,9,10,"KOPĀ","Laiks kopā","Pareizās atbildes (max 68)","Vid.laiks uz 1 pareizo atb."]
[null,null,null,null,"Pavediens","Divas atbildes","Ekspresis","Burtu mīkla","Ķēde","Latvija","Risks","Kas kopīgs?","Liekais pazūd ārpus kastes","Audio"]
[null,null,null,null,150,180,{"$f":"15*12","v":180},180,175,150,120,180,150,150,{"$f":"SUM(E5:N5)","v":1615}]
[null,null,null,"Vidēji p-ti raundā",{"$f":"ROUND(AVERAGE(E7:E61),1)","v":74.7},80.400000000000006,97.3,55.1,82.8,63.2,-9.4,86.8,70.7,54.9,656.3]
[null,3,1,"Laura Davies",107,133,134,116,114,114,40,143,151,75,1127,"09 min. 08,799",61,"08,997 sek."]
[null,1,2,"Saule20",95,110,117,85,148,115,39,126,122,101,1058,"09 min. 46,024",60,"09,767 sek."]
[null,1,3,"Iezvanpieeja",114,128,136,91,141,96,25,78,130,65,1004,"05 min. 37,513",52,"06,491 sek."]
[null,3,4,"All I want for Xmas is Dukla Prague Away Kit",95,126,115,120,122,114,47,89,120,18,966,"05 min. 03,634",49,"06,197 sek."]
[null,1,5,"kristiansd",107,100,117,81,135,76,46,125,82,71,940,"07 min. 52,242",53,"08,910 sek."]
[null,3,6,"VĪRIETIS AR PUSCIETU",96,72,99,76,102,108,35,105,149,74,916,"07 min. 52,800",51,"09,271 sek."]
[null,1,7,"“Tev tas liekas normāli?”",96,113,134,76,137,67,38,143,15,92,911,"05 min. 53,579",49,"07,216 sek."]
[null,1,8,"Džons MakKleins",81,104,102,78,142,87,20,133,6,83,836,"07 min. 01,629",47,"08,971 sek."]
[null,2,9,"Charis",102,64,129,74,128,80,-20,114,89,50,810,"06 min. 42,029",47,"08,554 sek."]
[null,3,10,"henks77",96,142,93,63,35,119,5,85,133,36,807,"08 min. 32,038",46,"11,131 sek."]
[null,2,11,"HektoraKristaps",94,79,121,74,65,89,-12,119,118,59,806,"05 min. 50,519",44,"07,966 sek."]
[null,2,12,"callmecoco",90,111,95,83,117,95,41,92,52,16,792,"09 min. 28,813",48,"11,850 sek."]
[null,2,13,"ROGAS",88,85,80,54,89,91,11,102,93,69,762,"08 min. 31,589",46,"11,122 sek."]
[null,3,14,"Marinē divatā",63,46,84,88,99,72,24,100,65,88,729,"08 min. 42,929",45,"11,621 sek."]
[null,1,15,"Birmingham City",72,99,129,58,68,71,2,78,99,47,723,"10 min. 22,343",48,"12,965 sek."]
[null,3,16,"BK Burunduks",80,96,133,73,39,47,68,90,58,38,722,"10 min. 09,333",48,"12,694 sek."]
[null,3,17,"Tonijs Kukočs",73,65,127,57,118,68,-39,111,51,85,716,"06 min. 13,871",43,"08,695 sek."]
[null,3,18,"Badijs spēlē viktorīnu",76,71,91,35,67,46,53,76,133,67,715,"09 min. 06,420",44,"12,419 sek."]
[null,1,19,"Raymz&co",80,86,109,67,158,0,-40,77,66,99,702,"05 min. 48,804",40,"08,720 sek."]
[null,1,20,"Brians",87,122,72,39,137,102,-74,94,70,51,700,"07 min. 44,578",44,"10,559 sek."]
[null,3,21,"Twister&Dobby",43,74,96,76,97,78,2,101,77,52,696,"06 min. 46,193",41,"09,907 sek."]
[null,null,22,"Tille Amarille",12,88,99,39,133,92,19,74,30,109,695,"05 min. 19,642",39,"08,196 sek."]
[null,null,23,"Buldzis",82,92,121,61,49,114,-14,103,60,24,692,"05 min. 59,091",40,"08,977 sek."]
[null,null,24,"Hasenpoth Stabendrill",83,67,118,37,80,49,-4,132,54,71,687,"06 min. 06,992",42,"08,738 sek."]
[null,null,25,"Vilciņi",62,72,109,61,93,64,29,103,58,35,686,"13 min. 27,419",50,"16,148 sek."]
[null,null,26,"Larijs",81,112,83,73,40,23,31,102,92,41,678,"09 min. 38,790",43,"13,460 sek."]
[null,null,27,"Suituceļš ⬛️",86,72,68,84,68,98,11,95,53,38,673,"08 min. 57,239",42,"12,791 sek."]
[null,null,28,"Šlesers",91,79,64,82,84,109,-43,89,29,63,647,"08 min. 03,131",41,"11,784 sek."]
[null,null,29,"Pirmie no beigām",105,75,126,36,81,43,-10,29,80,57,622,"06 min. 20,862",40,"09,522 sek."]
[null,null,30,"kD",75,53,105,36,103,42,-8,78,66,66,616,"09 min. 09,817",42,"13,091 sek."]
[null,null,31,"Swan",53,108,138,77,71,64,10,70,0,24,615,"04 min. 59,906",37,"08,106 sek."]
[null,null,32,"KAPIS",82,82,123,46,100,30,-7,60,45,52,613,"08 min. 56,360",41,"13,082 sek."]
[null,null,33,"Klieši & Draugi",70,90,49,50,116,41,-29,82,69,71,609,"11 min. 03,136",46,"14,416 sek."]
[null,null,34,"Balodīši",79,48,87,26,93,39,-6,101,70,58,595,"06 min. 06,384",36,"10,177 sek."]
[null,null,35,"Zemgus",60,74,123,34,0,38,3,69,120,59,580,"04 min. 47,755",34,"08,463 sek."]
[null,null,36,"Džezā tikai buļļi",65,82,64,31,91,58,-23,87,76,43,574,"08 min. 54,701",39,"13,710 sek."]
[null,null,37,"ADB",64,82,82,18,65,84,-69,97,29,101,553,"05 min. 36,273",36,"09,341 sek."]
[null,null,38,"Viesis",75,54,70,23,107,90,-69,65,102,35,552,"07 min. 30,748",37,"12,182 sek."]
[null,null,39,"Tiger",64,60,139,0,21,60,-18,46,49,111,532,"03 min. 43,860",32,"06,996 sek."]
[null,null,40,"Ābolu bāze",76,80,74,35,40,100,8,68,11,40,532,"09 min. 22,035",40,"14,051 sek."]
[null,null,41,"ttomstt",57,70,80,45,60,9,-10,68,97,37,513,"09 min. 11,176",36,"15,310 sek."]
[null,null,42,"Tagad zinu - ko nezināju!",77,57,60,43,102,21,-54,112,27,67,512,"05 min. 43,638",34,"10,107 sek."]
[null,null,43,"Datu speciālisti",66,53,59,65,60,48,-20,88,55,32,506,"09 min. 22,838",38,"14,812 sek."]
[null,null,44,"Gatiņa dienasgrāmata",46,78,59,24,84,35,-36,105,48,57,500,"06 min. 23,310",31,"12,365 sek."]
[null,null,45,"#223",91,82,42,52,53,40,-14,71,21,59,497,"07 min. 51,840",34,"13,878 sek."]
[null,null,46,"Trejdeksnis",58,47,94,26,37,98,-3,64,66,0,487,"08 min. 25,576",36,"14,044 sek."]
[null,null,47,"Stams",54,69,76,47,60,30,-31,131,21,23,480,"09 min. 12,295",37,"14,927 sek."]
[null,null,48,"Stabu iela",75,81,75,24,65,48,-56,77,30,55,474,"07 min. 35,726",35,"13,021 sek."]
[null,null,49,"pohinshXS",75,25,124,42,23,71,-70,24,120,23,457,"02 min. 59,090",29,"06,176 sek."]
[null,null,50,"KOBIJS",47,64,136,46,28,19,-98,97,86,15,440,"04 min. 27,375",32,"08,355 sek."]
[null,null,51,"Пьяные белки",62,69,55,63,20,25,-34,59,81,37,437,"06 min. 20,754",32,"11,899 sek."]
[null,null,52,"pa zoino / kapela julijs",63,74,92,33,44,37,-89,89,41,51,435,"06 min. 11,882",33,"11,269 sek."]
[null,null,53,"h2o",51,60,92,49,91,0,-40,42,23,63,431,"05 min. 32,273",30,"11,076 sek."]
[null,null,54,"LegFeelsGood",23,51,104,18,84,0,-56,16,134,0,374,"03 min. 51,036",27,"08,557 sek."]
[null,null,55,"Skaidrītes ŠUUUUUUU",62,45,46,43,48,20,-27,0,65,64,366,"05 min. 45,224",27,"12,786 sek."]
[null,null,56,"Luge LV",61,79,54,29,23,18,-77,71,30,73,361,"03 min. 34,242",23,"09,315 sek."]
[null,null,57,"Načo",47,24,65,0,67,11,-9,68,17,57,347,"05 min. 24,198",25,"12,968 sek."]
[null,null,58,"TheChosenOnes",31,65,61,21,57,12,-34,42,43,32,330,"08 min. 10,843",31,"15,834 sek."]
[null,null,59,"TKZ93",null,null,72,35,24,48,-9,83,27,41,321,"06 min. 29,938",26,"14,998 sek."]
[null,null,60,"skipthelegday",34,69,44,27,23,0,-22,50,18,49,292,"05 min. 23,355",24,"13,473 sek."]
[null,null,61,"Tikai mieru!!",20,24,54,41,44,36,-36,50,0,27,260,"05 min. 27,206",24,"13,634 sek."]

{"sheet":"1-50","index":1,"n_rows":69,"n_cols":18,"rows_kept":69,"cut":false,"hidden":false,"merged":[[1,2,1,17],[2,1,4,1],[2,2,4,2],[2,3,4,3],[2,14,3,14],[2,15,5,15],[2,16,5,16],[2,17,5,17]]}
[]
[null,null,{"$f":"tabula!C2","v":"\"Sporta viktorīna\" (tiešsaistē / vebinārā) | 2024.gada 12.oktobris"}]
[null,"Grupa",{"$f":"tabula!C3","v":"#"},{"$f":"tabula!D3","v":"Dalībnieks | Raunds | Tēma | Max punkti raundā (bez bonusiem) "},{"$f":"tabula!E3","v":1},{"$f":"tabula!F3","v":2},{"$f":"tabula!G3","v":3},{"$f":"tabula!H3","v":4},{"$f":"tabula!I3","v":5},{"$f":"tabula!J3","v":6},{"$f":"tabula!K3","v":7},{"$f":"tabula!L3","v":8},{"$f":"tabula!M3","v":9},{"$f":"tabula!N3","v":10},{"$f":"tabula!O3","v":"KOPĀ"},{"$f":"tabula!P3","v":"Laiks kopā"},{"$f":"tabula!Q3","v":"Pareizās atbildes (max 68)"},{"$f":"tabula!R3","v":"Vid.laiks uz 1 pareizo atb."}]
[null,null,null,null,{"$f":"tabula!E4","v":"Pavediens"},{"$f":"tabula!F4","v":"Divas atbildes"},{"$f":"tabula!G4","v":"Ekspresis"},{"$f":"tabula!H4","v":"Burtu mīkla"},{"$f":"tabula!I4","v":"Ķēde"},{"$f":"tabula!J4","v":"Latvija"},{"$f":"tabula!K4","v":"Risks"},{"$f":"tabula!L4","v":"Kas kopīgs?"},{"$f":"tabula!M4","v":"Liekais pazūd ārpus kastes"},{"$f":"tabula!N4","v":"Audio"}]
[null,null,null,null,{"$f":"tabula!E5","v":150},{"$f":"tabula!F5","v":180},{"$f":"tabula!G5","v":180},{"$f":"tabula!H5","v":180},175,{"$f":"tabula!J5","v":150},{"$f":"tabula!K5","v":120},{"$f":"tabula!L5","v":180},{"$f":"tabula!M5","v":150},{"$f":"tabula!N5","v":150},{"$f":"tabula!O5","v":1615}]
[null,null,null,{"$f":"tabula!D6","v":"Vidēji p-ti raundā"},{"$f":"tabula!E6","v":74.7},{"$f":"tabula!F6","v":80.400000000000006},{"$f":"tabula!G6","v":97.3},{"$f":"tabula!H6","v":55.1},{"$f":"tabula!I6","v":82.8},{"$f":"tabula!J6","v":63.2},{"$f":"tabula!K6","v":-9.4},{"$f":"tabula!L6","v":86.8},{"$f":"tabula!M6","v":70.7},{"$f":"tabula!N6","v":54.9},{"$f":"tabula!O6","v":656.3}]
[null,3,{"$f":"tabula!C7","v":1},{"$f":"tabula!D7","v":"Laura Davies"},{"$f":"tabula!E7","v":107},{"$f":"tabula!F7","v":133},{"$f":"tabula!G7","v":134},{"$f":"tabula!H7","v":116},{"$f":"tabula!I7","v":114},{"$f":"tabula!J7","v":114},{"$f":"tabula!K7","v":40},{"$f":"tabula!L7","v":143},{"$f":"tabula!M7","v":151},{"$f":"tabula!N7","v":75},{"$f":"tabula!O7","v":1127},{"$f":"tabula!P7","v":"09 min. 08,799"},{"$f":"tabula!Q7","v":61},{"$f":"tabula!R7","v":"08,997 sek."}]
[null,1,{"$f":"tabula!C8","v":2},{"$f":"tabula!D8","v":"Saule20"},{"$f":"tabula!E8","v":95},{"$f":"tabula!F8","v":110},{"$f":"tabula!G8","v":117},{"$f":"tabula!H8","v":85},{"$f":"tabula!I8","v":148},{"$f":"tabula!J8","v":115},{"$f":"tabula!K8","v":39},{"$f":"tabula!L8","v":126},{"$f":"tabula!M8","v":122},{"$f":"tabula!N8","v":101},{"$f":"tabula!O8","v":1058},{"$f":"tabula!P8","v":"09 min. 46,024"},{"$f":"tabula!Q8","v":60},{"$f":"tabula!R8","v":"09,767 sek."}]
[null,1,{"$f":"tabula!C9","v":3},{"$f":"tabula!D9","v":"Iezvanpieeja"},{"$f":"tabula!E9","v":114},{"$f":"tabula!F9","v":128},{"$f":"tabula!G9","v":136},{"$f":"tabula!H9","v":91},{"$f":"tabula!I9","v":141},{"$f":"tabula!J9","v":96},{"$f":"tabula!K9","v":25},{"$f":"tabula!L9","v":78},{"$f":"tabula!M9","v":130},{"$f":"tabula!N9","v":65},{"$f":"tabula!O9","v":1004},{"$f":"tabula!P9","v":"05 min. 37,513"},{"$f":"tabula!Q9","v":52},{"$f":"tabula!R9","v":"06,491 sek."}]
[null,3,{"$f":"tabula!C10","v":4},{"$f":"tabula!D10","v":"All I want for Xmas is Dukla Prague Away Kit"},{"$f":"tabula!E10","v":95},{"$f":"tabula!F10","v":126},{"$f":"tabula!G10","v":115},{"$f":"tabula!H10","v":120},{"$f":"tabula!I10","v":122},{"$f":"tabula!J10","v":114},{"$f":"tabula!K10","v":47},{"$f":"tabula!L10","v":89},{"$f":"tabula!M10","v":120},{"$f":"tabula!N10","v":18},{"$f":"tabula!O10","v":966},{"$f":"tabula!P10","v":"05 min. 03,634"},{"$f":"tabula!Q10","v":49},{"$f":"tabula!R10","v":"06,197 sek."}]
[null,1,{"$f":"tabula!C11","v":5},{"$f":"tabula!D11","v":"kristiansd"},{"$f":"tabula!E11","v":107},{"$f":"tabula!F11","v":100},{"$f":"tabula!G11","v":117},{"$f":"tabula!H11","v":81},{"$f":"tabula!I11","v":135},{"$f":"tabula!J11","v":76},{"$f":"tabula!K11","v":46},{"$f":"tabula!L11","v":125},{"$f":"tabula!M11","v":82},{"$f":"tabula!N11","v":71},{"$f":"tabula!O11","v":940},{"$f":"tabula!P11","v":"07 min. 52,242"},{"$f":"tabula!Q11","v":53},{"$f":"tabula!R11","v":"08,910 sek."}]
[null,3,{"$f":"tabula!C12","v":6},{"$f":"tabula!D12","v":"VĪRIETIS AR PUSCIETU"},{"$f":"tabula!E12","v":96},{"$f":"tabula!F12","v":72},{"$f":"tabula!G12","v":99},{"$f":"tabula!H12","v":76},{"$f":"tabula!I12","v":102},{"$f":"tabula!J12","v":108},{"$f":"tabula!K12","v":35},{"$f":"tabula!L12","v":105},{"$f":"tabula!M12","v":149},{"$f":"tabula!N12","v":74},{"$f":"tabula!O12","v":916},{"$f":"tabula!P12","v":"07 min. 52,800"},{"$f":"tabula!Q12","v":51},{"$f":"tabula!R12","v":"09,271 sek."}]
[null,1,{"$f":"tabula!C13","v":7},{"$f":"tabula!D13","v":"“Tev tas liekas normāli?”"},{"$f":"tabula!E13","v":96},{"$f":"tabula!F13","v":113},{"$f":"tabula!G13","v":134},{"$f":"tabula!H13","v":76},{"$f":"tabula!I13","v":137},{"$f":"tabula!J13","v":67},{"$f":"tabula!K13","v":38},{"$f":"tabula!L13","v":143},{"$f":"tabula!M13","v":15},{"$f":"tabula!N13","v":92},{"$f":"tabula!O13","v":911},{"$f":"tabula!P13","v":"05 min. 53,579"},{"$f":"tabula!Q13","v":49},{"$f":"tabula!R13","v":"07,216 sek."}]
[null,1,{"$f":"tabula!C14","v":8},{"$f":"tabula!D14","v":"Džons MakKleins"},{"$f":"tabula!E14","v":81},{"$f":"tabula!F14","v":104},{"$f":"tabula!G14","v":102},{"$f":"tabula!H14","v":78},{"$f":"tabula!I14","v":142},{"$f":"tabula!J14","v":87},{"$f":"tabula!K14","v":20},{"$f":"tabula!L14","v":133},{"$f":"tabula!M14","v":6},{"$f":"tabula!N14","v":83},{"$f":"tabula!O14","v":836},{"$f":"tabula!P14","v":"07 min. 01,629"},{"$f":"tabula!Q14","v":47},{"$f":"tabula!R14","v":"08,971 sek."}]
[null,2,{"$f":"tabula!C15","v":9},{"$f":"tabula!D15","v":"Charis"},{"$f":"tabula!E15","v":102},{"$f":"tabula!F15","v":64},{"$f":"tabula!G15","v":129},{"$f":"tabula!H15","v":74},{"$f":"tabula!I15","v":128},{"$f":"tabula!J15","v":80},{"$f":"tabula!K15","v":-20},{"$f":"tabula!L15","v":114},{"$f":"tabula!M15","v":89},{"$f":"tabula!N15","v":50},{"$f":"tabula!O15","v":810},{"$f":"tabula!P15","v":"06 min. 42,029"},{"$f":"tabula!Q15","v":47},{"$f":"tabula!R15","v":"08,554 sek."}]
[null,3,{"$f":"tabula!C16","v":10},{"$f":"tabula!D16","v":"henks77"},{"$f":"tabula!E16","v":96},{"$f":"tabula!F16","v":142},{"$f":"tabula!G16","v":93},{"$f":"tabula!H16","v":63},{"$f":"tabula!I16","v":35},{"$f":"tabula!J16","v":119},{"$f":"tabula!K16","v":5},{"$f":"tabula!L16","v":85},{"$f":"tabula!M16","v":133},{"$f":"tabula!N16","v":36},{"$f":"tabula!O16","v":807},{"$f":"tabula!P16","v":"08 min. 32,038"},{"$f":"tabula!Q16","v":46},{"$f":"tabula!R16","v":"11,131 sek."}]
[null,2,{"$f":"tabula!C17","v":11},{"$f":"tabula!D17","v":"HektoraKristaps"},{"$f":"tabula!E17","v":94},{"$f":"tabula!F17","v":79},{"$f":"tabula!G17","v":121},{"$f":"tabula!H17","v":74},{"$f":"tabula!I17","v":65},{"$f":"tabula!J17","v":89},{"$f":"tabula!K17","v":-12},{"$f":"tabula!L17","v":119},{"$f":"tabula!M17","v":118},{"$f":"tabula!N17","v":59},{"$f":"tabula!O17","v":806},{"$f":"tabula!P17","v":"05 min. 50,519"},{"$f":"tabula!Q17","v":44},{"$f":"tabula!R17","v":"07,966 sek."}]
[null,2,{"$f":"tabula!C18","v":12},{"$f":"tabula!D18","v":"callmecoco"},{"$f":"tabula!E18","v":90},{"$f":"tabula!F18","v":111},{"$f":"tabula!G18","v":95},{"$f":"tabula!H18","v":83},{"$f":"tabula!I18","v":117},{"$f":"tabula!J18","v":95},{"$f":"tabula!K18","v":41},{"$f":"tabula!L18","v":92},{"$f":"tabula!M18","v":52},{"$f":"tabula!N18","v":16},{"$f":"tabula!O18","v":792},{"$f":"tabula!P18","v":"09 min. 28,813"},{"$f":"tabula!Q18","v":48},{"$f":"tabula!R18","v":"11,850 sek."}]
[null,2,{"$f":"tabula!C19","v":13},{"$f":"tabula!D19","v":"ROGAS"},{"$f":"tabula!E19","v":88},{"$f":"tabula!F19","v":85},{"$f":"tabula!G19","v":80},{"$f":"tabula!H19","v":54},{"$f":"tabula!I19","v":89},{"$f":"tabula!J19","v":91},{"$f":"tabula!K19","v":11},{"$f":"tabula!L19","v":102},{"$f":"tabula!M19","v":93},{"$f":"tabula!N19","v":69},{"$f":"tabula!O19","v":762},{"$f":"tabula!P19","v":"08 min. 31,589"},{"$f":"tabula!Q19","v":46},{"$f":"tabula!R19","v":"11,122 sek."}]
[null,3,{"$f":"tabula!C20","v":14},{"$f":"tabula!D20","v":"Marinē divatā"},{"$f":"tabula!E20","v":63},{"$f":"tabula!F20","v":46},{"$f":"tabula!G20","v":84},{"$f":"tabula!H20","v":88},{"$f":"tabula!I20","v":99},{"$f":"tabula!J20","v":72},{"$f":"tabula!K20","v":24},{"$f":"tabula!L20","v":100},{"$f":"tabula!M20","v":65},{"$f":"tabula!N20","v":88},{"$f":"tabula!O20","v":729},{"$f":"tabula!P20","v":"08 min. 42,929"},{"$f":"tabula!Q20","v":45},{"$f":"tabula!R20","v":"11,621 sek."}]
[null,1,{"$f":"tabula!C21","v":15},{"$f":"tabula!D21","v":"Birmingham City"},{"$f":"tabula!E21","v":72},{"$f":"tabula!F21","v":99},{"$f":"tabula!G21","v":129},{"$f":"tabula!H21","v":58},{"$f":"tabula!I21","v":68},{"$f":"tabula!J21","v":71},{"$f":"tabula!K21","v":2},{"$f":"tabula!L21","v":78},{"$f":"tabula!M21","v":99},{"$f":"tabula!N21","v":47},{"$f":"tabula!O21","v":723},{"$f":"tabula!P21","v":"10 min. 22,343"},{"$f":"tabula!Q21","v":48},{"$f":"tabula!R21","v":"12,965 sek."}]
[null,3,{"$f":"tabula!C22","v":16},{"$f":"tabula!D22","v":"BK Burunduks"},{"$f":"tabula!E22","v":80},{"$f":"tabula!F22","v":96},{"$f":"tabula!G22","v":133},{"$f":"tabula!H22","v":73},{"$f":"tabula!I22","v":39},{"$f":"tabula!J22","v":47},{"$f":"tabula!K22","v":68},{"$f":"tabula!L22","v":90},{"$f":"tabula!M22","v":58},{"$f":"tabula!N22","v":38},{"$f":"tabula!O22","v":722},{"$f":"tabula!P22","v":"10 min. 09,333"},{"$f":"tabula!Q22","v":48},{"$f":"tabula!R22","v":"12,694 sek."}]
[null,3,{"$f":"tabula!C23","v":17},{"$f":"tabula!D23","v":"Tonijs Kukočs"},{"$f":"tabula!E23","v":73},{"$f":"tabula!F23","v":65},{"$f":"tabula!G23","v":127},{"$f":"tabula!H23","v":57},{"$f":"tabula!I23","v":118},{"$f":"tabula!J23","v":68},{"$f":"tabula!K23","v":-39},{"$f":"tabula!L23","v":111},{"$f":"tabula!M23","v":51},{"$f":"tabula!N23","v":85},{"$f":"tabula!O23","v":716},{"$f":"tabula!P23","v":"06 min. 13,871"},{"$f":"tabula!Q23","v":43},{"$f":"tabula!R23","v":"08,695 sek."}]
[null,3,{"$f":"tabula!C24","v":18},{"$f":"tabula!D24","v":"Badijs spēlē viktorīnu"},{"$f":"tabula!E24","v":76},{"$f":"tabula!F24","v":71},{"$f":"tabula!G24","v":91},{"$f":"tabula!H24","v":35},{"$f":"tabula!I24","v":67},{"$f":"tabula!J24","v":46},{"$f":"tabula!K24","v":53},{"$f":"tabula!L24","v":76},{"$f":"tabula!M24","v":133},{"$f":"tabula!N24","v":67},{"$f":"tabula!O24","v":715},{"$f":"tabula!P24","v":"09 min. 06,420"},{"$f":"tabula!Q24","v":44},{"$f":"tabula!R24","v":"12,419 sek."}]
[null,1,{"$f":"tabula!C25","v":19},{"$f":"tabula!D25","v":"Raymz&co"},{"$f":"tabula!E25","v":80},{"$f":"tabula!F25","v":86},{"$f":"tabula!G25","v":109},{"$f":"tabula!H25","v":67},{"$f":"tabula!I25","v":158},{"$f":"tabula!J25","v":0},{"$f":"tabula!K25","v":-40},{"$f":"tabula!L25","v":77},{"$f":"tabula!M25","v":66},{"$f":"tabula!N25","v":99},{"$f":"tabula!O25","v":702},{"$f":"tabula!P25","v":"05 min. 48,804"},{"$f":"tabula!Q25","v":40},{"$f":"tabula!R25","v":"08,720 sek."}]
[null,1,{"$f":"tabula!C26","v":20},{"$f":"tabula!D26","v":"Brians"},{"$f":"tabula!E26","v":87},{"$f":"tabula!F26","v":122},{"$f":"tabula!G26","v":72},{"$f":"tabula!H26","v":39},{"$f":"tabula!I26","v":137},{"$f":"tabula!J26","v":102},{"$f":"tabula!K26","v":-74},{"$f":"tabula!L26","v":94},{"$f":"tabula!M26","v":70},{"$f":"tabula!N26","v":51},{"$f":"tabula!O26","v":700},{"$f":"tabula!P26","v":"07 min. 44,578"},{"$f":"tabula!Q26","v":44},{"$f":"tabula!R26","v":"10,559 sek."}]
[null,3,{"$f":"tabula!C27","v":21},{"$f":"tabula!D27","v":"Twister&Dobby"},{"$f":"tabula!E27","v":43},{"$f":"tabula!F27","v":74},{"$f":"tabula!G27","v":96},{"$f":"tabula!H27","v":76},{"$f":"tabula!I27","v":97},{"$f":"tabula!J27","v":78},{"$f":"tabula!K27","v":2},{"$f":"tabula!L27","v":101},{"$f":"tabula!M27","v":77},{"$f":"tabula!N27","v":52},{"$f":"tabula!O27","v":696},{"$f":"tabula!P27","v":"06 min. 46,193"},{"$f":"tabula!Q27","v":41},{"$f":"tabula!R27","v":"09,907 sek."}]
[null,null,{"$f":"tabula!C28","v":22},{"$f":"tabula!D28","v":"Tille Amarille"},{"$f":"tabula!E28","v":12},{"$f":"tabula!F28","v":88},{"$f":"tabula!G28","v":99},{"$f":"tabula!H28","v":39},{"$f":"tabula!I28","v":133},{"$f":"tabula!J28","v":92},{"$f":"tabula!K28","v":19},{"$f":"tabula!L28","v":74},{"$f":"tabula!M28","v":30},{"$f":"tabula!N28","v":109},{"$f":"tabula!O28","v":695},{"$f":"tabula!P28","v":"05 min. 19,642"},{"$f":"tabula!Q28","v":39},{"$f":"tabula!R28","v":"08,196 sek."}]
[null,null,{"$f":"tabula!C29","v":23},{"$f":"tabula!D29","v":"Buldzis"},{"$f":"tabula!E29","v":82},{"$f":"tabula!F29","v":92},{"$f":"tabula!G29","v":121},{"$f":"tabula!H29","v":61},{"$f":"tabula!I29","v":49},{"$f":"tabula!J29","v":114},{"$f":"tabula!K29","v":-14},{"$f":"tabula!L29","v":103},{"$f":"tabula!M29","v":60},{"$f":"tabula!N29","v":24},{"$f":"tabula!O29","v":692},{"$f":"tabula!P29","v":"05 min. 59,091"},{"$f":"tabula!Q29","v":40},{"$f":"tabula!R29","v":"08,977 sek."}]
[null,null,{"$f":"tabula!C30","v":24},{"$f":"tabula!D30","v":"Hasenpoth Stabendrill"},{"$f":"tabula!E30","v":83},{"$f":"tabula!F30","v":67},{"$f":"tabula!G30","v":118},{"$f":"tabula!H30","v":37},{"$f":"tabula!I30","v":80},{"$f":"tabula!J30","v":49},{"$f":"tabula!K30","v":-4},{"$f":"tabula!L30","v":132},{"$f":"tabula!M30","v":54},{"$f":"tabula!N30","v":71},{"$f":"tabula!O30","v":687},{"$f":"tabula!P30","v":"06 min. 06,992"},{"$f":"tabula!Q30","v":42},{"$f":"tabula!R30","v":"08,738 sek."}]
[null,null,{"$f":"tabula!C31","v":25},{"$f":"tabula!D31","v":"Vilciņi"},{"$f":"tabula!E31","v":62},{"$f":"tabula!F31","v":72},{"$f":"tabula!G31","v":109},{"$f":"tabula!H31","v":61},{"$f":"tabula!I31","v":93},{"$f":"tabula!J31","v":64},{"$f":"tabula!K31","v":29},{"$f":"tabula!L31","v":103},{"$f":"tabula!M31","v":58},{"$f":"tabula!N31","v":35},{"$f":"tabula!O31","v":686},{"$f":"tabula!P31","v":"13 min. 27,419"},{"$f":"tabula!Q31","v":50},{"$f":"tabula!R31","v":"16,148 sek."}]
[null,null,{"$f":"tabula!C32","v":26},{"$f":"tabula!D32","v":"Larijs"},{"$f":"tabula!E32","v":81},{"$f":"tabula!F32","v":112},{"$f":"tabula!G32","v":83},{"$f":"tabula!H32","v":73},{"$f":"tabula!I32","v":40},{"$f":"tabula!J32","v":23},{"$f":"tabula!K32","v":31},{"$f":"tabula!L32","v":102},{"$f":"tabula!M32","v":92},{"$f":"tabula!N32","v":41},{"$f":"tabula!O32","v":678},{"$f":"tabula!P32","v":"09 min. 38,790"},{"$f":"tabula!Q32","v":43},{"$f":"tabula!R32","v":"13,460 sek."}]
[null,null,{"$f":"tabula!C33","v":27},{"$f":"tabula!D33","v":"Suituceļš ⬛️"},{"$f":"tabula!E33","v":86},{"$f":"tabula!F33","v":72},{"$f":"tabula!G33","v":68},{"$f":"tabula!H33","v":84},{"$f":"tabula!I33","v":68},{"$f":"tabula!J33","v":98},{"$f":"tabula!K33","v":11},{"$f":"tabula!L33","v":95},{"$f":"tabula!M33","v":53},{"$f":"tabula!N33","v":38},{"$f":"tabula!O33","v":673},{"$f":"tabula!P33","v":"08 min. 57,239"},{"$f":"tabula!Q33","v":42},{"$f":"tabula!R33","v":"12,791 sek."}]
[null,null,{"$f":"tabula!C34","v":28},{"$f":"tabula!D34","v":"Šlesers"},{"$f":"tabula!E34","v":91},{"$f":"tabula!F34","v":79},{"$f":"tabula!G34","v":64},{"$f":"tabula!H34","v":82},{"$f":"tabula!I34","v":84},{"$f":"tabula!J34","v":109},{"$f":"tabula!K34","v":-43},{"$f":"tabula!L34","v":89},{"$f":"tabula!M34","v":29},{"$f":"tabula!N34","v":63},{"$f":"tabula!O34","v":647},{"$f":"tabula!P34","v":"08 min. 03,131"},{"$f":"tabula!Q34","v":41},{"$f":"tabula!R34","v":"11,784 sek."}]
[null,null,{"$f":"tabula!C35","v":29},{"$f":"tabula!D35","v":"Pirmie no beigām"},{"$f":"tabula!E35","v":105},{"$f":"tabula!F35","v":75},{"$f":"tabula!G35","v":126},{"$f":"tabula!H35","v":36},{"$f":"tabula!I35","v":81},{"$f":"tabula!J35","v":43},{"$f":"tabula!K35","v":-10},{"$f":"tabula!L35","v":29},{"$f":"tabula!M35","v":80},{"$f":"tabula!N35","v":57},{"$f":"tabula!O35","v":622},{"$f":"tabula!P35","v":"06 min. 20,862"},{"$f":"tabula!Q35","v":40},{"$f":"tabula!R35","v":"09,522 sek."}]
[null,null,{"$f":"tabula!C36","v":30},{"$f":"tabula!D36","v":"kD"},{"$f":"tabula!E36","v":75},{"$f":"tabula!F36","v":53},{"$f":"tabula!G36","v":105},{"$f":"tabula!H36","v":36},{"$f":"tabula!I36","v":103},{"$f":"tabula!J36","v":42},{"$f":"tabula!K36","v":-8},{"$f":"tabula!L36","v":78},{"$f":"tabula!M36","v":66},{"$f":"tabula!N36","v":66},{"$f":"tabula!O36","v":616},{"$f":"tabula!P36","v":"09 min. 09,817"},{"$f":"tabula!Q36","v":42},{"$f":"tabula!R36","v":"13,091 sek."}]
[null,null,{"$f":"tabula!C37","v":31},{"$f":"tabula!D37","v":"Swan"},{"$f":"tabula!E37","v":53},{"$f":"tabula!F37","v":108},{"$f":"tabula!G37","v":138},{"$f":"tabula!H37","v":77},{"$f":"tabula!I37","v":71},{"$f":"tabula!J37","v":64},{"$f":"tabula!K37","v":10},{"$f":"tabula!L37","v":70},{"$f":"tabula!M37","v":0},{"$f":"tabula!N37","v":24},{"$f":"tabula!O37","v":615},{"$f":"tabula!P37","v":"04 min. 59,906"},{"$f":"tabula!Q37","v":37},{"$f":"tabula!R37","v":"08,106 sek."}]
[null,null,{"$f":"tabula!C38","v":32},{"$f":"tabula!D38","v":"KAPIS"},{"$f":"tabula!E38","v":82},{"$f":"tabula!F38","v":82},{"$f":"tabula!G38","v":123},{"$f":"tabula!H38","v":46},{"$f":"tabula!I38","v":100},{"$f":"tabula!J38","v":30},{"$f":"tabula!K38","v":-7},{"$f":"tabula!L38","v":60},{"$f":"tabula!M38","v":45},{"$f":"tabula!N38","v":52},{"$f":"tabula!O38","v":613},{"$f":"tabula!P38","v":"08 min. 56,360"},{"$f":"tabula!Q38","v":41},{"$f":"tabula!R38","v":"13,082 sek."}]
[null,null,{"$f":"tabula!C39","v":33},{"$f":"tabula!D39","v":"Klieši & Draugi"},{"$f":"tabula!E39","v":70},{"$f":"tabula!F39","v":90},{"$f":"tabula!G39","v":49},{"$f":"tabula!H39","v":50},{"$f":"tabula!I39","v":116},{"$f":"tabula!J39","v":41},{"$f":"tabula!K39","v":-29},{"$f":"tabula!L39","v":82},{"$f":"tabula!M39","v":69},{"$f":"tabula!N39","v":71},{"$f":"tabula!O39","v":609},{"$f":"tabula!P39","v":"11 min. 03,136"},{"$f":"tabula!Q39","v":46},{"$f":"tabula!R39","v":"14,416 sek."}]
[null,null,{"$f":"tabula!C40","v":34},{"$f":"tabula!D40","v":"Balodīši"},{"$f":"tabula!E40","v":79},{"$f":"tabula!F40","v":48},{"$f":"tabula!G40","v":87},{"$f":"tabula!H40","v":26},{"$f":"tabula!I40","v":93},{"$f":"tabula!J40","v":39},{"$f":"tabula!K40","v":-6},{"$f":"tabula!L40","v":101},{"$f":"tabula!M40","v":70},{"$f":"tabula!N40","v":58},{"$f":"tabula!O40","v":595},{"$f":"tabula!P40","v":"06 min. 06,384"},{"$f":"tabula!Q40","v":36},{"$f":"tabula!R40","v":"10,177 sek."}]
[null,null,{"$f":"tabula!C41","v":35},{"$f":"tabula!D41","v":"Zemgus"},{"$f":"tabula!E41","v":60},{"$f":"tabula!F41","v":74},{"$f":"tabula!G41","v":123},{"$f":"tabula!H41","v":34},{"$f":"tabula!I41","v":0},{"$f":"tabula!J41","v":38},{"$f":"tabula!K41","v":3},{"$f":"tabula!L41","v":69},{"$f":"tabula!M41","v":120},{"$f":"tabula!N41","v":59},{"$f":"tabula!O41","v":580},{"$f":"tabula!P41","v":"04 min. 47,755"},{"$f":"tabula!Q41","v":34},{"$f":"tabula!R41","v":"08,463 sek."}]
[null,null,{"$f":"tabula!C42","v":36},{"$f":"tabula!D42","v":"Džezā tikai buļļi"},{"$f":"tabula!E42","v":65},{"$f":"tabula!F42","v":82},{"$f":"tabula!G42","v":64},{"$f":"tabula!H42","v":31},{"$f":"tabula!I42","v":91},{"$f":"tabula!J42","v":58},{"$f":"tabula!K42","v":-23},{"$f":"tabula!L42","v":87},{"$f":"tabula!M42","v":76},{"$f":"tabula!N42","v":43},{"$f":"tabula!O42","v":574},{"$f":"tabula!P42","v":"08 min. 54,701"},{"$f":"tabula!Q42","v":39},{"$f":"tabula!R42","v":"13,710 sek."}]
[null,null,{"$f":"tabula!C43","v":37},{"$f":"tabula!D43","v":"ADB"},{"$f":"tabula!E43","v":64},{"$f":"tabula!F43","v":82},{"$f":"tabula!G43","v":82},{"$f":"tabula!H43","v":18},{"$f":"tabula!I43","v":65},{"$f":"tabula!J43","v":84},{"$f":"tabula!K43","v":-69},{"$f":"tabula!L43","v":97},{"$f":"tabula!M43","v":29},{"$f":"tabula!N43","v":101},{"$f":"tabula!O43","v":553},{"$f":"tabula!P43","v":"05 min. 36,273"},{"$f":"tabula!Q43","v":36},{"$f":"tabula!R43","v":"09,341 sek."}]
[null,null,{"$f":"tabula!C44","v":38},{"$f":"tabula!D44","v":"Viesis"},{"$f":"tabula!E44","v":75},{"$f":"tabula!F44","v":54},{"$f":"tabula!G44","v":70},{"$f":"tabula!H44","v":23},{"$f":"tabula!I44","v":107},{"$f":"tabula!J44","v":90},{"$f":"tabula!K44","v":-69},{"$f":"tabula!L44","v":65},{"$f":"tabula!M44","v":102},{"$f":"tabula!N44","v":35},{"$f":"tabula!O44","v":552},{"$f":"tabula!P44","v":"07 min. 30,748"},{"$f":"tabula!Q44","v":37},{"$f":"tabula!R44","v":"12,182 sek."}]
[null,null,{"$f":"tabula!C45","v":39},{"$f":"tabula!D45","v":"Tiger"},{"$f":"tabula!E45","v":64},{"$f":"tabula!F45","v":60},{"$f":"tabula!G45","v":139},{"$f":"tabula!H45","v":0},{"$f":"tabula!I45","v":21},{"$f":"tabula!J45","v":60},{"$f":"tabula!K45","v":-18},{"$f":"tabula!L45","v":46},{"$f":"tabula!M45","v":49},{"$f":"tabula!N45","v":111},{"$f":"tabula!O45","v":532},{"$f":"tabula!P45","v":"03 min. 43,860"},{"$f":"tabula!Q45","v":32},{"$f":"tabula!R45","v":"06,996 sek."}]
[null,null,{"$f":"tabula!C46","v":40},{"$f":"tabula!D46","v":"Ābolu bāze"},{"$f":"tabula!E46","v":76},{"$f":"tabula!F46","v":80},{"$f":"tabula!G46","v":74},{"$f":"tabula!H46","v":35},{"$f":"tabula!I46","v":40},{"$f":"tabula!J46","v":100},{"$f":"tabula!K46","v":8},{"$f":"tabula!L46","v":68},{"$f":"tabula!M46","v":11},{"$f":"tabula!N46","v":40},{"$f":"tabula!O46","v":532},{"$f":"tabula!P46","v":"09 min. 22,035"},{"$f":"tabula!Q46","v":40},{"$f":"tabula!R46","v":"14,051 sek."}]
[null,null,{"$f":"tabula!C47","v":41},{"$f":"tabula!D47","v":"ttomstt"},{"$f":"tabula!E47","v":57},{"$f":"tabula!F47","v":70},{"$f":"tabula!G47","v":80},{"$f":"tabula!H47","v":45},{"$f":"tabula!I47","v":60},{"$f":"tabula!J47","v":9},{"$f":"tabula!K47","v":-10},{"$f":"tabula!L47","v":68},{"$f":"tabula!M47","v":97},{"$f":"tabula!N47","v":37},{"$f":"tabula!O47","v":513},{"$f":"tabula!P47","v":"09 min. 11,176"},{"$f":"tabula!Q47","v":36},{"$f":"tabula!R47","v":"15,310 sek."}]
[null,null,{"$f":"tabula!C48","v":42},{"$f":"tabula!D48","v":"Tagad zinu - ko nezināju!"},{"$f":"tabula!E48","v":77},{"$f":"tabula!F48","v":57},{"$f":"tabula!G48","v":60},{"$f":"tabula!H48","v":43},{"$f":"tabula!I48","v":102},{"$f":"tabula!J48","v":21},{"$f":"tabula!K48","v":-54},{"$f":"tabula!L48","v":112},{"$f":"tabula!M48","v":27},{"$f":"tabula!N48","v":67},{"$f":"tabula!O48","v":512},{"$f":"tabula!P48","v":"05 min. 43,638"},{"$f":"tabula!Q48","v":34},{"$f":"tabula!R48","v":"10,107 sek."}]
[null,null,{"$f":"tabula!C49","v":43},{"$f":"tabula!D49","v":"Datu speciālisti"},{"$f":"tabula!E49","v":66},{"$f":"tabula!F49","v":53},{"$f":"tabula!G49","v":59},{"$f":"tabula!H49","v":65},{"$f":"tabula!I49","v":60},{"$f":"tabula!J49","v":48},{"$f":"tabula!K49","v":-20},{"$f":"tabula!L49","v":88},{"$f":"tabula!M49","v":55},{"$f":"tabula!N49","v":32},{"$f":"tabula!O49","v":506},{"$f":"tabula!P49","v":"09 min. 22,838"},{"$f":"tabula!Q49","v":38},{"$f":"tabula!R49","v":"14,812 sek."}]
[null,null,{"$f":"tabula!C50","v":44},{"$f":"tabula!D50","v":"Gatiņa dienasgrāmata"},{"$f":"tabula!E50","v":46},{"$f":"tabula!F50","v":78},{"$f":"tabula!G50","v":59},{"$f":"tabula!H50","v":24},{"$f":"tabula!I50","v":84},{"$f":"tabula!J50","v":35},{"$f":"tabula!K50","v":-36},{"$f":"tabula!L50","v":105},{"$f":"tabula!M50","v":48},{"$f":"tabula!N50","v":57},{"$f":"tabula!O50","v":500},{"$f":"tabula!P50","v":"06 min. 23,310"},{"$f":"tabula!Q50","v":31},{"$f":"tabula!R50","v":"12,365 sek."}]
[null,null,{"$f":"tabula!C51","v":45},{"$f":"tabula!D51","v":"#223"},{"$f":"tabula!E51","v":91},{"$f":"tabula!F51","v":82},{"$f":"tabula!G51","v":42},{"$f":"tabula!H51","v":52},{"$f":"tabula!I51","v":53},{"$f":"tabula!J51","v":40},{"$f":"tabula!K51","v":-14},{"$f":"tabula!L51","v":71},{"$f":"tabula!M51","v":21},{"$f":"tabula!N51","v":59},{"$f":"tabula!O51","v":497},{"$f":"tabula!P51","v":"07 min. 51,840"},{"$f":"tabula!Q51","v":34},{"$f":"tabula!R51","v":"13,878 sek."}]
[null,null,{"$f":"tabula!C52","v":46},{"$f":"tabula!D52","v":"Trejdeksnis"},{"$f":"tabula!E52","v":58},{"$f":"tabula!F52","v":47},{"$f":"tabula!G52","v":94},{"$f":"tabula!H52","v":26},{"$f":"tabula!I52","v":37},{"$f":"tabula!J52","v":98},{"$f":"tabula!K52","v":-3},{"$f":"tabula!L52","v":64},{"$f":"tabula!M52","v":66},{"$f":"tabula!N52","v":0},{"$f":"tabula!O52","v":487},{"$f":"tabula!P52","v":"08 min. 25,576"},{"$f":"tabula!Q52","v":36},{"$f":"tabula!R52","v":"14,044 sek."}]
[null,null,{"$f":"tabula!C53","v":47},{"$f":"tabula!D53","v":"Stams"},{"$f":"tabula!E53","v":54},{"$f":"tabula!F53","v":69},{"$f":"tabula!G53","v":76},{"$f":"tabula!H53","v":47},{"$f":"tabula!I53","v":60},{"$f":"tabula!J53","v":30},{"$f":"tabula!K53","v":-31},{"$f":"tabula!L53","v":131},{"$f":"tabula!M53","v":21},{"$f":"tabula!N53","v":23},{"$f":"tabula!O53","v":480},{"$f":"tabula!P53","v":"09 min. 12,295"},{"$f":"tabula!Q53","v":37},{"$f":"tabula!R53","v":"14,927 sek."}]
[null,null,{"$f":"tabula!C54","v":48},{"$f":"tabula!D54","v":"Stabu iela"},{"$f":"tabula!E54","v":75},{"$f":"tabula!F54","v":81},{"$f":"tabula!G54","v":75},{"$f":"tabula!H54","v":24},{"$f":"tabula!I54","v":65},{"$f":"tabula!J54","v":48},{"$f":"tabula!K54","v":-56},{"$f":"tabula!L54","v":77},{"$f":"tabula!M54","v":30},{"$f":"tabula!N54","v":55},{"$f":"tabula!O54","v":474},{"$f":"tabula!P54","v":"07 min. 35,726"},{"$f":"tabula!Q54","v":35},{"$f":"tabula!R54","v":"13,021 sek."}]
[null,null,{"$f":"tabula!C55","v":49},{"$f":"tabula!D55","v":"pohinshXS"},{"$f":"tabula!E55","v":75},{"$f":"tabula!F55","v":25},{"$f":"tabula!G55","v":124},{"$f":"tabula!H55","v":42},{"$f":"tabula!I55","v":23},{"$f":"tabula!J55","v":71},{"$f":"tabula!K55","v":-70},{"$f":"tabula!L55","v":24},{"$f":"tabula!M55","v":120},{"$f":"tabula!N55","v":23},{"$f":"tabula!O55","v":457},{"$f":"tabula!P55","v":"02 min. 59,090"},{"$f":"tabula!Q55","v":29},{"$f":"tabula!R55","v":"06,176 sek."}]
[null,null,{"$f":"tabula!C56","v":50},{"$f":"tabula!D56","v":"KOBIJS"},{"$f":"tabula!E56","v":47},{"$f":"tabula!F56","v":64},{"$f":"tabula!G56","v":136},{"$f":"tabula!H56","v":46},{"$f":"tabula!I56","v":28},{"$f":"tabula!J56","v":19},{"$f":"tabula!K56","v":-98},{"$f":"tabula!L56","v":97},{"$f":"tabula!M56","v":86},{"$f":"tabula!N56","v":15},{"$f":"tabula!O56","v":440},{"$f":"tabula!P56","v":"04 min. 27,375"},{"$f":"tabula!Q56","v":32},{"$f":"tabula!R56","v":"08,355 sek."}]
[null,null,{"$f":"tabula!C57","v":51},{"$f":"tabula!D57","v":"Пьяные белки"},{"$f":"tabula!E57","v":62},{"$f":"tabula!F57","v":69},{"$f":"tabula!G57","v":55},{"$f":"tabula!H57","v":63},{"$f":"tabula!I57","v":20},{"$f":"tabula!J57","v":25},{"$f":"tabula!K57","v":-34},{"$f":"tabula!L57","v":59},{"$f":"tabula!M57","v":81},{"$f":"tabula!N57","v":37},{"$f":"tabula!O57","v":437},{"$f":"tabula!P57","v":"06 min. 20,754"},{"$f":"tabula!Q57","v":32},{"$f":"tabula!R57","v":"11,899 sek."}]
[null,null,{"$f":"tabula!C58","v":52},{"$f":"tabula!D58","v":"pa zoino / kapela julijs"},{"$f":"tabula!E58","v":63},{"$f":"tabula!F58","v":74},{"$f":"tabula!G58","v":92},{"$f":"tabula!H58","v":33},{"$f":"tabula!I58","v":44},{"$f":"tabula!J58","v":37},{"$f":"tabula!K58","v":-89},{"$f":"tabula!L58","v":89},{"$f":"tabula!M58","v":41},{"$f":"tabula!N58","v":51},{"$f":"tabula!O58","v":435},{"$f":"tabula!P58","v":"06 min. 11,882"},{"$f":"tabula!Q58","v":33},{"$f":"tabula!R58","v":"11,269 sek."}]
[null,null,{"$f":"tabula!C59","v":53},{"$f":"tabula!D59","v":"h2o"},{"$f":"tabula!E59","v":51},{"$f":"tabula!F59","v":60},{"$f":"tabula!G59","v":92},{"$f":"tabula!H59","v":49},{"$f":"tabula!I59","v":91},{"$f":"tabula!J59","v":0},{"$f":"tabula!K59","v":-40},{"$f":"tabula!L59","v":42},{"$f":"tabula!M59","v":23},{"$f":"tabula!N59","v":63},{"$f":"tabula!O59","v":431},{"$f":"tabula!P59","v":"05 min. 32,273"},{"$f":"tabula!Q59","v":30},{"$f":"tabula!R59","v":"11,076 sek."}]
[null,null,{"$f":"tabula!C60","v":54},{"$f":"tabula!D60","v":"LegFeelsGood"},{"$f":"tabula!E60","v":23},{"$f":"tabula!F60","v":51},{"$f":"tabula!G60","v":104},{"$f":"tabula!H60","v":18},{"$f":"tabula!I60","v":84},{"$f":"tabula!J60","v":0},{"$f":"tabula!K60","v":-56},{"$f":"tabula!L60","v":16},{"$f":"tabula!M60","v":134},{"$f":"tabula!N60","v":0},{"$f":"tabula!O60","v":374},{"$f":"tabula!P60","v":"03 min. 51,036"},{"$f":"tabula!Q60","v":27},{"$f":"tabula!R60","v":"08,557 sek."}]
[null,null,{"$f":"tabula!C61","v":55},{"$f":"tabula!D61","v":"Skaidrītes ŠUUUUUUU"},{"$f":"tabula!E61","v":62},{"$f":"tabula!F61","v":45},{"$f":"tabula!G61","v":46},{"$f":"tabula!H61","v":43},{"$f":"tabula!I61","v":48},{"$f":"tabula!J61","v":20},{"$f":"tabula!K61","v":-27},{"$f":"tabula!L61","v":0},{"$f":"tabula!M61","v":65},{"$f":"tabula!N61","v":64},{"$f":"tabula!O61","v":366},{"$f":"tabula!P61","v":"05 min. 45,224"},{"$f":"tabula!Q61","v":27},{"$f":"tabula!R61","v":"12,786 sek."}]
[null,null,{"$f":"tabula!C62","v":56},{"$f":"tabula!D62","v":"Luge LV"},{"$f":"tabula!E62","v":61},{"$f":"tabula!F62","v":79},{"$f":"tabula!G62","v":54},{"$f":"tabula!H62","v":29},{"$f":"tabula!I62","v":23},{"$f":"tabula!J62","v":18},{"$f":"tabula!K62","v":-77},{"$f":"tabula!L62","v":71},{"$f":"tabula!M62","v":30},{"$f":"tabula!N62","v":73},{"$f":"tabula!O62","v":361},{"$f":"tabula!P62","v":"03 min. 34,242"},{"$f":"tabula!Q62","v":23},{"$f":"tabula!R62","v":"09,315 sek."}]
[null,null,{"$f":"tabula!C63","v":57},{"$f":"tabula!D63","v":"Načo"},{"$f":"tabula!E63","v":47},{"$f":"tabula!F63","v":24},{"$f":"tabula!G63","v":65},{"$f":"tabula!H63","v":0},{"$f":"tabula!I63","v":67},{"$f":"tabula!J63","v":11},{"$f":"tabula!K63","v":-9},{"$f":"tabula!L63","v":68},{"$f":"tabula!M63","v":17},{"$f":"tabula!N63","v":57},{"$f":"tabula!O63","v":347},{"$f":"tabula!P63","v":"05 min. 24,198"},{"$f":"tabula!Q63","v":25},{"$f":"tabula!R63","v":"12,968 sek."}]
[null,null,{"$f":"tabula!C64","v":58},{"$f":"tabula!D64","v":"TheChosenOnes"},{"$f":"tabula!E64","v":31},{"$f":"tabula!F64","v":65},{"$f":"tabula!G64","v":61},{"$f":"tabula!H64","v":21},{"$f":"tabula!I64","v":57},{"$f":"tabula!J64","v":12},{"$f":"tabula!K64","v":-34},{"$f":"tabula!L64","v":42},{"$f":"tabula!M64","v":43},{"$f":"tabula!N64","v":32},{"$f":"tabula!O64","v":330},{"$f":"tabula!P64","v":"08 min. 10,843"},{"$f":"tabula!Q64","v":31},{"$f":"tabula!R64","v":"15,834 sek."}]
[null,null,{"$f":"tabula!C65","v":59},{"$f":"tabula!D65","v":"TKZ93"},{"$f":"tabula!E65","v":0},{"$f":"tabula!F65","v":0},{"$f":"tabula!G65","v":72},{"$f":"tabula!H65","v":35},{"$f":"tabula!I65","v":24},{"$f":"tabula!J65","v":48},{"$f":"tabula!K65","v":-9},{"$f":"tabula!L65","v":83},{"$f":"tabula!M65","v":27},{"$f":"tabula!N65","v":41},{"$f":"tabula!O65","v":321},{"$f":"tabula!P65","v":"06 min. 29,938"},{"$f":"tabula!Q65","v":26},{"$f":"tabula!R65","v":"14,998 sek."}]
[null,null,{"$f":"tabula!C66","v":60},{"$f":"tabula!D66","v":"skipthelegday"},{"$f":"tabula!E66","v":34},{"$f":"tabula!F66","v":69},{"$f":"tabula!G66","v":44},{"$f":"tabula!H66","v":27},{"$f":"tabula!I66","v":23},{"$f":"tabula!J66","v":0},{"$f":"tabula!K66","v":-22},{"$f":"tabula!L66","v":50},{"$f":"tabula!M66","v":18},{"$f":"tabula!N66","v":49},{"$f":"tabula!O66","v":292},{"$f":"tabula!P66","v":"05 min. 23,355"},{"$f":"tabula!Q66","v":24},{"$f":"tabula!R66","v":"13,473 sek."}]
[null,null,{"$f":"tabula!C67","v":61},{"$f":"tabula!D67","v":"Tikai mieru!!"},{"$f":"tabula!E67","v":20},{"$f":"tabula!F67","v":24},{"$f":"tabula!G67","v":54},{"$f":"tabula!H67","v":41},{"$f":"tabula!I67","v":44},{"$f":"tabula!J67","v":36},{"$f":"tabula!K67","v":-36},{"$f":"tabula!L67","v":50},{"$f":"tabula!M67","v":0},{"$f":"tabula!N67","v":27},{"$f":"tabula!O67","v":260},{"$f":"tabula!P67","v":"05 min. 27,206"},{"$f":"tabula!Q67","v":24},{"$f":"tabula!R67","v":"13,634 sek."}]
[]
[null,null,"LIELDRAUGS                                                    ATBALSTĪTĀJI"]

{"sheet":"51-100","index":2,"n_rows":61,"n_cols":18,"rows_kept":61,"cut":false,"hidden":true,"merged":[[1,2,1,17],[2,1,4,1],[2,2,4,2],[2,3,4,3],[2,14,3,14],[2,15,5,15],[2,16,5,16],[2,17,5,17]]}
[]
[null,null,{"$f":"tabula!C2","v":"\"Sporta viktorīna\" (tiešsaistē / vebinārā) | 2024.gada 12.oktobris"}]
[null,"Grupa",{"$f":"tabula!C3","v":"#"},{"$f":"tabula!D3","v":"Dalībnieks | Raunds | Tēma | Max punkti raundā (bez bonusiem) "},{"$f":"tabula!E3","v":1},{"$f":"tabula!F3","v":2},{"$f":"tabula!G3","v":3},{"$f":"tabula!H3","v":4},{"$f":"tabula!I3","v":5},{"$f":"tabula!J3","v":6},{"$f":"tabula!K3","v":7},{"$f":"tabula!L3","v":8},{"$f":"tabula!M3","v":9},{"$f":"tabula!N3","v":10},{"$f":"tabula!O3","v":"KOPĀ"},{"$f":"tabula!P3","v":"Laiks kopā"},{"$f":"tabula!Q3","v":"Pareizās atbildes (max 68)"},{"$f":"tabula!R3","v":"Vid.laiks uz 1 pareizo atb."}]
[null,null,null,null,{"$f":"tabula!E4","v":"Pavediens"},{"$f":"tabula!F4","v":"Divas atbildes"},{"$f":"tabula!G4","v":"Ekspresis"},{"$f":"tabula!H4","v":"Burtu mīkla"},{"$f":"tabula!I4","v":"Ķēde"},{"$f":"tabula!J4","v":"Latvija"},{"$f":"tabula!K4","v":"Risks"},{"$f":"tabula!L4","v":"Kas kopīgs?"},{"$f":"tabula!M4","v":"Liekais pazūd ārpus kastes"},{"$f":"tabula!N4","v":"Audio"}]
[null,null,null,null,{"$f":"tabula!E5","v":150},{"$f":"tabula!F5","v":180},{"$f":"tabula!G5","v":180},{"$f":"tabula!H5","v":180},175,{"$f":"tabula!J5","v":150},{"$f":"tabula!K5","v":120},{"$f":"tabula!L5","v":180},{"$f":"tabula!M5","v":150},{"$f":"tabula!N5","v":150},{"$f":"tabula!O5","v":1615}]
[null,null,null,{"$f":"tabula!D6","v":"Vidēji p-ti raundā"},{"$f":"tabula!E6","v":74.7},{"$f":"tabula!F6","v":80.400000000000006},{"$f":"tabula!G6","v":97.3},{"$f":"tabula!H6","v":55.1},{"$f":"tabula!I6","v":82.8},{"$f":"tabula!J6","v":63.2},{"$f":"tabula!K6","v":-9.4},{"$f":"tabula!L6","v":86.8},{"$f":"tabula!M6","v":70.7},{"$f":"tabula!N6","v":54.9},{"$f":"tabula!O6","v":656.3}]
[null,3,{"$f":"tabula!C57","v":51},{"$f":"tabula!D57","v":"Пьяные белки"},{"$f":"tabula!E57","v":62},{"$f":"tabula!F57","v":69},{"$f":"tabula!G57","v":55},{"$f":"tabula!H57","v":63},{"$f":"tabula!I57","v":20},{"$f":"tabula!J57","v":25},{"$f":"tabula!K57","v":-34},{"$f":"tabula!L57","v":59},{"$f":"tabula!M57","v":81},{"$f":"tabula!N57","v":37},{"$f":"tabula!O57","v":437},{"$f":"tabula!P57","v":"06 min. 20,754"},{"$f":"tabula!Q57","v":32},{"$f":"tabula!R57","v":"11,899 sek."}]
[null,1,{"$f":"tabula!C58","v":52},{"$f":"tabula!D58","v":"pa zoino / kapela julijs"},{"$f":"tabula!E58","v":63},{"$f":"tabula!F58","v":74},{"$f":"tabula!G58","v":92},{"$f":"tabula!H58","v":33},{"$f":"tabula!I58","v":44},{"$f":"tabula!J58","v":37},{"$f":"tabula!K58","v":-89},{"$f":"tabula!L58","v":89},{"$f":"tabula!M58","v":41},{"$f":"tabula!N58","v":51},{"$f":"tabula!O58","v":435},{"$f":"tabula!P58","v":"06 min. 11,882"},{"$f":"tabula!Q58","v":33},{"$f":"tabula!R58","v":"11,269 sek."}]
[null,1,{"$f":"tabula!C59","v":53},{"$f":"tabula!D59","v":"h2o"},{"$f":"tabula!E59","v":51},{"$f":"tabula!F59","v":60},{"$f":"tabula!G59","v":92},{"$f":"tabula!H59","v":49},{"$f":"tabula!I59","v":91},{"$f":"tabula!J59","v":0},{"$f":"tabula!K59","v":-40},{"$f":"tabula!L59","v":42},{"$f":"tabula!M59","v":23},{"$f":"tabula!N59","v":63},{"$f":"tabula!O59","v":431},{"$f":"tabula!P59","v":"05 min. 32,273"},{"$f":"tabula!Q59","v":30},{"$f":"tabula!R59","v":"11,076 sek."}]
[null,3,{"$f":"tabula!C60","v":54},{"$f":"tabula!D60","v":"LegFeelsGood"},{"$f":"tabula!E60","v":23},{"$f":"tabula!F60","v":51},{"$f":"tabula!G60","v":104},{"$f":"tabula!H60","v":18},{"$f":"tabula!I60","v":84},{"$f":"tabula!J60","v":0},{"$f":"tabula!K60","v":-56},{"$f":"tabula!L60","v":16},{"$f":"tabula!M60","v":134},{"$f":"tabula!N60","v":0},{"$f":"tabula!O60","v":374},{"$f":"tabula!P60","v":"03 min. 51,036"},{"$f":"tabula!Q60","v":27},{"$f":"tabula!R60","v":"08,557 sek."}]
[null,1,{"$f":"tabula!C61","v":55},{"$f":"tabula!D61","v":"Skaidrītes ŠUUUUUUU"},{"$f":"tabula!E61","v":62},{"$f":"tabula!F61","v":45},{"$f":"tabula!G61","v":46},{"$f":"tabula!H61","v":43},{"$f":"tabula!I61","v":48},{"$f":"tabula!J61","v":20},{"$f":"tabula!K61","v":-27},{"$f":"tabula!L61","v":0},{"$f":"tabula!M61","v":65},{"$f":"tabula!N61","v":64},{"$f":"tabula!O61","v":366},{"$f":"tabula!P61","v":"05 min. 45,224"},{"$f":"tabula!Q61","v":27},{"$f":"tabula!R61","v":"12,786 sek."}]
[null,3,{"$f":"tabula!C62","v":56},{"$f":"tabula!D62","v":"Luge LV"},{"$f":"tabula!E62","v":61},{"$f":"tabula!F62","v":79},{"$f":"tabula!G62","v":54},{"$f":"tabula!H62","v":29},{"$f":"tabula!I62","v":23},{"$f":"tabula!J62","v":18},{"$f":"tabula!K62","v":-77},{"$f":"tabula!L62","v":71},{"$f":"tabula!M62","v":30},{"$f":"tabula!N62","v":73},{"$f":"tabula!O62","v":361},{"$f":"tabula!P62","v":"03 min. 34,242"},{"$f":"tabula!Q62","v":23},{"$f":"tabula!R62","v":"09,315 sek."}]
[null,1,{"$f":"tabula!C63","v":57},{"$f":"tabula!D63","v":"Načo"},{"$f":"tabula!E63","v":47},{"$f":"tabula!F63","v":24},{"$f":"tabula!G63","v":65},{"$f":"tabula!H63","v":0},{"$f":"tabula!I63","v":67},{"$f":"tabula!J63","v":11},{"$f":"tabula!K63","v":-9},{"$f":"tabula!L63","v":68},{"$f":"tabula!M63","v":17},{"$f":"tabula!N63","v":57},{"$f":"tabula!O63","v":347},{"$f":"tabula!P63","v":"05 min. 24,198"},{"$f":"tabula!Q63","v":25},{"$f":"tabula!R63","v":"12,968 sek."}]
[null,null,{"$f":"tabula!C64","v":58},{"$f":"tabula!D64","v":"TheChosenOnes"},{"$f":"tabula!E64","v":31},{"$f":"tabula!F64","v":65},{"$f":"tabula!G64","v":61},{"$f":"tabula!H64","v":21},{"$f":"tabula!I64","v":57},{"$f":"tabula!J64","v":12},{"$f":"tabula!K64","v":-34},{"$f":"tabula!L64","v":42},{"$f":"tabula!M64","v":43},{"$f":"tabula!N64","v":32},{"$f":"tabula!O64","v":330},{"$f":"tabula!P64","v":"08 min. 10,843"},{"$f":"tabula!Q64","v":31},{"$f":"tabula!R64","v":"15,834 sek."}]
[null,null,{"$f":"tabula!C65","v":59},{"$f":"tabula!D65","v":"TKZ93"},{"$f":"tabula!E65","v":0},{"$f":"tabula!F65","v":0},{"$f":"tabula!G65","v":72},{"$f":"tabula!H65","v":35},{"$f":"tabula!I65","v":24},{"$f":"tabula!J65","v":48},{"$f":"tabula!K65","v":-9},{"$f":"tabula!L65","v":83},{"$f":"tabula!M65","v":27},{"$f":"tabula!N65","v":41},{"$f":"tabula!O65","v":321},{"$f":"tabula!P65","v":"06 min. 29,938"},{"$f":"tabula!Q65","v":26},{"$f":"tabula!R65","v":"14,998 sek."}]
[null,null,{"$f":"tabula!C66","v":60},{"$f":"tabula!D66","v":"skipthelegday"},{"$f":"tabula!E66","v":34},{"$f":"tabula!F66","v":69},{"$f":"tabula!G66","v":44},{"$f":"tabula!H66","v":27},{"$f":"tabula!I66","v":23},{"$f":"tabula!J66","v":0},{"$f":"tabula!K66","v":-22},{"$f":"tabula!L66","v":50},{"$f":"tabula!M66","v":18},{"$f":"tabula!N66","v":49},{"$f":"tabula!O66","v":292},{"$f":"tabula!P66","v":"05 min. 23,355"},{"$f":"tabula!Q66","v":24},{"$f":"tabula!R66","v":"13,473 sek."}]
[null,null,{"$f":"tabula!C67","v":61},{"$f":"tabula!D67","v":"Tikai mieru!!"},{"$f":"tabula!E67","v":20},{"$f":"tabula!F67","v":24},{"$f":"tabula!G67","v":54},{"$f":"tabula!H67","v":41},{"$f":"tabula!I67","v":44},{"$f":"tabula!J67","v":36},{"$f":"tabula!K67","v":-36},{"$f":"tabula!L67","v":50},{"$f":"tabula!M67","v":0},{"$f":"tabula!N67","v":27},{"$f":"tabula!O67","v":260},{"$f":"tabula!P67","v":"05 min. 27,206"},{"$f":"tabula!Q67","v":24},{"$f":"tabula!R67","v":"13,634 sek."}]
[null,null,{"$f":"tabula!#REF!","v":{"$error":"#REF!"}},{"$f":"tabula!#REF!","v":{"$error":"#REF!"}},{"$f":"tabula!#REF!","v":{"$error":"#REF!"}},{"$f":"tabula!#REF!","v":{"$error":"#REF!"}},{"$f":"tabula!#REF!","v":{"$error":"#REF!"}},{"$f":"tabula!#REF!","v":{"$error":"#REF!"}},{"$f":"tabula!#REF!","v":{"$error":"#REF!"}},{"$f":"tabula!#REF!","v":{"$error":"#REF!"}},{"$f":"tabula!#REF!","v":{"$error":"#REF!"}},{"$f":"tabula!#REF!","v":{"$error":"#REF!"}},{"$f":"tabula!#REF!","v":{"$error":"#REF!"}},{"$f":"tabula!#REF!","v":{"$error":"#REF!"}},{"$f":"tabula!#REF!","v":{"$error":"#REF!"}},{"$f":"tabula!#REF!","v":{"$error":"#REF!"}},{"$f":"tabula!#REF!","v":{"$error":"#REF!"}},{"$f":"tabula!#REF!","v":{"$error":"#REF!"}}]
[null,null,{"$f":"tabula!#REF!","v":{"$error":"#REF!"}},{"$f":"tabula!#REF!","v":{"$error":"#REF!"}},{"$f":"tabula!#REF!","v":{"$error":"#REF!"}},{"$f":"tabula!#REF!","v":{"$error":"#REF!"}},{"$f":"tabula!#REF!","v":{"$error":"#REF!"}},{"$f":"tabula!#REF!","v":{"$error":"#REF!"}},{"$f":"tabula!#REF!","v":{"$error":"#REF!"}},{"$f":"tabula!#REF!","v":{"$error":"#REF!"}},{"$f":"tabula!#REF!","v":{"$error":"#REF!"}},{"$f":"tabula!#REF!","v":{"$error":"#REF!"}},{"$f":"tabula!#REF!","v":{"$error":"#REF!"}},{"$f":"tabula!#REF!","v":{"$error":"#REF!"}},{"$f":"tabula!#REF!","v":{"$error":"#REF!"}},{"$f":"tabula!#REF!","v":{"$error":"#REF!"}},{"$f":"tabula!#REF!","v":{"$error":"#REF!"}},{"$f":"tabula!#REF!","v":{"$error":"#REF!"}}]
[null,null,{"$f":"tabula!#REF!","v":{"$error":"#REF!"}},{"$f":"tabula!#REF!","v":{"$error":"#REF!"}},{"$f":"tabula!#REF!","v":{"$error":"#REF!"}},{"$f":"tabula!#REF!","v":{"$error":"#REF!"}},{"$f":"tabula!#REF!","v":{"$error":"#REF!"}},{"$f":"tabula!#REF!","v":{"$error":"#REF!"}},{"$f":"tabula!#REF!","v":{"$error":"#REF!"}},{"$f":"tabula!#REF!","v":{"$error":"#REF!"}},{"$f":"tabula!#REF!","v":{"$error":"#REF!"}},{"$f":"tabula!#REF!","v":{"$error":"#REF!"}},{"$f":"tabula!#REF!","v":{"$error":"#REF!"}},{"$f":"tabula!#REF!","v":{"$error":"#REF!"}},{"$f":"tabula!#REF!","v":{"$error":"#REF!"}},{"$f":"tabula!#REF!","v":{"$error":"#REF!"}},{"$f":"tabula!#REF!","v":{"$error":"#REF!"}},{"$f":"tabula!#REF!","v":{"$error":"#REF!"}}]
[null,null,{"$f":"tabula!#REF!","v":{"$error":"#REF!"}},{"$f":"tabula!#REF!","v":{"$error":"#REF!"}},{"$f":"tabula!#REF!","v":{"$error":"#REF!"}},{"$f":"tabula!#REF!","v":{"$error":"#REF!"}},{"$f":"tabula!#REF!","v":{"$error":"#REF!"}},{"$f":"tabula!#REF!","v":{"$error":"#REF!"}},{"$f":"tabula!#REF!","v":{"$error":"#REF!"}},{"$f":"tabula!#REF!","v":{"$error":"#REF!"}},{"$f":"tabula!#REF!","v":{"$error":"#REF!"}},{"$f":"tabula!#REF!","v":{"$error":"#REF!"}},{"$f":"tabula!#REF!","v":{"$error":"#REF!"}},{"$f":"tabula!#REF!","v":{"$error":"#REF!"}},{"$f":"tabula!#REF!","v":{"$error":"#REF!"}},{"$f":"tabula!#REF!","v":{"$error":"#REF!"}},{"$f":"tabula!#REF!","v":{"$error":"#REF!"}},{"$f":"tabula!#REF!","v":{"$error":"#REF!"}}]
[null,null,{"$f":"tabula!#REF!","v":{"$error":"#REF!"}},{"$f":"tabula!#REF!","v":{"$error":"#REF!"}},{"$f":"tabula!#REF!","v":{"$error":"#REF!"}},{"$f":"tabula!#REF!","v":{"$error":"#REF!"}},{"$f":"tabula!#REF!","v":{"$error":"#REF!"}},{"$f":"tabula!#REF!","v":{"$error":"#REF!"}},{"$f":"tabula!#REF!","v":{"$error":"#REF!"}},{"$f":"tabula!#REF!","v":{"$error":"#REF!"}},{"$f":"tabula!#REF!","v":{"$error":"#REF!"}},{"$f":"tabula!#REF!","v":{"$error":"#REF!"}},{"$f":"tabula!#REF!","v":{"$error":"#REF!"}},{"$f":"tabula!#REF!","v":{"$error":"#REF!"}},{"$f":"tabula!#REF!","v":{"$error":"#REF!"}},{"$f":"tabula!#REF!","v":{"$error":"#REF!"}},{"$f":"tabula!#REF!","v":{"$error":"#REF!"}},{"$f":"tabula!#REF!","v":{"$error":"#REF!"}}]
[null,null,{"$f":"tabula!#REF!","v":{"$error":"#REF!"}},{"$f":"tabula!#REF!","v":{"$error":"#REF!"}},{"$f":"tabula!#REF!","v":{"$error":"#REF!"}},{"$f":"tabula!#REF!","v":{"$error":"#REF!"}},{"$f":"tabula!#REF!","v":{"$error":"#REF!"}},{"$f":"tabula!#REF!","v":{"$error":"#REF!"}},{"$f":"tabula!#REF!","v":{"$error":"#REF!"}},{"$f":"tabula!#REF!","v":{"$error":"#REF!"}},{"$f":"tabula!#REF!","v":{"$error":"#REF!"}},{"$f":"tabula!#REF!","v":{"$error":"#REF!"}},{"$f":"tabula!#REF!","v":{"$error":"#REF!"}},{"$f":"tabula!#REF!","v":{"$error":"#REF!"}},{"$f":"tabula!#REF!","v":{"$error":"#REF!"}},{"$f":"tabula!#REF!","v":{"$error":"#REF!"}},{"$f":"tabula!#REF!","v":{"$error":"#REF!"}},{"$f":"tabula!#REF!","v":{"$error":"#REF!"}}]
[null,null,{"$f":"tabula!#REF!","v":{"$error":"#REF!"}},{"$f":"tabula!#REF!","v":{"$error":"#REF!"}},{"$f":"tabula!#REF!","v":{"$error":"#REF!"}},{"$f":"tabula!#REF!","v":{"$error":"#REF!"}},{"$f":"tabula!#REF!","v":{"$error":"#REF!"}},{"$f":"tabula!#REF!","v":{"$error":"#REF!"}},{"$f":"tabula!#REF!","v":{"$error":"#REF!"}},{"$f":"tabula!#REF!","v":{"$error":"#REF!"}},{"$f":"tabula!#REF!","v":{"$error":"#REF!"}},{"$f":"tabula!#REF!","v":{"$error":"#REF!"}},{"$f":"tabula!#REF!","v":{"$error":"#REF!"}},{"$f":"tabula!#REF!","v":{"$error":"#REF!"}},{"$f":"tabula!#REF!","v":{"$error":"#REF!"}},{"$f":"tabula!#REF!","v":{"$error":"#REF!"}},{"$f":"tabula!#REF!","v":{"$error":"#REF!"}},{"$f":"tabula!#REF!","v":{"$error":"#REF!"}}]
[null,null,{"$f":"tabula!#REF!","v":{"$error":"#REF!"}},{"$f":"tabula!#REF!","v":{"$error":"#REF!"}},{"$f":"tabula!#REF!","v":{"$error":"#REF!"}},{"$f":"tabula!#REF!","v":{"$error":"#REF!"}},{"$f":"tabula!#REF!","v":{"$error":"#REF!"}},{"$f":"tabula!#REF!","v":{"$error":"#REF!"}},{"$f":"tabula!#REF!","v":{"$error":"#REF!"}},{"$f":"tabula!#REF!","v":{"$error":"#REF!"}},{"$f":"tabula!#REF!","v":{"$error":"#REF!"}},{"$f":"tabula!#REF!","v":{"$error":"#REF!"}},{"$f":"tabula!#REF!","v":{"$error":"#REF!"}},{"$f":"tabula!#REF!","v":{"$error":"#REF!"}},{"$f":"tabula!#REF!","v":{"$error":"#REF!"}},{"$f":"tabula!#REF!","v":{"$error":"#REF!"}},{"$f":"tabula!#REF!","v":{"$error":"#REF!"}},{"$f":"tabula!#REF!","v":{"$error":"#REF!"}}]
[null,null,{"$f":"tabula!#REF!","v":{"$error":"#REF!"}},{"$f":"tabula!#REF!","v":{"$error":"#REF!"}},{"$f":"tabula!#REF!","v":{"$error":"#REF!"}},{"$f":"tabula!#REF!","v":{"$error":"#REF!"}},{"$f":"tabula!#REF!","v":{"$error":"#REF!"}},{"$f":"tabula!#REF!","v":{"$error":"#REF!"}},{"$f":"tabula!#REF!","v":{"$error":"#REF!"}},{"$f":"tabula!#REF!","v":{"$error":"#REF!"}},{"$f":"tabula!#REF!","v":{"$error":"#REF!"}},{"$f":"tabula!#REF!","v":{"$error":"#REF!"}},{"$f":"tabula!#REF!","v":{"$error":"#REF!"}},{"$f":"tabula!#REF!","v":{"$error":"#REF!"}},{"$f":"tabula!#REF!","v":{"$error":"#REF!"}},{"$f":"tabula!#REF!","v":{"$error":"#REF!"}},{"$f":"tabula!#REF!","v":{"$error":"#REF!"}},{"$f":"tabula!#REF!","v":{"$error":"#REF!"}}]
[null,null,{"$f":"tabula!#REF!","v":{"$error":"#REF!"}},{"$f":"tabula!#REF!","v":{"$error":"#REF!"}},{"$f":"tabula!#REF!","v":{"$error":"#REF!"}},{"$f":"tabula!#REF!","v":{"$error":"#REF!"}},{"$f":"tabula!#REF!","v":{"$error":"#REF!"}},{"$f":"tabula!#REF!","v":{"$error":"#REF!"}},{"$f":"tabula!#REF!","v":{"$error":"#REF!"}},{"$f":"tabula!#REF!","v":{"$error":"#REF!"}},{"$f":"tabula!#REF!","v":{"$error":"#REF!"}},{"$f":"tabula!#REF!","v":{"$error":"#REF!"}},{"$f":"tabula!#REF!","v":{"$error":"#REF!"}},{"$f":"tabula!#REF!","v":{"$error":"#REF!"}},{"$f":"tabula!#REF!","v":{"$error":"#REF!"}},{"$f":"tabula!#REF!","v":{"$error":"#REF!"}},{"$f":"tabula!#REF!","v":{"$error":"#REF!"}},{"$f":"tabula!#REF!","v":{"$error":"#REF!"}}]
[null,null,{"$f":"tabula!#REF!","v":{"$error":"#REF!"}},{"$f":"tabula!#REF!","v":{"$error":"#REF!"}},{"$f":"tabula!#REF!","v":{"$error":"#REF!"}},{"$f":"tabula!#REF!","v":{"$error":"#REF!"}},{"$f":"tabula!#REF!","v":{"$error":"#REF!"}},{"$f":"tabula!#REF!","v":{"$error":"#REF!"}},{"$f":"tabula!#REF!","v":{"$error":"#REF!"}},{"$f":"tabula!#REF!","v":{"$error":"#REF!"}},{"$f":"tabula!#REF!","v":{"$error":"#REF!"}},{"$f":"tabula!#REF!","v":{"$error":"#REF!"}},{"$f":"tabula!#REF!","v":{"$error":"#REF!"}},{"$f":"tabula!#REF!","v":{"$error":"#REF!"}},{"$f":"tabula!#REF!","v":{"$error":"#REF!"}},{"$f":"tabula!#REF!","v":{"$error":"#REF!"}},{"$f":"tabula!#REF!","v":{"$error":"#REF!"}},{"$f":"tabula!#REF!","v":{"$error":"#REF!"}}]
[null,null,{"$f":"tabula!#REF!","v":{"$error":"#REF!"}},{"$f":"tabula!#REF!","v":{"$error":"#REF!"}},{"$f":"tabula!#REF!","v":{"$error":"#REF!"}},{"$f":"tabula!#REF!","v":{"$error":"#REF!"}},{"$f":"tabula!#REF!","v":{"$error":"#REF!"}},{"$f":"tabula!#REF!","v":{"$error":"#REF!"}},{"$f":"tabula!#REF!","v":{"$error":"#REF!"}},{"$f":"tabula!#REF!","v":{"$error":"#REF!"}},{"$f":"tabula!#REF!","v":{"$error":"#REF!"}},{"$f":"tabula!#REF!","v":{"$error":"#REF!"}},{"$f":"tabula!#REF!","v":{"$error":"#REF!"}},{"$f":"tabula!#REF!","v":{"$error":"#REF!"}},{"$f":"tabula!#REF!","v":{"$error":"#REF!"}},{"$f":"tabula!#REF!","v":{"$error":"#REF!"}},{"$f":"tabula!#REF!","v":{"$error":"#REF!"}},{"$f":"tabula!#REF!","v":{"$error":"#REF!"}}]
[null,null,{"$f":"tabula!#REF!","v":{"$error":"#REF!"}},{"$f":"tabula!#REF!","v":{"$error":"#REF!"}},{"$f":"tabula!#REF!","v":{"$error":"#REF!"}},{"$f":"tabula!#REF!","v":{"$error":"#REF!"}},{"$f":"tabula!#REF!","v":{"$error":"#REF!"}},{"$f":"tabula!#REF!","v":{"$error":"#REF!"}},{"$f":"tabula!#REF!","v":{"$error":"#REF!"}},{"$f":"tabula!#REF!","v":{"$error":"#REF!"}},{"$f":"tabula!#REF!","v":{"$error":"#REF!"}},{"$f":"tabula!#REF!","v":{"$error":"#REF!"}},{"$f":"tabula!#REF!","v":{"$error":"#REF!"}},{"$f":"tabula!#REF!","v":{"$error":"#REF!"}},{"$f":"tabula!#REF!","v":{"$error":"#REF!"}},{"$f":"tabula!#REF!","v":{"$error":"#REF!"}},{"$f":"tabula!#REF!","v":{"$error":"#REF!"}},{"$f":"tabula!#REF!","v":{"$error":"#REF!"}}]
[null,null,{"$f":"tabula!#REF!","v":{"$error":"#REF!"}},{"$f":"tabula!#REF!","v":{"$error":"#REF!"}},{"$f":"tabula!#REF!","v":{"$error":"#REF!"}},{"$f":"tabula!#REF!","v":{"$error":"#REF!"}},{"$f":"tabula!#REF!","v":{"$error":"#REF!"}},{"$f":"tabula!#REF!","v":{"$error":"#REF!"}},{"$f":"tabula!#REF!","v":{"$error":"#REF!"}},{"$f":"tabula!#REF!","v":{"$error":"#REF!"}},{"$f":"tabula!#REF!","v":{"$error":"#REF!"}},{"$f":"tabula!#REF!","v":{"$error":"#REF!"}},{"$f":"tabula!#REF!","v":{"$error":"#REF!"}},{"$f":"tabula!#REF!","v":{"$error":"#REF!"}},{"$f":"tabula!#REF!","v":{"$error":"#REF!"}},{"$f":"tabula!#REF!","v":{"$error":"#REF!"}},{"$f":"tabula!#REF!","v":{"$error":"#REF!"}},{"$f":"tabula!#REF!","v":{"$error":"#REF!"}}]
[null,null,{"$f":"tabula!#REF!","v":{"$error":"#REF!"}},{"$f":"tabula!#REF!","v":{"$error":"#REF!"}},{"$f":"tabula!#REF!","v":{"$error":"#REF!"}},{"$f":"tabula!#REF!","v":{"$error":"#REF!"}},{"$f":"tabula!#REF!","v":{"$error":"#REF!"}},{"$f":"tabula!#REF!","v":{"$error":"#REF!"}},{"$f":"tabula!#REF!","v":{"$error":"#REF!"}},{"$f":"tabula!#REF!","v":{"$error":"#REF!"}},{"$f":"tabula!#REF!","v":{"$error":"#REF!"}},{"$f":"tabula!#REF!","v":{"$error":"#REF!"}},{"$f":"tabula!#REF!","v":{"$error":"#REF!"}},{"$f":"tabula!#REF!","v":{"$error":"#REF!"}},{"$f":"tabula!#REF!","v":{"$error":"#REF!"}},{"$f":"tabula!#REF!","v":{"$error":"#REF!"}},{"$f":"tabula!#REF!","v":{"$error":"#REF!"}},{"$f":"tabula!#REF!","v":{"$error":"#REF!"}}]
[null,null,{"$f":"tabula!#REF!","v":{"$error":"#REF!"}},{"$f":"tabula!#REF!","v":{"$error":"#REF!"}},{"$f":"tabula!#REF!","v":{"$error":"#REF!"}},{"$f":"tabula!#REF!","v":{"$error":"#REF!"}},{"$f":"tabula!#REF!","v":{"$error":"#REF!"}},{"$f":"tabula!#REF!","v":{"$error":"#REF!"}},{"$f":"tabula!#REF!","v":{"$error":"#REF!"}},{"$f":"tabula!#REF!","v":{"$error":"#REF!"}},{"$f":"tabula!#REF!","v":{"$error":"#REF!"}},{"$f":"tabula!#REF!","v":{"$error":"#REF!"}},{"$f":"tabula!#REF!","v":{"$error":"#REF!"}},{"$f":"tabula!#REF!","v":{"$error":"#REF!"}},{"$f":"tabula!#REF!","v":{"$error":"#REF!"}},{"$f":"tabula!#REF!","v":{"$error":"#REF!"}},{"$f":"tabula!#REF!","v":{"$error":"#REF!"}},{"$f":"tabula!#REF!","v":{"$error":"#REF!"}}]
[null,null,{"$f":"tabula!#REF!","v":{"$error":"#REF!"}},{"$f":"tabula!#REF!","v":{"$error":"#REF!"}},{"$f":"tabula!#REF!","v":{"$error":"#REF!"}},{"$f":"tabula!#REF!","v":{"$error":"#REF!"}},{"$f":"tabula!#REF!","v":{"$error":"#REF!"}},{"$f":"tabula!#REF!","v":{"$error":"#REF!"}},{"$f":"tabula!#REF!","v":{"$error":"#REF!"}},{"$f":"tabula!#REF!","v":{"$error":"#REF!"}},{"$f":"tabula!#REF!","v":{"$error":"#REF!"}},{"$f":"tabula!#REF!","v":{"$error":"#REF!"}},{"$f":"tabula!#REF!","v":{"$error":"#REF!"}},{"$f":"tabula!#REF!","v":{"$error":"#REF!"}},{"$f":"tabula!#REF!","v":{"$error":"#REF!"}},{"$f":"tabula!#REF!","v":{"$error":"#REF!"}},{"$f":"tabula!#REF!","v":{"$error":"#REF!"}},{"$f":"tabula!#REF!","v":{"$error":"#REF!"}}]
[null,null,{"$f":"tabula!#REF!","v":{"$error":"#REF!"}},{"$f":"tabula!#REF!","v":{"$error":"#REF!"}},{"$f":"tabula!#REF!","v":{"$error":"#REF!"}},{"$f":"tabula!#REF!","v":{"$error":"#REF!"}},{"$f":"tabula!#REF!","v":{"$error":"#REF!"}},{"$f":"tabula!#REF!","v":{"$error":"#REF!"}},{"$f":"tabula!#REF!","v":{"$error":"#REF!"}},{"$f":"tabula!#REF!","v":{"$error":"#REF!"}},{"$f":"tabula!#REF!","v":{"$error":"#REF!"}},{"$f":"tabula!#REF!","v":{"$error":"#REF!"}},{"$f":"tabula!#REF!","v":{"$error":"#REF!"}},{"$f":"tabula!#REF!","v":{"$error":"#REF!"}},{"$f":"tabula!#REF!","v":{"$error":"#REF!"}},{"$f":"tabula!#REF!","v":{"$error":"#REF!"}},{"$f":"tabula!#REF!","v":{"$error":"#REF!"}},{"$f":"tabula!#REF!","v":{"$error":"#REF!"}}]
[null,null,{"$f":"tabula!#REF!","v":{"$error":"#REF!"}},{"$f":"tabula!#REF!","v":{"$error":"#REF!"}},{"$f":"tabula!#REF!","v":{"$error":"#REF!"}},{"$f":"tabula!#REF!","v":{"$error":"#REF!"}},{"$f":"tabula!#REF!","v":{"$error":"#REF!"}},{"$f":"tabula!#REF!","v":{"$error":"#REF!"}},{"$f":"tabula!#REF!","v":{"$error":"#REF!"}},{"$f":"tabula!#REF!","v":{"$error":"#REF!"}},{"$f":"tabula!#REF!","v":{"$error":"#REF!"}},{"$f":"tabula!#REF!","v":{"$error":"#REF!"}},{"$f":"tabula!#REF!","v":{"$error":"#REF!"}},{"$f":"tabula!#REF!","v":{"$error":"#REF!"}},{"$f":"tabula!#REF!","v":{"$error":"#REF!"}},{"$f":"tabula!#REF!","v":{"$error":"#REF!"}},{"$f":"tabula!#REF!","v":{"$error":"#REF!"}},{"$f":"tabula!#REF!","v":{"$error":"#REF!"}}]
[null,null,{"$f":"tabula!#REF!","v":{"$error":"#REF!"}},{"$f":"tabula!#REF!","v":{"$error":"#REF!"}},{"$f":"tabula!#REF!","v":{"$error":"#REF!"}},{"$f":"tabula!#REF!","v":{"$error":"#REF!"}},{"$f":"tabula!#REF!","v":{"$error":"#REF!"}},{"$f":"tabula!#REF!","v":{"$error":"#REF!"}},{"$f":"tabula!#REF!","v":{"$error":"#REF!"}},{"$f":"tabula!#REF!","v":{"$error":"#REF!"}},{"$f":"tabula!#REF!","v":{"$error":"#REF!"}},{"$f":"tabula!#REF!","v":{"$error":"#REF!"}},{"$f":"tabula!#REF!","v":{"$error":"#REF!"}},{"$f":"tabula!#REF!","v":{"$error":"#REF!"}},{"$f":"tabula!#REF!","v":{"$error":"#REF!"}},{"$f":"tabula!#REF!","v":{"$error":"#REF!"}},{"$f":"tabula!#REF!","v":{"$error":"#REF!"}},{"$f":"tabula!#REF!","v":{"$error":"#REF!"}}]
[null,null,{"$f":"tabula!#REF!","v":{"$error":"#REF!"}},{"$f":"tabula!#REF!","v":{"$error":"#REF!"}},{"$f":"tabula!#REF!","v":{"$error":"#REF!"}},{"$f":"tabula!#REF!","v":{"$error":"#REF!"}},{"$f":"tabula!#REF!","v":{"$error":"#REF!"}},{"$f":"tabula!#REF!","v":{"$error":"#REF!"}},{"$f":"tabula!#REF!","v":{"$error":"#REF!"}},{"$f":"tabula!#REF!","v":{"$error":"#REF!"}},{"$f":"tabula!#REF!","v":{"$error":"#REF!"}},{"$f":"tabula!#REF!","v":{"$error":"#REF!"}},{"$f":"tabula!#REF!","v":{"$error":"#REF!"}},{"$f":"tabula!#REF!","v":{"$error":"#REF!"}},{"$f":"tabula!#REF!","v":{"$error":"#REF!"}},{"$f":"tabula!#REF!","v":{"$error":"#REF!"}},{"$f":"tabula!#REF!","v":{"$error":"#REF!"}},{"$f":"tabula!#REF!","v":{"$error":"#REF!"}}]
[null,1,{"$f":"tabula!#REF!","v":{"$error":"#REF!"}},{"$f":"tabula!#REF!","v":{"$error":"#REF!"}},{"$f":"tabula!#REF!","v":{"$error":"#REF!"}},{"$f":"tabula!#REF!","v":{"$error":"#REF!"}},{"$f":"tabula!#REF!","v":{"$error":"#REF!"}},{"$f":"tabula!#REF!","v":{"$error":"#REF!"}},{"$f":"tabula!#REF!","v":{"$error":"#REF!"}},{"$f":"tabula!#REF!","v":{"$error":"#REF!"}},{"$f":"tabula!#REF!","v":{"$error":"#REF!"}},{"$f":"tabula!#REF!","v":{"$error":"#REF!"}},{"$f":"tabula!#REF!","v":{"$error":"#REF!"}},{"$f":"tabula!#REF!","v":{"$error":"#REF!"}},{"$f":"tabula!#REF!","v":{"$error":"#REF!"}},{"$f":"tabula!#REF!","v":{"$error":"#REF!"}},{"$f":"tabula!#REF!","v":{"$error":"#REF!"}},{"$f":"tabula!#REF!","v":{"$error":"#REF!"}}]
[null,2,{"$f":"tabula!#REF!","v":{"$error":"#REF!"}},{"$f":"tabula!#REF!","v":{"$error":"#REF!"}},{"$f":"tabula!#REF!","v":{"$error":"#REF!"}},{"$f":"tabula!#REF!","v":{"$error":"#REF!"}},{"$f":"tabula!#REF!","v":{"$error":"#REF!"}},{"$f":"tabula!#REF!","v":{"$error":"#REF!"}},{"$f":"tabula!#REF!","v":{"$error":"#REF!"}},{"$f":"tabula!#REF!","v":{"$error":"#REF!"}},{"$f":"tabula!#REF!","v":{"$error":"#REF!"}},{"$f":"tabula!#REF!","v":{"$error":"#REF!"}},{"$f":"tabula!#REF!","v":{"$error":"#REF!"}},{"$f":"tabula!#REF!","v":{"$error":"#REF!"}},{"$f":"tabula!#REF!","v":{"$error":"#REF!"}},{"$f":"tabula!#REF!","v":{"$error":"#REF!"}},{"$f":"tabula!#REF!","v":{"$error":"#REF!"}},{"$f":"tabula!#REF!","v":{"$error":"#REF!"}}]
[null,3,{"$f":"tabula!#REF!","v":{"$error":"#REF!"}},{"$f":"tabula!#REF!","v":{"$error":"#REF!"}},{"$f":"tabula!#REF!","v":{"$error":"#REF!"}},{"$f":"tabula!#REF!","v":{"$error":"#REF!"}},{"$f":"tabula!#REF!","v":{"$error":"#REF!"}},{"$f":"tabula!#REF!","v":{"$error":"#REF!"}},{"$f":"tabula!#REF!","v":{"$error":"#REF!"}},{"$f":"tabula!#REF!","v":{"$error":"#REF!"}},{"$f":"tabula!#REF!","v":{"$error":"#REF!"}},{"$f":"tabula!#REF!","v":{"$error":"#REF!"}},{"$f":"tabula!#REF!","v":{"$error":"#REF!"}},{"$f":"tabula!#REF!","v":{"$error":"#REF!"}},{"$f":"tabula!#REF!","v":{"$error":"#REF!"}},{"$f":"tabula!#REF!","v":{"$error":"#REF!"}},{"$f":"tabula!#REF!","v":{"$error":"#REF!"}},{"$f":"tabula!#REF!","v":{"$error":"#REF!"}}]
[null,2,{"$f":"tabula!#REF!","v":{"$error":"#REF!"}},{"$f":"tabula!#REF!","v":{"$error":"#REF!"}},{"$f":"tabula!#REF!","v":{"$error":"#REF!"}},{"$f":"tabula!#REF!","v":{"$error":"#REF!"}},{"$f":"tabula!#REF!","v":{"$error":"#REF!"}},{"$f":"tabula!#REF!","v":{"$error":"#REF!"}},{"$f":"tabula!#REF!","v":{"$error":"#REF!"}},{"$f":"tabula!#REF!","v":{"$error":"#REF!"}},{"$f":"tabula!#REF!","v":{"$error":"#REF!"}},{"$f":"tabula!#REF!","v":{"$error":"#REF!"}},{"$f":"tabula!#REF!","v":{"$error":"#REF!"}},{"$f":"tabula!#REF!","v":{"$error":"#REF!"}},{"$f":"tabula!#REF!","v":{"$error":"#REF!"}},{"$f":"tabula!#REF!","v":{"$error":"#REF!"}},{"$f":"tabula!#REF!","v":{"$error":"#REF!"}},{"$f":"tabula!#REF!","v":{"$error":"#REF!"}}]
[null,2,{"$f":"tabula!#REF!","v":{"$error":"#REF!"}},{"$f":"tabula!#REF!","v":{"$error":"#REF!"}},{"$f":"tabula!#REF!","v":{"$error":"#REF!"}},{"$f":"tabula!#REF!","v":{"$error":"#REF!"}},{"$f":"tabula!#REF!","v":{"$error":"#REF!"}},{"$f":"tabula!#REF!","v":{"$error":"#REF!"}},{"$f":"tabula!#REF!","v":{"$error":"#REF!"}},{"$f":"tabula!#REF!","v":{"$error":"#REF!"}},{"$f":"tabula!#REF!","v":{"$error":"#REF!"}},{"$f":"tabula!#REF!","v":{"$error":"#REF!"}},{"$f":"tabula!#REF!","v":{"$error":"#REF!"}},{"$f":"tabula!#REF!","v":{"$error":"#REF!"}},{"$f":"tabula!#REF!","v":{"$error":"#REF!"}},{"$f":"tabula!#REF!","v":{"$error":"#REF!"}},{"$f":"tabula!#REF!","v":{"$error":"#REF!"}},{"$f":"tabula!#REF!","v":{"$error":"#REF!"}}]
[null,2,{"$f":"tabula!#REF!","v":{"$error":"#REF!"}},{"$f":"tabula!#REF!","v":{"$error":"#REF!"}},{"$f":"tabula!#REF!","v":{"$error":"#REF!"}},{"$f":"tabula!#REF!","v":{"$error":"#REF!"}},{"$f":"tabula!#REF!","v":{"$error":"#REF!"}},{"$f":"tabula!#REF!","v":{"$error":"#REF!"}},{"$f":"tabula!#REF!","v":{"$error":"#REF!"}},{"$f":"tabula!#REF!","v":{"$error":"#REF!"}},{"$f":"tabula!#REF!","v":{"$error":"#REF!"}},{"$f":"tabula!#REF!","v":{"$error":"#REF!"}},{"$f":"tabula!#REF!","v":{"$error":"#REF!"}},{"$f":"tabula!#REF!","v":{"$error":"#REF!"}},{"$f":"tabula!#REF!","v":{"$error":"#REF!"}},{"$f":"tabula!#REF!","v":{"$error":"#REF!"}},{"$f":"tabula!#REF!","v":{"$error":"#REF!"}},{"$f":"tabula!#REF!","v":{"$error":"#REF!"}}]
[null,3,{"$f":"tabula!#REF!","v":{"$error":"#REF!"}},{"$f":"tabula!#REF!","v":{"$error":"#REF!"}},{"$f":"tabula!#REF!","v":{"$error":"#REF!"}},{"$f":"tabula!#REF!","v":{"$error":"#REF!"}},{"$f":"tabula!#REF!","v":{"$error":"#REF!"}},{"$f":"tabula!#REF!","v":{"$error":"#REF!"}},{"$f":"tabula!#REF!","v":{"$error":"#REF!"}},{"$f":"tabula!#REF!","v":{"$error":"#REF!"}},{"$f":"tabula!#REF!","v":{"$error":"#REF!"}},{"$f":"tabula!#REF!","v":{"$error":"#REF!"}},{"$f":"tabula!#REF!","v":{"$error":"#REF!"}},{"$f":"tabula!#REF!","v":{"$error":"#REF!"}},{"$f":"tabula!#REF!","v":{"$error":"#REF!"}},{"$f":"tabula!#REF!","v":{"$error":"#REF!"}},{"$f":"tabula!#REF!","v":{"$error":"#REF!"}},{"$f":"tabula!#REF!","v":{"$error":"#REF!"}}]
[null,1,{"$f":"tabula!#REF!","v":{"$error":"#REF!"}},{"$f":"tabula!#REF!","v":{"$error":"#REF!"}},{"$f":"tabula!#REF!","v":{"$error":"#REF!"}},{"$f":"tabula!#REF!","v":{"$error":"#REF!"}},{"$f":"tabula!#REF!","v":{"$error":"#REF!"}},{"$f":"tabula!#REF!","v":{"$error":"#REF!"}},{"$f":"tabula!#REF!","v":{"$error":"#REF!"}},{"$f":"tabula!#REF!","v":{"$error":"#REF!"}},{"$f":"tabula!#REF!","v":{"$error":"#REF!"}},{"$f":"tabula!#REF!","v":{"$error":"#REF!"}},{"$f":"tabula!#REF!","v":{"$error":"#REF!"}},{"$f":"tabula!#REF!","v":{"$error":"#REF!"}},{"$f":"tabula!#REF!","v":{"$error":"#REF!"}},{"$f":"tabula!#REF!","v":{"$error":"#REF!"}},{"$f":"tabula!#REF!","v":{"$error":"#REF!"}},{"$f":"tabula!#REF!","v":{"$error":"#REF!"}}]
[null,3,{"$f":"tabula!#REF!","v":{"$error":"#REF!"}},{"$f":"tabula!#REF!","v":{"$error":"#REF!"}},{"$f":"tabula!#REF!","v":{"$error":"#REF!"}},{"$f":"tabula!#REF!","v":{"$error":"#REF!"}},{"$f":"tabula!#REF!","v":{"$error":"#REF!"}},{"$f":"tabula!#REF!","v":{"$error":"#REF!"}},{"$f":"tabula!#REF!","v":{"$error":"#REF!"}},{"$f":"tabula!#REF!","v":{"$error":"#REF!"}},{"$f":"tabula!#REF!","v":{"$error":"#REF!"}},{"$f":"tabula!#REF!","v":{"$error":"#REF!"}},{"$f":"tabula!#REF!","v":{"$error":"#REF!"}},{"$f":"tabula!#REF!","v":{"$error":"#REF!"}},{"$f":"tabula!#REF!","v":{"$error":"#REF!"}},{"$f":"tabula!#REF!","v":{"$error":"#REF!"}},{"$f":"tabula!#REF!","v":{"$error":"#REF!"}},{"$f":"tabula!#REF!","v":{"$error":"#REF!"}}]
[null,3,{"$f":"tabula!#REF!","v":{"$error":"#REF!"}},{"$f":"tabula!#REF!","v":{"$error":"#REF!"}},{"$f":"tabula!#REF!","v":{"$error":"#REF!"}},{"$f":"tabula!#REF!","v":{"$error":"#REF!"}},{"$f":"tabula!#REF!","v":{"$error":"#REF!"}},{"$f":"tabula!#REF!","v":{"$error":"#REF!"}},{"$f":"tabula!#REF!","v":{"$error":"#REF!"}},{"$f":"tabula!#REF!","v":{"$error":"#REF!"}},{"$f":"tabula!#REF!","v":{"$error":"#REF!"}},{"$f":"tabula!#REF!","v":{"$error":"#REF!"}},{"$f":"tabula!#REF!","v":{"$error":"#REF!"}},{"$f":"tabula!#REF!","v":{"$error":"#REF!"}},{"$f":"tabula!#REF!","v":{"$error":"#REF!"}},{"$f":"tabula!#REF!","v":{"$error":"#REF!"}},{"$f":"tabula!#REF!","v":{"$error":"#REF!"}},{"$f":"tabula!#REF!","v":{"$error":"#REF!"}}]
[null,3,{"$f":"tabula!#REF!","v":{"$error":"#REF!"}},{"$f":"tabula!#REF!","v":{"$error":"#REF!"}},{"$f":"tabula!#REF!","v":{"$error":"#REF!"}},{"$f":"tabula!#REF!","v":{"$error":"#REF!"}},{"$f":"tabula!#REF!","v":{"$error":"#REF!"}},{"$f":"tabula!#REF!","v":{"$error":"#REF!"}},{"$f":"tabula!#REF!","v":{"$error":"#REF!"}},{"$f":"tabula!#REF!","v":{"$error":"#REF!"}},{"$f":"tabula!#REF!","v":{"$error":"#REF!"}},{"$f":"tabula!#REF!","v":{"$error":"#REF!"}},{"$f":"tabula!#REF!","v":{"$error":"#REF!"}},{"$f":"tabula!#REF!","v":{"$error":"#REF!"}},{"$f":"tabula!#REF!","v":{"$error":"#REF!"}},{"$f":"tabula!#REF!","v":{"$error":"#REF!"}},{"$f":"tabula!#REF!","v":{"$error":"#REF!"}},{"$f":"tabula!#REF!","v":{"$error":"#REF!"}}]
[null,1,{"$f":"tabula!#REF!","v":{"$error":"#REF!"}},{"$f":"tabula!#REF!","v":{"$error":"#REF!"}},{"$f":"tabula!#REF!","v":{"$error":"#REF!"}},{"$f":"tabula!#REF!","v":{"$error":"#REF!"}},{"$f":"tabula!#REF!","v":{"$error":"#REF!"}},{"$f":"tabula!#REF!","v":{"$error":"#REF!"}},{"$f":"tabula!#REF!","v":{"$error":"#REF!"}},{"$f":"tabula!#REF!","v":{"$error":"#REF!"}},{"$f":"tabula!#REF!","v":{"$error":"#REF!"}},{"$f":"tabula!#REF!","v":{"$error":"#REF!"}},{"$f":"tabula!#REF!","v":{"$error":"#REF!"}},{"$f":"tabula!#REF!","v":{"$error":"#REF!"}},{"$f":"tabula!#REF!","v":{"$error":"#REF!"}},{"$f":"tabula!#REF!","v":{"$error":"#REF!"}},{"$f":"tabula!#REF!","v":{"$error":"#REF!"}},{"$f":"tabula!#REF!","v":{"$error":"#REF!"}}]
[null,1,{"$f":"tabula!#REF!","v":{"$error":"#REF!"}},{"$f":"tabula!#REF!","v":{"$error":"#REF!"}},{"$f":"tabula!#REF!","v":{"$error":"#REF!"}},{"$f":"tabula!#REF!","v":{"$error":"#REF!"}},{"$f":"tabula!#REF!","v":{"$error":"#REF!"}},{"$f":"tabula!#REF!","v":{"$error":"#REF!"}},{"$f":"tabula!#REF!","v":{"$error":"#REF!"}},{"$f":"tabula!#REF!","v":{"$error":"#REF!"}},{"$f":"tabula!#REF!","v":{"$error":"#REF!"}},{"$f":"tabula!#REF!","v":{"$error":"#REF!"}},{"$f":"tabula!#REF!","v":{"$error":"#REF!"}},{"$f":"tabula!#REF!","v":{"$error":"#REF!"}},{"$f":"tabula!#REF!","v":{"$error":"#REF!"}},{"$f":"tabula!#REF!","v":{"$error":"#REF!"}},{"$f":"tabula!#REF!","v":{"$error":"#REF!"}},{"$f":"tabula!#REF!","v":{"$error":"#REF!"}}]
[null,3,{"$f":"tabula!#REF!","v":{"$error":"#REF!"}},{"$f":"tabula!#REF!","v":{"$error":"#REF!"}},{"$f":"tabula!#REF!","v":{"$error":"#REF!"}},{"$f":"tabula!#REF!","v":{"$error":"#REF!"}},{"$f":"tabula!#REF!","v":{"$error":"#REF!"}},{"$f":"tabula!#REF!","v":{"$error":"#REF!"}},{"$f":"tabula!#REF!","v":{"$error":"#REF!"}},{"$f":"tabula!#REF!","v":{"$error":"#REF!"}},{"$f":"tabula!#REF!","v":{"$error":"#REF!"}},{"$f":"tabula!#REF!","v":{"$error":"#REF!"}},{"$f":"tabula!#REF!","v":{"$error":"#REF!"}},{"$f":"tabula!#REF!","v":{"$error":"#REF!"}},{"$f":"tabula!#REF!","v":{"$error":"#REF!"}},{"$f":"tabula!#REF!","v":{"$error":"#REF!"}},{"$f":"tabula!#REF!","v":{"$error":"#REF!"}},{"$f":"tabula!#REF!","v":{"$error":"#REF!"}}]
[null,null,{"$f":"tabula!#REF!","v":{"$error":"#REF!"}},{"$f":"tabula!#REF!","v":{"$error":"#REF!"}},{"$f":"tabula!#REF!","v":{"$error":"#REF!"}},{"$f":"tabula!#REF!","v":{"$error":"#REF!"}},{"$f":"tabula!#REF!","v":{"$error":"#REF!"}},{"$f":"tabula!#REF!","v":{"$error":"#REF!"}},{"$f":"tabula!#REF!","v":{"$error":"#REF!"}},{"$f":"tabula!#REF!","v":{"$error":"#REF!"}},{"$f":"tabula!#REF!","v":{"$error":"#REF!"}},{"$f":"tabula!#REF!","v":{"$error":"#REF!"}},{"$f":"tabula!#REF!","v":{"$error":"#REF!"}},{"$f":"tabula!#REF!","v":{"$error":"#REF!"}},{"$f":"tabula!#REF!","v":{"$error":"#REF!"}},{"$f":"tabula!#REF!","v":{"$error":"#REF!"}},{"$f":"tabula!#REF!","v":{"$error":"#REF!"}},{"$f":"tabula!#REF!","v":{"$error":"#REF!"}}]
[null,null,{"$f":"tabula!#REF!","v":{"$error":"#REF!"}},{"$f":"tabula!#REF!","v":{"$error":"#REF!"}},{"$f":"tabula!#REF!","v":{"$error":"#REF!"}},{"$f":"tabula!#REF!","v":{"$error":"#REF!"}},{"$f":"tabula!#REF!","v":{"$error":"#REF!"}},{"$f":"tabula!#REF!","v":{"$error":"#REF!"}},{"$f":"tabula!#REF!","v":{"$error":"#REF!"}},{"$f":"tabula!#REF!","v":{"$error":"#REF!"}},{"$f":"tabula!#REF!","v":{"$error":"#REF!"}},{"$f":"tabula!#REF!","v":{"$error":"#REF!"}},{"$f":"tabula!#REF!","v":{"$error":"#REF!"}},{"$f":"tabula!#REF!","v":{"$error":"#REF!"}},{"$f":"tabula!#REF!","v":{"$error":"#REF!"}},{"$f":"tabula!#REF!","v":{"$error":"#REF!"}},{"$f":"tabula!#REF!","v":{"$error":"#REF!"}},{"$f":"tabula!#REF!","v":{"$error":"#REF!"}}]
[null,null,{"$f":"tabula!#REF!","v":{"$error":"#REF!"}},{"$f":"tabula!#REF!","v":{"$error":"#REF!"}},{"$f":"tabula!#REF!","v":{"$error":"#REF!"}},{"$f":"tabula!#REF!","v":{"$error":"#REF!"}},{"$f":"tabula!#REF!","v":{"$error":"#REF!"}},{"$f":"tabula!#REF!","v":{"$error":"#REF!"}},{"$f":"tabula!#REF!","v":{"$error":"#REF!"}},{"$f":"tabula!#REF!","v":{"$error":"#REF!"}},{"$f":"tabula!#REF!","v":{"$error":"#REF!"}},{"$f":"tabula!#REF!","v":{"$error":"#REF!"}},{"$f":"tabula!#REF!","v":{"$error":"#REF!"}},{"$f":"tabula!#REF!","v":{"$error":"#REF!"}},{"$f":"tabula!#REF!","v":{"$error":"#REF!"}},{"$f":"tabula!#REF!","v":{"$error":"#REF!"}},{"$f":"tabula!#REF!","v":{"$error":"#REF!"}},{"$f":"tabula!#REF!","v":{"$error":"#REF!"}}]
[null,null,{"$f":"tabula!#REF!","v":{"$error":"#REF!"}},{"$f":"tabula!#REF!","v":{"$error":"#REF!"}},{"$f":"tabula!#REF!","v":{"$error":"#REF!"}},{"$f":"tabula!#REF!","v":{"$error":"#REF!"}},{"$f":"tabula!#REF!","v":{"$error":"#REF!"}},{"$f":"tabula!#REF!","v":{"$error":"#REF!"}},{"$f":"tabula!#REF!","v":{"$error":"#REF!"}},{"$f":"tabula!#REF!","v":{"$error":"#REF!"}},{"$f":"tabula!#REF!","v":{"$error":"#REF!"}},{"$f":"tabula!#REF!","v":{"$error":"#REF!"}},{"$f":"tabula!#REF!","v":{"$error":"#REF!"}},{"$f":"tabula!#REF!","v":{"$error":"#REF!"}},{"$f":"tabula!#REF!","v":{"$error":"#REF!"}},{"$f":"tabula!#REF!","v":{"$error":"#REF!"}},{"$f":"tabula!#REF!","v":{"$error":"#REF!"}},{"$f":"tabula!#REF!","v":{"$error":"#REF!"}}]
[null,null,{"$f":"tabula!#REF!","v":{"$error":"#REF!"}},{"$f":"tabula!#REF!","v":{"$error":"#REF!"}},{"$f":"tabula!#REF!","v":{"$error":"#REF!"}},{"$f":"tabula!#REF!","v":{"$error":"#REF!"}},{"$f":"tabula!#REF!","v":{"$error":"#REF!"}},{"$f":"tabula!#REF!","v":{"$error":"#REF!"}},{"$f":"tabula!#REF!","v":{"$error":"#REF!"}},{"$f":"tabula!#REF!","v":{"$error":"#REF!"}},{"$f":"tabula!#REF!","v":{"$error":"#REF!"}},{"$f":"tabula!#REF!","v":{"$error":"#REF!"}},{"$f":"tabula!#REF!","v":{"$error":"#REF!"}},{"$f":"tabula!#REF!","v":{"$error":"#REF!"}},{"$f":"tabula!#REF!","v":{"$error":"#REF!"}},{"$f":"tabula!#REF!","v":{"$error":"#REF!"}},{"$f":"tabula!#REF!","v":{"$error":"#REF!"}},{"$f":"tabula!#REF!","v":{"$error":"#REF!"}}]
[null,null,{"$f":"tabula!#REF!","v":{"$error":"#REF!"}},{"$f":"tabula!#REF!","v":{"$error":"#REF!"}},{"$f":"tabula!#REF!","v":{"$error":"#REF!"}},{"$f":"tabula!#REF!","v":{"$error":"#REF!"}},{"$f":"tabula!#REF!","v":{"$error":"#REF!"}},{"$f":"tabula!#REF!","v":{"$error":"#REF!"}},{"$f":"tabula!#REF!","v":{"$error":"#REF!"}},{"$f":"tabula!#REF!","v":{"$error":"#REF!"}},{"$f":"tabula!#REF!","v":{"$error":"#REF!"}},{"$f":"tabula!#REF!","v":{"$error":"#REF!"}},{"$f":"tabula!#REF!","v":{"$error":"#REF!"}},{"$f":"tabula!#REF!","v":{"$error":"#REF!"}},{"$f":"tabula!#REF!","v":{"$error":"#REF!"}},{"$f":"tabula!#REF!","v":{"$error":"#REF!"}},{"$f":"tabula!#REF!","v":{"$error":"#REF!"}},{"$f":"tabula!#REF!","v":{"$error":"#REF!"}}]
[null,null,{"$f":"tabula!#REF!","v":{"$error":"#REF!"}},{"$f":"tabula!#REF!","v":{"$error":"#REF!"}},{"$f":"tabula!#REF!","v":{"$error":"#REF!"}},{"$f":"tabula!#REF!","v":{"$error":"#REF!"}},{"$f":"tabula!#REF!","v":{"$error":"#REF!"}},{"$f":"tabula!#REF!","v":{"$error":"#REF!"}},{"$f":"tabula!#REF!","v":{"$error":"#REF!"}},{"$f":"tabula!#REF!","v":{"$error":"#REF!"}},{"$f":"tabula!#REF!","v":{"$error":"#REF!"}},{"$f":"tabula!#REF!","v":{"$error":"#REF!"}},{"$f":"tabula!#REF!","v":{"$error":"#REF!"}},{"$f":"tabula!#REF!","v":{"$error":"#REF!"}},{"$f":"tabula!#REF!","v":{"$error":"#REF!"}},{"$f":"tabula!#REF!","v":{"$error":"#REF!"}},{"$f":"tabula!#REF!","v":{"$error":"#REF!"}},{"$f":"tabula!#REF!","v":{"$error":"#REF!"}}]
[]
[null,null,"LIELDRAUGS                                                    ATBALSTĪTĀJI"]

{"sheet":"raundi","index":3,"n_rows":17,"n_cols":8,"rows_kept":17,"cut":false,"hidden":false,"merged":[[1,1,1,7],[13,1,14,1],[13,2,13,3],[13,4,14,4],[13,6,14,6],[13,7,14,7],[14,2,14,3],[13,5,14,5]]}
[]
[null,{"$f":"CONCATENATE(tabula!C2,\" --> Raundu uzvarētāji\")","v":"\"Sporta viktorīna\" (tiešsaistē / vebinārā) | 2024.gada 12.oktobris --> Raundu uzvarētāji"}]
[null,"#","Raunda nosaukums","Dalībnieks","Rezultāts","AVG","MAX","% no max"]
[null,1,{"$f":"TRANSPOSE(tabula!E4:N4)","v":"Pavediens"},"Iezvanpieeja",114,{"$f":"TRANSPOSE(tabula!E6:N6)","v":74.7},{"$f":"TRANSPOSE(tabula!E5:N5)","v":150},{"$f":"E4/G4","v":0.76}]
[null,2,"Divas atbildes","henks77",142,80.400000000000006,180,{"$f":"E5/G5","v":0.78888888888888886}]
[null,3,"Ekspresis","Tiger",139,97.3,180,0.77222222222222225]
[null,4,"Burtu mīkla","All I want for Xmas is Dukla Prague Away Kit",120,55.1,180,0.66666666666666663]
[null,5,"Ķēde","Raymz&co",158,82.8,175,0.9028571428571428]
[null,6,"Latvija","henks77",119,63.2,150,0.79333333333333333]
[null,7,"Risks","BK Burunduks",68,-9.4,120,0.56666666666666665]
[null,8,"Kas kopīgs?","“Tev tas liekas normāli?”",143,86.8,180,0.7944444444444444]
[null,9,"Liekais pazūd ārpus kastes","Laura Davies",151,70.7,150,1.0066666666666666]
[null,10,"Audio","Tiger",111,54.9,150,0.74]
[null,"-","Uzvarētājs",null,{"$f":"tabula!O7","v":1127},{"$f":"tabula!O6","v":656.3},{"$f":"SUM(G4:G13)","v":1615},{"$f":"E14/G14","v":0.69783281733746128}]
[null,null,{"$f":"tabula!D7","v":"Laura Davies"}]
[]
[null,"LIELDRAUGS                                     ATBALSTĪTĀJI"]