{"text_format":"1","workbook":"xlsx","n_sheets":4,"sheets":["tabula","1-50","51-150","raundi"],"not_rendered":{"charts":0,"images":24,"macros":0,"external_links":0,"defined_names":6,"comments":0,"pivot_tables":0},"unopened":[],"bounds":{"document_bytes":16777216,"sheet_cells":100000,"rows_first":2000,"rows_last":500,"rows_between":2000,"halvings":0,"cell_chars":16384,"cell_head_chars":4096},"cells_cut":0,"cells_raw":0,"read":"whole","date_system":"1900"}

{"sheet":"tabula","index":0,"n_rows":145,"n_cols":18,"rows_kept":145,"cut":false,"hidden":false,"merged":[[5,2,5,3],[4,14,5,14],[2,15,5,15],[2,17,5,17],[2,3,3,3],[1,2,1,17],[2,1,4,1],[2,2,4,2],[2,14,3,14],[2,16,4,16]]}
[]
[null,null,"\"Harija Potera viktorīna\" (tiešsaistē / vebinārā) | 2025.gada 21.oktobris"]
[null,"Grupa","#","Dalībnieks | Raunds | Tēma ",1,2,3,4,5,6,7,8,9,10,"KOPĀ","Laiks kopā uz pareizajām atbildēm","Pareizās atbildes (max)","Vid.laiks uz 1 pareizo atb."]
[null,null,null,null,"Pavediens: Dzīvnieku pasaule","Ekspresis","Vizuālais","Burtu mīkla","Ikdienā lietoti saīsinājumi","Latvija","Risks","Kas kopīgs?","Liekais pazūd: auto pasaule","Audio: instrumentāli"]
[null,null,null,"Max punkti raundā (bez bonusiem) ",150,216,150,150,150,150,120,205,150,150,{"$f":"SUM(E5:N5)","v":1591}]
[null,null,"Jautājumi",null,6,12,6,6,6,6,6,8,6,6,null,null,{"$f":"SUM(E6:N6)","v":68}]
[null,null,null,"Vidējie rādītāji",{"$f":"ROUND(AVERAGE(E8:E783),1)","v":60.2},{"$f":"ROUND(AVERAGE(F8:F783),1)","v":128.5},76,57.5,105.4,59.8,36.799999999999997,95.5,70.400000000000006,73.099999999999994,762.8,"-",43.3,"-"]
[null,3,1,"Accio Atbildes!",103,149,114,100,131,87,86,156,95,113,1134,"05 min. 29,106",58,"05,674 sek."]
[null,1,2,"Krišjānis Voldemorts",82,202,97,76,110,98,82,137,117,111,1112,"05 min. 01,943",57,"05,297 sek."]
[null,1,3,"Harijs Poters",95,132,131,84,142,116,53,130,83,137,1103,"03 min. 56,383",54,"04,377 sek."]
[null,3,4,"Hanza90",93,179,91,120,133,81,41,166,96,101,1101,"04 min. 45,529",57,"05,009 sek."]
[null,1,5,"ģemperis pa 3.50",55,148,106,83,136,113,55,140,119,107,1062,"03 min. 53,702",53,"04,409 sek."]
[null,3,6,"HowYouDoin?",87,136,108,98,90,96,84,178,110,72,1059,"06 min. 35,992",56,"07,071 sek."]
[null,1,7,"Zizlis nestrādā",90,175,86,61,132,109,77,134,101,88,1053,"05 min. 41,466",55,"06,208 sek."]
[null,1,8,"Dobija Kreisā Zeķe",74,155,104,108,87,70,77,172,106,88,1041,"05 min. 05,511",54,"05,658 sek."]
[null,2,9,"Maša",80,113,112,77,132,93,77,147,85,112,1028,"07 min. 24,114",57,"07,791 sek."]
[null,3,10,"Dobija Labā Zeķe",58,159,79,104,100,81,85,161,108,82,1017,"07 min. 12,257",56,"07,719 sek."]
[null,2,11,"Blēžkājis",77,110,113,77,133,92,79,135,83,112,1011,"07 min. 02,616",56,"07,547 sek."]
[null,2,12,"MAD EYE MOODY",88,137,86,38,139,93,81,158,88,92,1000,"04 min. 23,291",51,"05,163 sek."]
[null,2,13,"Winners",57,137,114,84,135,81,78,137,94,81,998,"06 min. 48,078",54,"07,557 sek."]
[null,3,14,"Dobijs",80,149,81,106,120,103,54,146,83,69,991,"04 min. 33,908",51,"05,371 sek."]
[null,1,15,"Eee...",62,154,92,98,116,77,71,121,89,105,985,"06 min. 24,638",54,"07,123 sek."]
[null,3,16,"Echo Bravo",81,158,86,84,127,59,68,138,77,101,979,"04 min. 22,601",51,"05,149 sek."]
[null,3,17,"TRILONIJAS BUMBAS",42,148,92,86,116,56,84,138,92,115,969,"03 min. 38,681",48,"04,556 sek."]
[null,3,18,"Kaķīšu komanda",60,160,107,87,112,98,62,98,72,109,965,"07 min. 25,567",55,"08,101 sek."]
[null,1,19,"Riddikulus",68,149,113,82,115,68,83,113,106,66,963,"03 min. 40,047",49,"04,491 sek."]
[null,1,20,"Emma Fēniksa",85,152,64,79,123,59,75,143,59,112,951,"05 min. 06,437",50,"06,129 sek."]
[null,3,21,"Pa Zoino!",77,161,89,53,95,76,60,123,92,115,941,"04 min. 14,067",48,"05,293 sek."]
[null,null,22,"ROGAS",67,81,83,65,140,107,79,141,58,112,933,"07 min. 11,925",53,"08,150 sek."]
[null,null,23,"Expensive petroleum",40,117,92,86,118,34,78,172,86,108,931,"04 min. 30,585",47,"05,757 sek."]
[null,null,24,"HP un Dīvāna ordenis",61,94,91,51,129,97,70,105,94,137,929,"06 min. 37,729",51,"07,799 sek."]
[null,null,25,"Sindija DJV",72,163,86,84,110,53,61,164,64,66,923,"04 min. 26,276",48,"05,547 sek."]
[null,null,26,"Ame",84,167,89,68,92,65,-17,164,101,107,920,"03 min. 29,725",48,"04,369 sek."]
[null,null,27,"Meriona",58,151,88,107,136,88,40,68,90,90,916,"04 min. 17,398",48,"05,362 sek."]
[null,null,28,"Kraukļanaga ērglis",86,164,91,109,116,50,49,112,35,100,912,"03 min. 26,335",46,"04,486 sek."]
[null,null,29,"Tas Pigmejpūtis",65,141,87,52,136,83,39,134,68,105,910,"04 min. 48,140",48,"06,003 sek."]
[null,null,30,"Theo.lv",69,145,103,53,126,38,79,123,70,99,905,"06 min. 43,377",51,"07,909 sek."]
[null,null,31,"Snape’s On A Plane",86,119,91,52,109,92,98,79,66,106,898,"06 min. 07,108",50,"07,342 sek."]
[null,null,32,"Wizard",89,130,78,65,108,75,43,117,102,84,891,"05 min. 23,272",49,"06,597 sek."]
[null,null,33,"LaumaV",54,148,90,94,134,63,36,93,84,87,883,"04 min. 06,233",47,"05,239 sek."]
[null,null,34,"Kika",50,134,104,84,138,84,69,67,65,83,878,"05 min. 00,199",47,"06,387 sek."]
[null,null,35,"Burvjtriki",55,174,63,74,116,113,36,119,79,45,874,"04 min. 52,332",47,"06,220 sek."]
[null,null,36,"Rupuči, turās!",66,115,91,51,112,78,48,121,91,94,867,"05 min. 21,919",46,"06,998 sek."]
[null,null,37,"MMM",54,165,79,74,115,84,41,121,63,69,865,"03 min. 26,736",45,"04,594 sek."]
[null,null,38,"Mēnestiņš Č.",51,150,83,69,110,100,43,76,84,96,862,"06 min. 48,115",50,"08,162 sek."]
[null,null,39,"Kā bankā",81,145,90,66,94,62,32,129,90,69,858,"03 min. 47,818",44,"05,178 sek."]
[null,null,40,"Kamillas ambrāža",65,152,55,56,111,43,35,127,99,113,856,"05 min. 00,457",47,"06,393 sek."]
[null,null,41,"Lidvāvere",91,130,109,64,139,37,60,68,105,51,854,"03 min. 43,058",44,"05,070 sek."]
[null,null,42,"Zelta zibsnis",41,129,99,68,100,79,48,135,88,66,853,"04 min. 19,024",45,"05,756 sek."]
[null,null,43,"Mandragoras saknes",77,98,67,75,138,49,68,120,84,77,853,"07 min. 09,811",49,"08,772 sek."]
[null,null,44,"Ēraspele",67,163,66,20,110,73,41,113,86,112,851,"06 min. 42,560",49,"08,216 sek."]
[null,null,45,"Dārza iela 1",72,98,77,99,106,58,59,110,83,88,850,"06 min. 34,151",47,"08,386 sek."]
[null,null,46,"Baibix LeStrange",63,169,66,43,113,78,11,105,66,135,849,"02 min. 58,491",44,"04,057 sek."]
[null,null,47,"Panzera vergi",37,146,109,56,86,53,86,132,75,68,848,"05 min. 04,754",46,"06,625 sek."]
[null,null,48,"Zorro",48,113,93,57,105,66,75,107,109,74,847,"08 min. 10,588",50,"09,812 sek."]
[null,null,49,"Paijpere",60,163,101,38,111,70,39,101,99,63,845,"05 min. 19,467",47,"06,797 sek."]
[null,null,50,"Emma&Co",62,149,87,77,107,57,8,150,63,84,844,"05 min. 17,162",47,"06,748 sek."]
[null,null,51,"MEGA Biezenis",55,164,134,60,91,81,39,83,89,45,841,"03 min. 37,099",44,"04,934 sek."]
[null,null,52,"Ieslodzītais",83,151,88,62,108,42,33,78,84,106,835,"06 min. 11,873",49,"07,589 sek."]
[null,null,53,"Bosbatonas princeses",81,158,95,84,115,41,14,69,114,60,831,"04 min. 18,006",45,"05,733 sek."]
[null,null,54,"Laumiņa",54,146,88,41,112,72,51,87,86,90,827,"03 min. 05,109",42,"04,407 sek."]
[null,null,55,"Kjiimikjis",68,150,89,60,139,79,46,70,66,60,827,"05 min. 19,154",46,"06,938 sek."]
[null,null,56,"Morgana",72,143,99,83,117,57,-8,86,83,93,825,"04 min. 18,229",45,"05,738 sek."]
[null,null,57,"Attārpotāji",52,112,85,73,111,38,54,153,90,54,822,"10 min. 09,343",53,"11,497 sek."]
[null,null,58,"Gunther",52,124,63,104,92,72,76,119,93,24,819,"06 min. 18,553",46,"08,229 sek."]
[null,null,59,"Nifflers",82,160,91,67,111,63,8,88,79,69,818,"03 min. 26,388",44,"04,691 sek."]
[null,null,60,"Edgars un Kristīne",52,145,103,58,105,53,32,99,63,103,813,"05 min. 38,811",47,"07,209 sek."]
[null,null,61,"Vientieši",58,136,112,18,71,90,6,112,139,69,811,"02 min. 54,549",42,"04,156 sek."]
[null,null,62,"atKodēji",33,146,77,73,94,78,74,78,86,66,805,"04 min. 31,154",43,"06,306 sek."]
[null,null,63,"Tom.ss",83,115,63,99,91,62,46,130,91,24,804,"04 min. 30,422",43,"06,289 sek."]
[null,null,64,"Marodieri",57,130,87,65,87,60,71,96,59,89,801,"03 min. 46,446",42,"05,392 sek."]
[null,null,65,"Cukurzirnītis",65,155,101,41,108,57,39,102,66,65,799,"05 min. 54,691",46,"07,711 sek."]
[null,null,66,"BraveDucks",33,137,64,90,112,81,11,92,56,119,795,"05 min. 05,390",45,"06,786 sek."]
[null,null,67,"Lego Friends",87,147,95,18,112,64,42,61,68,98,792,"05 min. 31,437",45,"07,365 sek."]
[null,null,68,"Pirāts",50,130,112,23,141,106,36,95,76,22,791,"04 min. 54,966",43,"06,860 sek."]
[null,null,69,"pienazupa",80,114,63,47,110,66,80,125,57,45,787,"08 min. 10,634",48,"10,222 sek."]
[null,null,70,"Šķirmice",73,86,108,57,107,38,61,110,68,77,785,"06 min. 41,288",45,"08,918 sek."]
[null,null,71,"Grifidora lauvas",37,115,107,87,90,96,-9,92,83,80,778,"07 min. 22,871",46,"09,628 sek."]
[null,null,72,"Tainijs",70,105,74,63,113,68,57,85,62,79,776,"08 min. 40,936",48,"10,853 sek."]
[null,null,73,"ELIINA",73,123,89,65,86,62,59,108,17,89,771,"04 min. 15,508",41,"06,232 sek."]
[null,null,74,"Lusteklis",51,111,88,43,102,33,75,101,79,81,764,"06 min. 07,075",45,"08,157 sek."]
[null,null,75,"Susuri",56,139,62,56,114,44,6,121,69,94,761,"02 min. 53,606",40,"04,340 sek."]
[null,null,76,"Lācīši",57,148,38,28,136,39,36,104,93,70,749,"06 min. 13,955",44,"08,499 sek."]
[null,null,77,"Pelmenis",38,158,84,38,112,77,52,69,59,59,746,"05 min. 23,217",43,"07,517 sek."]
[null,null,78,"Liepu iela",68,100,73,63,111,66,55,86,57,64,743,"08 min. 47,653",47,"11,227 sek."]
[null,null,79,"Smartlords",70,116,46,37,119,26,40,92,84,106,736,"06 min. 18,173",43,"08,795 sek."]
[null,null,80,"Vecais Džī un KaraLiene",93,106,54,33,100,42,47,111,61,86,733,"07 min. 00,264",44,"09,551 sek."]
[null,null,81,"Augļu ielas republika",45,138,105,0,114,91,17,81,53,87,731,"04 min. 56,276",42,"07,054 sek."]
[null,null,82,"varde ar brillēm",52,157,105,57,100,38,25,98,50,45,727,"05 min. 14,429",42,"07,486 sek."]
[null,null,83,"Ne jau atkal",65,92,82,37,127,62,16,74,85,86,726,"07 min. 45,657",46,"10,123 sek."]
[null,null,84,"Tukšrokdžimpiņ",66,171,45,74,116,22,22,78,82,48,724,"04 min. 47,890",42,"06,855 sek."]
[null,null,85,"Kristāliņi",68,89,76,40,112,62,54,87,68,68,724,"07 min. 24,096",45,"09,869 sek."]
[null,null,86,"ABC",22,141,65,77,113,57,28,42,87,90,722,"04 min. 09,058",40,"06,226 sek."]
[null,null,87,"Agilla",73,155,45,73,112,50,75,41,43,55,722,"04 min. 18,361",40,"06,459 sek."]
[null,null,88,"NeČītrā Velnene",46,124,82,51,88,41,47,127,62,54,722,"07 min. 57,989",46,"10,391 sek."]
[null,null,89,"Strupsis",44,194,64,59,107,7,67,65,52,56,715,"05 min. 04,411",42,"07,248 sek."]
[null,null,90,"Rio",29,142,43,86,96,92,41,46,71,62,708,"02 min. 59,161",38,"04,715 sek."]
[null,null,91,"Sancchoo",45,169,64,55,116,62,-26,61,63,84,693,"02 min. 42,249",38,"04,270 sek."]
[null,null,92,"Bīstamie",49,76,84,21,125,84,71,40,56,85,691,"04 min. 42,698",39,"07,249 sek."]
[null,null,93,"Budži",78,103,71,69,108,17,23,72,83,62,686,"07 min. 05,660",43,"09,899 sek."]
[null,null,94,"Riekstiņi",40,114,69,68,98,21,16,91,86,76,679,"07 min. 35,962",45,"10,132 sek."]
[null,null,95,"Ilze",56,135,63,0,82,45,43,122,62,69,677,"04 min. 55,215",40,"07,380 sek."]
[null,null,96,"Astotais horkrusts",63,97,75,64,87,47,34,81,76,53,677,"07 min. 00,684",43,"09,783 sek."]
[null,null,97,"Gendalfine",56,104,67,27,85,75,32,38,86,106,676,"04 min. 08,157",38,"06,530 sek."]
[null,null,98,"Tigerkomanda",59,97,66,37,91,77,36,97,60,56,676,"05 min. 19,592",39,"08,195 sek."]
[null,null,99,"Daudzsulu mikstūra",58,109,71,26,127,49,14,67,83,71,675,"07 min. 21,158",44,"10,026 sek."]
[null,null,100,"Izvelc vidējo",61,91,84,52,130,49,59,58,38,43,665,"04 min. 32,729",37,"07,371 sek."]
[null,null,101,"HubTuri",22,85,48,45,97,41,93,87,47,97,662,"07 min. 49,747",44,"10,676 sek."]
[null,null,102,"LOLA",60,109,73,20,86,31,31,90,88,73,661,"06 min. 37,273",41,"09,690 sek."]
[null,null,103,"Poga",65,147,56,60,90,57,38,57,45,40,655,"06 min. 15,621",40,"09,391 sek."]
[null,null,104,"BĀZES",54,106,47,32,116,51,-6,95,79,77,651,"06 min. 53,016",42,"09,834 sek."]
[null,null,105,"Jautrais Kekss",36,92,100,75,88,83,22,33,32,87,648,"05 min. 20,846",38,"08,443 sek."]
[null,null,106,"Teo",72,98,85,53,68,55,9,84,38,83,645,"04 min. 05,258",36,"06,813 sek."]
[null,null,107,"Filozofu akmens",61,135,94,55,88,27,-22,106,53,46,643,"05 min. 02,668",40,"07,567 sek."]
[null,null,108,"Mans Nau Dumš",49,102,50,49,113,72,27,72,43,63,640,"08 min. 16,209",43,"11,540 sek."]
[null,null,109,"Burvju Dāmas no Hogvartas",51,138,42,58,101,71,6,23,66,76,632,"04 min. 39,110",39,"07,157 sek."]
[null,null,110,"Pretējās mājas Skaidrīte",51,109,33,57,106,53,40,49,49,81,628,"06 min. 28,095",39,"09,951 sek."]
[null,null,111,"Kabacis",48,137,21,32,132,55,12,68,54,62,621,"04 min. 29,954",38,"07,104 sek."]
[null,null,112,"Hogwarts Legacy house",44,106,70,61,94,31,20,34,76,74,610,"03 min. 47,206",35,"06,492 sek."]
[null,null,113,"Dambldora armija!",49,79,70,29,93,41,24,111,55,53,604,"07 min. 53,812",41,"11,556 sek."]
[null,null,114,"Paulīne",20,49,96,43,85,113,13,61,54,65,599,"04 min. 02,392",34,"07,129 sek."]
[null,null,115,"TheGoldenTrio+2⚡️",35,120,42,49,84,44,32,73,52,65,596,"03 min. 54,751",34,"06,904 sek."]
[null,null,116,"Lotte",57,137,39,38,107,14,13,104,51,22,582,"03 min. 48,002",35,"06,514 sek."]
[null,null,117,"I-Džejs",75,94,55,37,63,42,10,97,56,52,581,"06 min. 03,134",36,"10,087 sek."]
[null,null,118,"Jaunās Lauvas",58,106,82,47,82,49,30,45,21,60,580,"07 min. 13,260",38,"11,402 sek."]
[null,null,119,"Saulīte",52,128,35,22,113,35,27,46,63,58,579,"03 min. 19,903",33,"06,058 sek."]
[null,null,120,"Otrdienas Elšpūtis",71,87,68,33,97,33,24,62,65,37,577,"06 min. 42,268",37,"10,872 sek."]
[null,null,121,"Puse no Pipariņiem",56,90,39,18,107,27,49,43,71,60,560,"05 min. 20,698",35,"09,163 sek."]
[null,null,122,"Sabiya",38,147,41,22,64,44,47,82,53,21,559,"05 min. 19,563",34,"09,399 sek."]
[null,null,123,"Austrumi Azkabanā",41,141,38,59,90,23,-52,64,89,43,536,"03 min. 57,679",33,"07,202 sek."]
[null,null,124,"KristsT",38,125,38,63,81,15,21,59,62,19,521,"03 min. 31,435",30,"07,048 sek."]
[null,null,125,"Bikko",59,92,42,21,85,12,-25,108,39,86,519,"02 min. 50,451",30,"05,682 sek."]
[null,null,126,"Dzīves Atspulgs AA",57,104,73,39,105,12,12,38,53,16,509,"07 min. 00,376",35,"12,011 sek."]
[null,null,127,"Auzenbergi",38,130,81,49,84,14,5,43,61,0,505,"03 min. 36,061",32,"06,752 sek."]
[null,null,128,"Pūkains Poters",22,80,39,22,115,9,-60,91,58,112,488,"02 min. 29,799",29,"05,165 sek."]
[null,null,129,"Petūnijas",54,104,40,35,68,60,-37,88,22,41,475,"03 min. 31,587",29,"07,296 sek."]
[null,null,130,"SiuuuuXbro",null,136,24,41,89,63,-14,83,44,0,466,"02 min. 36,588",28,"05,592 sek."]
[null,null,131,"Laivinieki",33,95,40,29,75,35,17,63,26,30,443,"08 min. 16,912",35,"14,197 sek."]
[null,null,132,"Dobijs#2",35,104,38,0,61,30,-6,61,43,42,408,"04 min. 08,779",28,"08,885 sek."]
[null,null,133,"Kaspara Komanda",55,99,46,12,58,18,-27,62,27,43,393,"07 min. 55,098",33,"14,397 sek."]
[null,null,134,"M&E&Co",60,104,37,17,74,8,-4,39,21,28,384,"05 min. 21,901",28,"11,496 sek."]
[null,null,135,"Urzula",55,96,61,59,90,19,0,0,0,0,380,"03 min. 03,525",23,"07,979 sek."]
[null,null,136,"Toms Čepelovs",46,108,46,39,31,40,-85,59,24,40,348,"03 min. 25,204",25,"08,208 sek."]
[null,null,137,"Artjoms&Lolita",46,119,22,54,88,65,-77,25,0,0,342,"02 min. 55,302",25,"07,012 sek."]
[null,null,138,"Burunduki 3",55,57,0,15,44,20,-18,56,15,18,262,"07 min. 38,032",26,"17,617 sek."]

{"sheet":"1-50","index":1,"n_rows":59,"n_cols":18,"rows_kept":59,"cut":false,"hidden":false,"merged":[[2,16,4,16],[2,17,5,17],[4,14,5,14],[5,2,5,3],[2,1,4,1],[2,2,4,2],[2,14,3,14],[2,3,3,3],[2,15,5,15]]}
[]
[null,null,{"$f":"tabula!C2","v":"\"Harija Potera viktorīna\" (tiešsaistē / vebinārā) | 2025.gada 21.oktobris"}]
[null,"Grupa","#","Dalībnieks | Raunds | Tēma ",1,2,3,4,5,6,7,8,9,10,"KOPĀ","Laiks kopā uz pareizajām atbildēm","Pareizās atbildes (max)","Vid.laiks uz 1 pareizo atb."]
[null,null,null,null,"Pavediens","Ekspresis","Video","Pastaiga pa Cūkkārpu","Filmēšanas vietas","Kura filma?",{"$f":"tabula!K4","v":"Risks"},{"$f":"tabula!L4","v":"Kas kopīgs?"},"Liekais pazūd: Pēdējo gadu aktualitātes","Audio"]
[null,null,null,"Max punkti raundā (bez bonusiem) ",{"$f":"tabula!E5","v":150},{"$f":"tabula!F5","v":216},{"$f":"tabula!G5","v":150},{"$f":"tabula!H5","v":150},{"$f":"tabula!I5","v":150},{"$f":"tabula!J5","v":150},{"$f":"tabula!K5","v":120},{"$f":"tabula!L5","v":205},{"$f":"tabula!M5","v":150},{"$f":"tabula!N5","v":150},{"$f":"SUM(E5:N5)","v":1591}]
[null,null,"Jautājumi",null,{"$f":"tabula!E6","v":6},{"$f":"tabula!F6","v":12},{"$f":"tabula!G6","v":6},{"$f":"tabula!H6","v":6},{"$f":"tabula!I6","v":6},{"$f":"tabula!J6","v":6},{"$f":"tabula!K6","v":6},{"$f":"tabula!L6","v":8},{"$f":"tabula!M6","v":6},{"$f":"tabula!N6","v":6},null,null,{"$f":"SUM(E6:N6)","v":68}]
[null,null,null,"Vidējie rādītāji",{"$f":"tabula!E7","v":60.2},{"$f":"tabula!F7","v":128.5},{"$f":"tabula!G7","v":76},{"$f":"tabula!H7","v":57.5},{"$f":"tabula!I7","v":105.4},{"$f":"tabula!J7","v":59.8},{"$f":"tabula!K7","v":36.799999999999997},{"$f":"tabula!L7","v":95.5},{"$f":"tabula!M7","v":70.400000000000006},{"$f":"tabula!N7","v":73.099999999999994},{"$f":"tabula!O7","v":762.8},{"$f":"tabula!P7","v":"-"},{"$f":"tabula!Q7","v":43.3},{"$f":"tabula!R7","v":"-"}]
[null,3,{"$f":"tabula!C8","v":1},{"$f":"tabula!D8","v":"Accio Atbildes!"},{"$f":"tabula!E8","v":103},{"$f":"tabula!F8","v":149},{"$f":"tabula!G8","v":114},{"$f":"tabula!H8","v":100},{"$f":"tabula!I8","v":131},{"$f":"tabula!J8","v":87},{"$f":"tabula!K8","v":86},{"$f":"tabula!L8","v":156},{"$f":"tabula!M8","v":95},{"$f":"tabula!N8","v":113},{"$f":"tabula!O8","v":1134},{"$f":"tabula!P8","v":"05 min. 29,106"},{"$f":"tabula!Q8","v":58},{"$f":"tabula!R8","v":"05,674 sek."}]
[null,1,{"$f":"tabula!C9","v":2},{"$f":"tabula!D9","v":"Krišjānis Voldemorts"},{"$f":"tabula!E9","v":82},{"$f":"tabula!F9","v":202},{"$f":"tabula!G9","v":97},{"$f":"tabula!H9","v":76},{"$f":"tabula!I9","v":110},{"$f":"tabula!J9","v":98},{"$f":"tabula!K9","v":82},{"$f":"tabula!L9","v":137},{"$f":"tabula!M9","v":117},{"$f":"tabula!N9","v":111},{"$f":"tabula!O9","v":1112},{"$f":"tabula!P9","v":"05 min. 01,943"},{"$f":"tabula!Q9","v":57},{"$f":"tabula!R9","v":"05,297 sek."}]
[null,1,{"$f":"tabula!C10","v":3},{"$f":"tabula!D10","v":"Harijs Poters"},{"$f":"tabula!E10","v":95},{"$f":"tabula!F10","v":132},{"$f":"tabula!G10","v":131},{"$f":"tabula!H10","v":84},{"$f":"tabula!I10","v":142},{"$f":"tabula!J10","v":116},{"$f":"tabula!K10","v":53},{"$f":"tabula!L10","v":130},{"$f":"tabula!M10","v":83},{"$f":"tabula!N10","v":137},{"$f":"tabula!O10","v":1103},{"$f":"tabula!P10","v":"03 min. 56,383"},{"$f":"tabula!Q10","v":54},{"$f":"tabula!R10","v":"04,377 sek."}]
[null,3,{"$f":"tabula!C11","v":4},{"$f":"tabula!D11","v":"Hanza90"},{"$f":"tabula!E11","v":93},{"$f":"tabula!F11","v":179},{"$f":"tabula!G11","v":91},{"$f":"tabula!H11","v":120},{"$f":"tabula!I11","v":133},{"$f":"tabula!J11","v":81},{"$f":"tabula!K11","v":41},{"$f":"tabula!L11","v":166},{"$f":"tabula!M11","v":96},{"$f":"tabula!N11","v":101},{"$f":"tabula!O11","v":1101},{"$f":"tabula!P11","v":"04 min. 45,529"},{"$f":"tabula!Q11","v":57},{"$f":"tabula!R11","v":"05,009 sek."}]
[null,1,{"$f":"tabula!C12","v":5},{"$f":"tabula!D12","v":"ģemperis pa 3.50"},{"$f":"tabula!E12","v":55},{"$f":"tabula!F12","v":148},{"$f":"tabula!G12","v":106},{"$f":"tabula!H12","v":83},{"$f":"tabula!I12","v":136},{"$f":"tabula!J12","v":113},{"$f":"tabula!K12","v":55},{"$f":"tabula!L12","v":140},{"$f":"tabula!M12","v":119},{"$f":"tabula!N12","v":107},{"$f":"tabula!O12","v":1062},{"$f":"tabula!P12","v":"03 min. 53,702"},{"$f":"tabula!Q12","v":53},{"$f":"tabula!R12","v":"04,409 sek."}]
[null,3,{"$f":"tabula!C13","v":6},{"$f":"tabula!D13","v":"HowYouDoin?"},{"$f":"tabula!E13","v":87},{"$f":"tabula!F13","v":136},{"$f":"tabula!G13","v":108},{"$f":"tabula!H13","v":98},{"$f":"tabula!I13","v":90},{"$f":"tabula!J13","v":96},{"$f":"tabula!K13","v":84},{"$f":"tabula!L13","v":178},{"$f":"tabula!M13","v":110},{"$f":"tabula!N13","v":72},{"$f":"tabula!O13","v":1059},{"$f":"tabula!P13","v":"06 min. 35,992"},{"$f":"tabula!Q13","v":56},{"$f":"tabula!R13","v":"07,071 sek."}]
[null,1,{"$f":"tabula!C14","v":7},{"$f":"tabula!D14","v":"Zizlis nestrādā"},{"$f":"tabula!E14","v":90},{"$f":"tabula!F14","v":175},{"$f":"tabula!G14","v":86},{"$f":"tabula!H14","v":61},{"$f":"tabula!I14","v":132},{"$f":"tabula!J14","v":109},{"$f":"tabula!K14","v":77},{"$f":"tabula!L14","v":134},{"$f":"tabula!M14","v":101},{"$f":"tabula!N14","v":88},{"$f":"tabula!O14","v":1053},{"$f":"tabula!P14","v":"05 min. 41,466"},{"$f":"tabula!Q14","v":55},{"$f":"tabula!R14","v":"06,208 sek."}]
[null,1,{"$f":"tabula!C15","v":8},{"$f":"tabula!D15","v":"Dobija Kreisā Zeķe"},{"$f":"tabula!E15","v":74},{"$f":"tabula!F15","v":155},{"$f":"tabula!G15","v":104},{"$f":"tabula!H15","v":108},{"$f":"tabula!I15","v":87},{"$f":"tabula!J15","v":70},{"$f":"tabula!K15","v":77},{"$f":"tabula!L15","v":172},{"$f":"tabula!M15","v":106},{"$f":"tabula!N15","v":88},{"$f":"tabula!O15","v":1041},{"$f":"tabula!P15","v":"05 min. 05,511"},{"$f":"tabula!Q15","v":54},{"$f":"tabula!R15","v":"05,658 sek."}]
[null,2,{"$f":"tabula!C16","v":9},{"$f":"tabula!D16","v":"Maša"},{"$f":"tabula!E16","v":80},{"$f":"tabula!F16","v":113},{"$f":"tabula!G16","v":112},{"$f":"tabula!H16","v":77},{"$f":"tabula!I16","v":132},{"$f":"tabula!J16","v":93},{"$f":"tabula!K16","v":77},{"$f":"tabula!L16","v":147},{"$f":"tabula!M16","v":85},{"$f":"tabula!N16","v":112},{"$f":"tabula!O16","v":1028},{"$f":"tabula!P16","v":"07 min. 24,114"},{"$f":"tabula!Q16","v":57},{"$f":"tabula!R16","v":"07,791 sek."}]
[null,3,{"$f":"tabula!C17","v":10},{"$f":"tabula!D17","v":"Dobija Labā Zeķe"},{"$f":"tabula!E17","v":58},{"$f":"tabula!F17","v":159},{"$f":"tabula!G17","v":79},{"$f":"tabula!H17","v":104},{"$f":"tabula!I17","v":100},{"$f":"tabula!J17","v":81},{"$f":"tabula!K17","v":85},{"$f":"tabula!L17","v":161},{"$f":"tabula!M17","v":108},{"$f":"tabula!N17","v":82},{"$f":"tabula!O17","v":1017},{"$f":"tabula!P17","v":"07 min. 12,257"},{"$f":"tabula!Q17","v":56},{"$f":"tabula!R17","v":"07,719 sek."}]
[null,2,{"$f":"tabula!C18","v":11},{"$f":"tabula!D18","v":"Blēžkājis"},{"$f":"tabula!E18","v":77},{"$f":"tabula!F18","v":110},{"$f":"tabula!G18","v":113},{"$f":"tabula!H18","v":77},{"$f":"tabula!I18","v":133},{"$f":"tabula!J18","v":92},{"$f":"tabula!K18","v":79},{"$f":"tabula!L18","v":135},{"$f":"tabula!M18","v":83},{"$f":"tabula!N18","v":112},{"$f":"tabula!O18","v":1011},{"$f":"tabula!P18","v":"07 min. 02,616"},{"$f":"tabula!Q18","v":56},{"$f":"tabula!R18","v":"07,547 sek."}]
[null,2,{"$f":"tabula!C19","v":12},{"$f":"tabula!D19","v":"MAD EYE MOODY"},{"$f":"tabula!E19","v":88},{"$f":"tabula!F19","v":137},{"$f":"tabula!G19","v":86},{"$f":"tabula!H19","v":38},{"$f":"tabula!I19","v":139},{"$f":"tabula!J19","v":93},{"$f":"tabula!K19","v":81},{"$f":"tabula!L19","v":158},{"$f":"tabula!M19","v":88},{"$f":"tabula!N19","v":92},{"$f":"tabula!O19","v":1000},{"$f":"tabula!P19","v":"04 min. 23,291"},{"$f":"tabula!Q19","v":51},{"$f":"tabula!R19","v":"05,163 sek."}]
[null,2,{"$f":"tabula!C20","v":13},{"$f":"tabula!D20","v":"Winners"},{"$f":"tabula!E20","v":57},{"$f":"tabula!F20","v":137},{"$f":"tabula!G20","v":114},{"$f":"tabula!H20","v":84},{"$f":"tabula!I20","v":135},{"$f":"tabula!J20","v":81},{"$f":"tabula!K20","v":78},{"$f":"tabula!L20","v":137},{"$f":"tabula!M20","v":94},{"$f":"tabula!N20","v":81},{"$f":"tabula!O20","v":998},{"$f":"tabula!P20","v":"06 min. 48,078"},{"$f":"tabula!Q20","v":54},{"$f":"tabula!R20","v":"07,557 sek."}]
[null,3,{"$f":"tabula!C21","v":14},{"$f":"tabula!D21","v":"Dobijs"},{"$f":"tabula!E21","v":80},{"$f":"tabula!F21","v":149},{"$f":"tabula!G21","v":81},{"$f":"tabula!H21","v":106},{"$f":"tabula!I21","v":120},{"$f":"tabula!J21","v":103},{"$f":"tabula!K21","v":54},{"$f":"tabula!L21","v":146},{"$f":"tabula!M21","v":83},{"$f":"tabula!N21","v":69},{"$f":"tabula!O21","v":991},{"$f":"tabula!P21","v":"04 min. 33,908"},{"$f":"tabula!Q21","v":51},{"$f":"tabula!R21","v":"05,371 sek."}]
[null,1,{"$f":"tabula!C22","v":15},{"$f":"tabula!D22","v":"Eee..."},{"$f":"tabula!E22","v":62},{"$f":"tabula!F22","v":154},{"$f":"tabula!G22","v":92},{"$f":"tabula!H22","v":98},{"$f":"tabula!I22","v":116},{"$f":"tabula!J22","v":77},{"$f":"tabula!K22","v":71},{"$f":"tabula!L22","v":121},{"$f":"tabula!M22","v":89},{"$f":"tabula!N22","v":105},{"$f":"tabula!O22","v":985},{"$f":"tabula!P22","v":"06 min. 24,638"},{"$f":"tabula!Q22","v":54},{"$f":"tabula!R22","v":"07,123 sek."}]
[null,3,{"$f":"tabula!C23","v":16},{"$f":"tabula!D23","v":"Echo Bravo"},{"$f":"tabula!E23","v":81},{"$f":"tabula!F23","v":158},{"$f":"tabula!G23","v":86},{"$f":"tabula!H23","v":84},{"$f":"tabula!I23","v":127},{"$f":"tabula!J23","v":59},{"$f":"tabula!K23","v":68},{"$f":"tabula!L23","v":138},{"$f":"tabula!M23","v":77},{"$f":"tabula!N23","v":101},{"$f":"tabula!O23","v":979},{"$f":"tabula!P23","v":"04 min. 22,601"},{"$f":"tabula!Q23","v":51},{"$f":"tabula!R23","v":"05,149 sek."}]
[null,3,{"$f":"tabula!C24","v":17},{"$f":"tabula!D24","v":"TRILONIJAS BUMBAS"},{"$f":"tabula!E24","v":42},{"$f":"tabula!F24","v":148},{"$f":"tabula!G24","v":92},{"$f":"tabula!H24","v":86},{"$f":"tabula!I24","v":116},{"$f":"tabula!J24","v":56},{"$f":"tabula!K24","v":84},{"$f":"tabula!L24","v":138},{"$f":"tabula!M24","v":92},{"$f":"tabula!N24","v":115},{"$f":"tabula!O24","v":969},{"$f":"tabula!P24","v":"03 min. 38,681"},{"$f":"tabula!Q24","v":48},{"$f":"tabula!R24","v":"04,556 sek."}]
[null,3,{"$f":"tabula!C25","v":18},{"$f":"tabula!D25","v":"Kaķīšu komanda"},{"$f":"tabula!E25","v":60},{"$f":"tabula!F25","v":160},{"$f":"tabula!G25","v":107},{"$f":"tabula!H25","v":87},{"$f":"tabula!I25","v":112},{"$f":"tabula!J25","v":98},{"$f":"tabula!K25","v":62},{"$f":"tabula!L25","v":98},{"$f":"tabula!M25","v":72},{"$f":"tabula!N25","v":109},{"$f":"tabula!O25","v":965},{"$f":"tabula!P25","v":"07 min. 25,567"},{"$f":"tabula!Q25","v":55},{"$f":"tabula!R25","v":"08,101 sek."}]
[null,1,{"$f":"tabula!C26","v":19},{"$f":"tabula!D26","v":"Riddikulus"},{"$f":"tabula!E26","v":68},{"$f":"tabula!F26","v":149},{"$f":"tabula!G26","v":113},{"$f":"tabula!H26","v":82},{"$f":"tabula!I26","v":115},{"$f":"tabula!J26","v":68},{"$f":"tabula!K26","v":83},{"$f":"tabula!L26","v":113},{"$f":"tabula!M26","v":106},{"$f":"tabula!N26","v":66},{"$f":"tabula!O26","v":963},{"$f":"tabula!P26","v":"03 min. 40,047"},{"$f":"tabula!Q26","v":49},{"$f":"tabula!R26","v":"04,491 sek."}]
[null,1,{"$f":"tabula!C27","v":20},{"$f":"tabula!D27","v":"Emma Fēniksa"},{"$f":"tabula!E27","v":85},{"$f":"tabula!F27","v":152},{"$f":"tabula!G27","v":64},{"$f":"tabula!H27","v":79},{"$f":"tabula!I27","v":123},{"$f":"tabula!J27","v":59},{"$f":"tabula!K27","v":75},{"$f":"tabula!L27","v":143},{"$f":"tabula!M27","v":59},{"$f":"tabula!N27","v":112},{"$f":"tabula!O27","v":951},{"$f":"tabula!P27","v":"05 min. 06,437"},{"$f":"tabula!Q27","v":50},{"$f":"tabula!R27","v":"06,129 sek."}]
[null,3,{"$f":"tabula!C28","v":21},{"$f":"tabula!D28","v":"Pa Zoino!"},{"$f":"tabula!E28","v":77},{"$f":"tabula!F28","v":161},{"$f":"tabula!G28","v":89},{"$f":"tabula!H28","v":53},{"$f":"tabula!I28","v":95},{"$f":"tabula!J28","v":76},{"$f":"tabula!K28","v":60},{"$f":"tabula!L28","v":123},{"$f":"tabula!M28","v":92},{"$f":"tabula!N28","v":115},{"$f":"tabula!O28","v":941},{"$f":"tabula!P28","v":"04 min. 14,067"},{"$f":"tabula!Q28","v":48},{"$f":"tabula!R28","v":"05,293 sek."}]
[null,null,{"$f":"tabula!C29","v":22},{"$f":"tabula!D29","v":"ROGAS"},{"$f":"tabula!E29","v":67},{"$f":"tabula!F29","v":81},{"$f":"tabula!G29","v":83},{"$f":"tabula!H29","v":65},{"$f":"tabula!I29","v":140},{"$f":"tabula!J29","v":107},{"$f":"tabula!K29","v":79},{"$f":"tabula!L29","v":141},{"$f":"tabula!M29","v":58},{"$f":"tabula!N29","v":112},{"$f":"tabula!O29","v":933},{"$f":"tabula!P29","v":"07 min. 11,925"},{"$f":"tabula!Q29","v":53},{"$f":"tabula!R29","v":"08,150 sek."}]
[null,null,{"$f":"tabula!C30","v":23},{"$f":"tabula!D30","v":"Expensive petroleum"},{"$f":"tabula!E30","v":40},{"$f":"tabula!F30","v":117},{"$f":"tabula!G30","v":92},{"$f":"tabula!H30","v":86},{"$f":"tabula!I30","v":118},{"$f":"tabula!J30","v":34},{"$f":"tabula!K30","v":78},{"$f":"tabula!L30","v":172},{"$f":"tabula!M30","v":86},{"$f":"tabula!N30","v":108},{"$f":"tabula!O30","v":931},{"$f":"tabula!P30","v":"04 min. 30,585"},{"$f":"tabula!Q30","v":47},{"$f":"tabula!R30","v":"05,757 sek."}]
[null,null,{"$f":"tabula!C31","v":24},{"$f":"tabula!D31","v":"HP un Dīvāna ordenis"},{"$f":"tabula!E31","v":61},{"$f":"tabula!F31","v":94},{"$f":"tabula!G31","v":91},{"$f":"tabula!H31","v":51},{"$f":"tabula!I31","v":129},{"$f":"tabula!J31","v":97},{"$f":"tabula!K31","v":70},{"$f":"tabula!L31","v":105},{"$f":"tabula!M31","v":94},{"$f":"tabula!N31","v":137},{"$f":"tabula!O31","v":929},{"$f":"tabula!P31","v":"06 min. 37,729"},{"$f":"tabula!Q31","v":51},{"$f":"tabula!R31","v":"07,799 sek."}]
[null,null,{"$f":"tabula!C32","v":25},{"$f":"tabula!D32","v":"Sindija DJV"},{"$f":"tabula!E32","v":72},{"$f":"tabula!F32","v":163},{"$f":"tabula!G32","v":86},{"$f":"tabula!H32","v":84},{"$f":"tabula!I32","v":110},{"$f":"tabula!J32","v":53},{"$f":"tabula!K32","v":61},{"$f":"tabula!L32","v":164},{"$f":"tabula!M32","v":64},{"$f":"tabula!N32","v":66},{"$f":"tabula!O32","v":923},{"$f":"tabula!P32","v":"04 min. 26,276"},{"$f":"tabula!Q32","v":48},{"$f":"tabula!R32","v":"05,547 sek."}]
[null,null,{"$f":"tabula!C33","v":26},{"$f":"tabula!D33","v":"Ame"},{"$f":"tabula!E33","v":84},{"$f":"tabula!F33","v":167},{"$f":"tabula!G33","v":89},{"$f":"tabula!H33","v":68},{"$f":"tabula!I33","v":92},{"$f":"tabula!J33","v":65},{"$f":"tabula!K33","v":-17},{"$f":"tabula!L33","v":164},{"$f":"tabula!M33","v":101},{"$f":"tabula!N33","v":107},{"$f":"tabula!O33","v":920},{"$f":"tabula!P33","v":"03 min. 29,725"},{"$f":"tabula!Q33","v":48},{"$f":"tabula!R33","v":"04,369 sek."}]
[null,null,{"$f":"tabula!C34","v":27},{"$f":"tabula!D34","v":"Meriona"},{"$f":"tabula!E34","v":58},{"$f":"tabula!F34","v":151},{"$f":"tabula!G34","v":88},{"$f":"tabula!H34","v":107},{"$f":"tabula!I34","v":136},{"$f":"tabula!J34","v":88},{"$f":"tabula!K34","v":40},{"$f":"tabula!L34","v":68},{"$f":"tabula!M34","v":90},{"$f":"tabula!N34","v":90},{"$f":"tabula!O34","v":916},{"$f":"tabula!P34","v":"04 min. 17,398"},{"$f":"tabula!Q34","v":48},{"$f":"tabula!R34","v":"05,362 sek."}]
[null,null,{"$f":"tabula!C35","v":28},{"$f":"tabula!D35","v":"Kraukļanaga ērglis"},{"$f":"tabula!E35","v":86},{"$f":"tabula!F35","v":164},{"$f":"tabula!G35","v":91},{"$f":"tabula!H35","v":109},{"$f":"tabula!I35","v":116},{"$f":"tabula!J35","v":50},{"$f":"tabula!K35","v":49},{"$f":"tabula!L35","v":112},{"$f":"tabula!M35","v":35},{"$f":"tabula!N35","v":100},{"$f":"tabula!O35","v":912},{"$f":"tabula!P35","v":"03 min. 26,335"},{"$f":"tabula!Q35","v":46},{"$f":"tabula!R35","v":"04,486 sek."}]
[null,null,{"$f":"tabula!C36","v":29},{"$f":"tabula!D36","v":"Tas Pigmejpūtis"},{"$f":"tabula!E36","v":65},{"$f":"tabula!F36","v":141},{"$f":"tabula!G36","v":87},{"$f":"tabula!H36","v":52},{"$f":"tabula!I36","v":136},{"$f":"tabula!J36","v":83},{"$f":"tabula!K36","v":39},{"$f":"tabula!L36","v":134},{"$f":"tabula!M36","v":68},{"$f":"tabula!N36","v":105},{"$f":"tabula!O36","v":910},{"$f":"tabula!P36","v":"04 min. 48,140"},{"$f":"tabula!Q36","v":48},{"$f":"tabula!R36","v":"06,003 sek."}]
[null,null,{"$f":"tabula!C37","v":30},{"$f":"tabula!D37","v":"Theo.lv"},{"$f":"tabula!E37","v":69},{"$f":"tabula!F37","v":145},{"$f":"tabula!G37","v":103},{"$f":"tabula!H37","v":53},{"$f":"tabula!I37","v":126},{"$f":"tabula!J37","v":38},{"$f":"tabula!K37","v":79},{"$f":"tabula!L37","v":123},{"$f":"tabula!M37","v":70},{"$f":"tabula!N37","v":99},{"$f":"tabula!O37","v":905},{"$f":"tabula!P37","v":"06 min. 43,377"},{"$f":"tabula!Q37","v":51},{"$f":"tabula!R37","v":"07,909 sek."}]
[null,null,{"$f":"tabula!C38","v":31},{"$f":"tabula!D38","v":"Snape’s On A Plane"},{"$f":"tabula!E38","v":86},{"$f":"tabula!F38","v":119},{"$f":"tabula!G38","v":91},{"$f":"tabula!H38","v":52},{"$f":"tabula!I38","v":109},{"$f":"tabula!J38","v":92},{"$f":"tabula!K38","v":98},{"$f":"tabula!L38","v":79},{"$f":"tabula!M38","v":66},{"$f":"tabula!N38","v":106},{"$f":"tabula!O38","v":898},{"$f":"tabula!P38","v":"06 min. 07,108"},{"$f":"tabula!Q38","v":50},{"$f":"tabula!R38","v":"07,342 sek."}]
[null,null,{"$f":"tabula!C39","v":32},{"$f":"tabula!D39","v":"Wizard"},{"$f":"tabula!E39","v":89},{"$f":"tabula!F39","v":130},{"$f":"tabula!G39","v":78},{"$f":"tabula!H39","v":65},{"$f":"tabula!I39","v":108},{"$f":"tabula!J39","v":75},{"$f":"tabula!K39","v":43},{"$f":"tabula!L39","v":117},{"$f":"tabula!M39","v":102},{"$f":"tabula!N39","v":84},{"$f":"tabula!O39","v":891},{"$f":"tabula!P39","v":"05 min. 23,272"},{"$f":"tabula!Q39","v":49},{"$f":"tabula!R39","v":"06,597 sek."}]
[null,null,{"$f":"tabula!C40","v":33},{"$f":"tabula!D40","v":"LaumaV"},{"$f":"tabula!E40","v":54},{"$f":"tabula!F40","v":148},{"$f":"tabula!G40","v":90},{"$f":"tabula!H40","v":94},{"$f":"tabula!I40","v":134},{"$f":"tabula!J40","v":63},{"$f":"tabula!K40","v":36},{"$f":"tabula!L40","v":93},{"$f":"tabula!M40","v":84},{"$f":"tabula!N40","v":87},{"$f":"tabula!O40","v":883},{"$f":"tabula!P40","v":"04 min. 06,233"},{"$f":"tabula!Q40","v":47},{"$f":"tabula!R40","v":"05,239 sek."}]
[null,null,{"$f":"tabula!C41","v":34},{"$f":"tabula!D41","v":"Kika"},{"$f":"tabula!E41","v":50},{"$f":"tabula!F41","v":134},{"$f":"tabula!G41","v":104},{"$f":"tabula!H41","v":84},{"$f":"tabula!I41","v":138},{"$f":"tabula!J41","v":84},{"$f":"tabula!K41","v":69},{"$f":"tabula!L41","v":67},{"$f":"tabula!M41","v":65},{"$f":"tabula!N41","v":83},{"$f":"tabula!O41","v":878},{"$f":"tabula!P41","v":"05 min. 00,199"},{"$f":"tabula!Q41","v":47},{"$f":"tabula!R41","v":"06,387 sek."}]
[null,null,{"$f":"tabula!C42","v":35},{"$f":"tabula!D42","v":"Burvjtriki"},{"$f":"tabula!E42","v":55},{"$f":"tabula!F42","v":174},{"$f":"tabula!G42","v":63},{"$f":"tabula!H42","v":74},{"$f":"tabula!I42","v":116},{"$f":"tabula!J42","v":113},{"$f":"tabula!K42","v":36},{"$f":"tabula!L42","v":119},{"$f":"tabula!M42","v":79},{"$f":"tabula!N42","v":45},{"$f":"tabula!O42","v":874},{"$f":"tabula!P42","v":"04 min. 52,332"},{"$f":"tabula!Q42","v":47},{"$f":"tabula!R42","v":"06,220 sek."}]
[null,null,{"$f":"tabula!C43","v":36},{"$f":"tabula!D43","v":"Rupuči, turās!"},{"$f":"tabula!E43","v":66},{"$f":"tabula!F43","v":115},{"$f":"tabula!G43","v":91},{"$f":"tabula!H43","v":51},{"$f":"tabula!I43","v":112},{"$f":"tabula!J43","v":78},{"$f":"tabula!K43","v":48},{"$f":"tabula!L43","v":121},{"$f":"tabula!M43","v":91},{"$f":"tabula!N43","v":94},{"$f":"tabula!O43","v":867},{"$f":"tabula!P43","v":"05 min. 21,919"},{"$f":"tabula!Q43","v":46},{"$f":"tabula!R43","v":"06,998 sek."}]
[null,null,{"$f":"tabula!C44","v":37},{"$f":"tabula!D44","v":"MMM"},{"$f":"tabula!E44","v":54},{"$f":"tabula!F44","v":165},{"$f":"tabula!G44","v":79},{"$f":"tabula!H44","v":74},{"$f":"tabula!I44","v":115},{"$f":"tabula!J44","v":84},{"$f":"tabula!K44","v":41},{"$f":"tabula!L44","v":121},{"$f":"tabula!M44","v":63},{"$f":"tabula!N44","v":69},{"$f":"tabula!O44","v":865},{"$f":"tabula!P44","v":"03 min. 26,736"},{"$f":"tabula!Q44","v":45},{"$f":"tabula!R44","v":"04,594 sek."}]
[null,null,{"$f":"tabula!C45","v":38},{"$f":"tabula!D45","v":"Mēnestiņš Č."},{"$f":"tabula!E45","v":51},{"$f":"tabula!F45","v":150},{"$f":"tabula!G45","v":83},{"$f":"tabula!H45","v":69},{"$f":"tabula!I45","v":110},{"$f":"tabula!J45","v":100},{"$f":"tabula!K45","v":43},{"$f":"tabula!L45","v":76},{"$f":"tabula!M45","v":84},{"$f":"tabula!N45","v":96},{"$f":"tabula!O45","v":862},{"$f":"tabula!P45","v":"06 min. 48,115"},{"$f":"tabula!Q45","v":50},{"$f":"tabula!R45","v":"08,162 sek."}]
[null,null,{"$f":"tabula!C46","v":39},{"$f":"tabula!D46","v":"Kā bankā"},{"$f":"tabula!E46","v":81},{"$f":"tabula!F46","v":145},{"$f":"tabula!G46","v":90},{"$f":"tabula!H46","v":66},{"$f":"tabula!I46","v":94},{"$f":"tabula!J46","v":62},{"$f":"tabula!K46","v":32},{"$f":"tabula!L46","v":129},{"$f":"tabula!M46","v":90},{"$f":"tabula!N46","v":69},{"$f":"tabula!O46","v":858},{"$f":"tabula!P46","v":"03 min. 47,818"},{"$f":"tabula!Q46","v":44},{"$f":"tabula!R46","v":"05,178 sek."}]
[null,null,{"$f":"tabula!C47","v":40},{"$f":"tabula!D47","v":"Kamillas ambrāža"},{"$f":"tabula!E47","v":65},{"$f":"tabula!F47","v":152},{"$f":"tabula!G47","v":55},{"$f":"tabula!H47","v":56},{"$f":"tabula!I47","v":111},{"$f":"tabula!J47","v":43},{"$f":"tabula!K47","v":35},{"$f":"tabula!L47","v":127},{"$f":"tabula!M47","v":99},{"$f":"tabula!N47","v":113},{"$f":"tabula!O47","v":856},{"$f":"tabula!P47","v":"05 min. 00,457"},{"$f":"tabula!Q47","v":47},{"$f":"tabula!R47","v":"06,393 sek."}]
[null,null,{"$f":"tabula!C48","v":41},{"$f":"tabula!D48","v":"Lidvāvere"},{"$f":"tabula!E48","v":91},{"$f":"tabula!F48","v":130},{"$f":"tabula!G48","v":109},{"$f":"tabula!H48","v":64},{"$f":"tabula!I48","v":139},{"$f":"tabula!J48","v":37},{"$f":"tabula!K48","v":60},{"$f":"tabula!L48","v":68},{"$f":"tabula!M48","v":105},{"$f":"tabula!N48","v":51},{"$f":"tabula!O48","v":854},{"$f":"tabula!P48","v":"03 min. 43,058"},{"$f":"tabula!Q48","v":44},{"$f":"tabula!R48","v":"05,070 sek."}]
[null,null,{"$f":"tabula!C49","v":42},{"$f":"tabula!D49","v":"Zelta zibsnis"},{"$f":"tabula!E49","v":41},{"$f":"tabula!F49","v":129},{"$f":"tabula!G49","v":99},{"$f":"tabula!H49","v":68},{"$f":"tabula!I49","v":100},{"$f":"tabula!J49","v":79},{"$f":"tabula!K49","v":48},{"$f":"tabula!L49","v":135},{"$f":"tabula!M49","v":88},{"$f":"tabula!N49","v":66},{"$f":"tabula!O49","v":853},{"$f":"tabula!P49","v":"04 min. 19,024"},{"$f":"tabula!Q49","v":45},{"$f":"tabula!R49","v":"05,756 sek."}]
[null,null,{"$f":"tabula!C50","v":43},{"$f":"tabula!D50","v":"Mandragoras saknes"},{"$f":"tabula!E50","v":77},{"$f":"tabula!F50","v":98},{"$f":"tabula!G50","v":67},{"$f":"tabula!H50","v":75},{"$f":"tabula!I50","v":138},{"$f":"tabula!J50","v":49},{"$f":"tabula!K50","v":68},{"$f":"tabula!L50","v":120},{"$f":"tabula!M50","v":84},{"$f":"tabula!N50","v":77},{"$f":"tabula!O50","v":853},{"$f":"tabula!P50","v":"07 min. 09,811"},{"$f":"tabula!Q50","v":49},{"$f":"tabula!R50","v":"08,772 sek."}]
[null,null,{"$f":"tabula!C51","v":44},{"$f":"tabula!D51","v":"Ēraspele"},{"$f":"tabula!E51","v":67},{"$f":"tabula!F51","v":163},{"$f":"tabula!G51","v":66},{"$f":"tabula!H51","v":20},{"$f":"tabula!I51","v":110},{"$f":"tabula!J51","v":73},{"$f":"tabula!K51","v":41},{"$f":"tabula!L51","v":113},{"$f":"tabula!M51","v":86},{"$f":"tabula!N51","v":112},{"$f":"tabula!O51","v":851},{"$f":"tabula!P51","v":"06 min. 42,560"},{"$f":"tabula!Q51","v":49},{"$f":"tabula!R51","v":"08,216 sek."}]
[null,null,{"$f":"tabula!C52","v":45},{"$f":"tabula!D52","v":"Dārza iela 1"},{"$f":"tabula!E52","v":72},{"$f":"tabula!F52","v":98},{"$f":"tabula!G52","v":77},{"$f":"tabula!H52","v":99},{"$f":"tabula!I52","v":106},{"$f":"tabula!J52","v":58},{"$f":"tabula!K52","v":59},{"$f":"tabula!L52","v":110},{"$f":"tabula!M52","v":83},{"$f":"tabula!N52","v":88},{"$f":"tabula!O52","v":850},{"$f":"tabula!P52","v":"06 min. 34,151"},{"$f":"tabula!Q52","v":47},{"$f":"tabula!R52","v":"08,386 sek."}]
[null,null,{"$f":"tabula!C53","v":46},{"$f":"tabula!D53","v":"Baibix LeStrange"},{"$f":"tabula!E53","v":63},{"$f":"tabula!F53","v":169},{"$f":"tabula!G53","v":66},{"$f":"tabula!H53","v":43},{"$f":"tabula!I53","v":113},{"$f":"tabula!J53","v":78},{"$f":"tabula!K53","v":11},{"$f":"tabula!L53","v":105},{"$f":"tabula!M53","v":66},{"$f":"tabula!N53","v":135},{"$f":"tabula!O53","v":849},{"$f":"tabula!P53","v":"02 min. 58,491"},{"$f":"tabula!Q53","v":44},{"$f":"tabula!R53","v":"04,057 sek."}]
[null,null,{"$f":"tabula!C54","v":47},{"$f":"tabula!D54","v":"Panzera vergi"},{"$f":"tabula!E54","v":37},{"$f":"tabula!F54","v":146},{"$f":"tabula!G54","v":109},{"$f":"tabula!H54","v":56},{"$f":"tabula!I54","v":86},{"$f":"tabula!J54","v":53},{"$f":"tabula!K54","v":86},{"$f":"tabula!L54","v":132},{"$f":"tabula!M54","v":75},{"$f":"tabula!N54","v":68},{"$f":"tabula!O54","v":848},{"$f":"tabula!P54","v":"05 min. 04,754"},{"$f":"tabula!Q54","v":46},{"$f":"tabula!R54","v":"06,625 sek."}]
[null,null,{"$f":"tabula!C55","v":48},{"$f":"tabula!D55","v":"Zorro"},{"$f":"tabula!E55","v":48},{"$f":"tabula!F55","v":113},{"$f":"tabula!G55","v":93},{"$f":"tabula!H55","v":57},{"$f":"tabula!I55","v":105},{"$f":"tabula!J55","v":66},{"$f":"tabula!K55","v":75},{"$f":"tabula!L55","v":107},{"$f":"tabula!M55","v":109},{"$f":"tabula!N55","v":74},{"$f":"tabula!O55","v":847},{"$f":"tabula!P55","v":"08 min. 10,588"},{"$f":"tabula!Q55","v":50},{"$f":"tabula!R55","v":"09,812 sek."}]
[null,null,{"$f":"tabula!C56","v":49},{"$f":"tabula!D56","v":"Paijpere"},{"$f":"tabula!E56","v":60},{"$f":"tabula!F56","v":163},{"$f":"tabula!G56","v":101},{"$f":"tabula!H56","v":38},{"$f":"tabula!I56","v":111},{"$f":"tabula!J56","v":70},{"$f":"tabula!K56","v":39},{"$f":"tabula!L56","v":101},{"$f":"tabula!M56","v":99},{"$f":"tabula!N56","v":63},{"$f":"tabula!O56","v":845},{"$f":"tabula!P56","v":"05 min. 19,467"},{"$f":"tabula!Q56","v":47},{"$f":"tabula!R56","v":"06,797 sek."}]
[null,null,{"$f":"tabula!C57","v":50},{"$f":"tabula!D57","v":"Emma&Co"},{"$f":"tabula!E57","v":62},{"$f":"tabula!F57","v":149},{"$f":"tabula!G57","v":87},{"$f":"tabula!H57","v":77},{"$f":"tabula!I57","v":107},{"$f":"tabula!J57","v":57},{"$f":"tabula!K57","v":8},{"$f":"tabula!L57","v":150},{"$f":"tabula!M57","v":63},{"$f":"tabula!N57","v":84},{"$f":"tabula!O57","v":844},{"$f":"tabula!P57","v":"05 min. 17,162"},{"$f":"tabula!Q57","v":47},{"$f":"tabula!R57","v":"06,748 sek."}]
[]
[null,null,"LIELDRAUGS                                                         ATBALSTĪTĀJI"]

{"sheet":"51-150","index":2,"n_rows":97,"n_cols":18,"rows_kept":97,"cut":false,"hidden":false,"merged":[[2,17,5,17],[4,14,5,14],[5,2,5,3],[2,1,4,1],[2,2,4,2],[2,3,3,3],[2,14,3,14],[2,15,5,15],[2,16,4,16]]}
[]
[null,null,{"$f":"tabula!C2","v":"\"Harija Potera viktorīna\" (tiešsaistē / vebinārā) | 2025.gada 21.oktobris"}]
[null,"Grupa","#","Dalībnieks | Raunds | Tēma ",1,2,3,4,5,6,7,8,9,10,"KOPĀ","Laiks kopā uz pareizajām atbildēm","Pareizās atbildes (max)","Vid.laiks uz 1 pareizo atb."]
[null,null,null,null,{"$f":"'1-50'!E4","v":"Pavediens"},{"$f":"'1-50'!F4","v":"Ekspresis"},{"$f":"'1-50'!G4","v":"Video"},{"$f":"'1-50'!H4","v":"Pastaiga pa Cūkkārpu"},{"$f":"'1-50'!I4","v":"Filmēšanas vietas"},{"$f":"'1-50'!J4","v":"Kura filma?"},{"$f":"'1-50'!K4","v":"Risks"},{"$f":"'1-50'!L4","v":"Kas kopīgs?"},{"$f":"'1-50'!M4","v":"Liekais pazūd: Pēdējo gadu aktualitātes"},{"$f":"'1-50'!N4","v":"Audio"}]
[null,null,null,"Max punkti raundā (bez bonusiem) ",{"$f":"tabula!E5","v":150},{"$f":"tabula!F5","v":216},{"$f":"tabula!G5","v":150},{"$f":"tabula!H5","v":150},{"$f":"tabula!I5","v":150},{"$f":"tabula!J5","v":150},{"$f":"tabula!K5","v":120},{"$f":"tabula!L5","v":205},{"$f":"tabula!M5","v":150},{"$f":"tabula!N5","v":150},{"$f":"SUM(E5:N5)","v":1591}]
[null,null,"Jautājumi",null,{"$f":"tabula!E6","v":6},{"$f":"tabula!F6","v":12},{"$f":"tabula!G6","v":6},{"$f":"tabula!H6","v":6},{"$f":"tabula!I6","v":6},{"$f":"tabula!J6","v":6},{"$f":"tabula!K6","v":6},{"$f":"tabula!L6","v":8},{"$f":"tabula!M6","v":6},{"$f":"tabula!N6","v":6},null,null,{"$f":"SUM(E6:N6)","v":68}]
[null,null,null,"Vidējie rādītāji",{"$f":"tabula!E7","v":60.2},{"$f":"tabula!F7","v":128.5},{"$f":"tabula!G7","v":76},{"$f":"tabula!H7","v":57.5},{"$f":"tabula!I7","v":105.4},{"$f":"tabula!J7","v":59.8},{"$f":"tabula!K7","v":36.799999999999997},{"$f":"tabula!L7","v":95.5},{"$f":"tabula!M7","v":70.400000000000006},{"$f":"tabula!N7","v":73.099999999999994},{"$f":"tabula!O7","v":762.8},{"$f":"tabula!P7","v":"-"},{"$f":"tabula!Q7","v":43.3},{"$f":"tabula!R7","v":"-"}]
[null,3,{"$f":"tabula!C58","v":51},{"$f":"tabula!D58","v":"MEGA Biezenis"},{"$f":"tabula!E58","v":55},{"$f":"tabula!F58","v":164},{"$f":"tabula!G58","v":134},{"$f":"tabula!H58","v":60},{"$f":"tabula!I58","v":91},{"$f":"tabula!J58","v":81},{"$f":"tabula!K58","v":39},{"$f":"tabula!L58","v":83},{"$f":"tabula!M58","v":89},{"$f":"tabula!N58","v":45},{"$f":"tabula!O58","v":841},{"$f":"tabula!P58","v":"03 min. 37,099"},{"$f":"tabula!Q58","v":44},{"$f":"tabula!R58","v":"04,934 sek."}]
[null,1,{"$f":"tabula!C59","v":52},{"$f":"tabula!D59","v":"Ieslodzītais"},{"$f":"tabula!E59","v":83},{"$f":"tabula!F59","v":151},{"$f":"tabula!G59","v":88},{"$f":"tabula!H59","v":62},{"$f":"tabula!I59","v":108},{"$f":"tabula!J59","v":42},{"$f":"tabula!K59","v":33},{"$f":"tabula!L59","v":78},{"$f":"tabula!M59","v":84},{"$f":"tabula!N59","v":106},{"$f":"tabula!O59","v":835},{"$f":"tabula!P59","v":"06 min. 11,873"},{"$f":"tabula!Q59","v":49},{"$f":"tabula!R59","v":"07,589 sek."}]
[null,1,{"$f":"tabula!C60","v":53},{"$f":"tabula!D60","v":"Bosbatonas princeses"},{"$f":"tabula!E60","v":81},{"$f":"tabula!F60","v":158},{"$f":"tabula!G60","v":95},{"$f":"tabula!H60","v":84},{"$f":"tabula!I60","v":115},{"$f":"tabula!J60","v":41},{"$f":"tabula!K60","v":14},{"$f":"tabula!L60","v":69},{"$f":"tabula!M60","v":114},{"$f":"tabula!N60","v":60},{"$f":"tabula!O60","v":831},{"$f":"tabula!P60","v":"04 min. 18,006"},{"$f":"tabula!Q60","v":45},{"$f":"tabula!R60","v":"05,733 sek."}]
[null,3,{"$f":"tabula!C61","v":54},{"$f":"tabula!D61","v":"Laumiņa"},{"$f":"tabula!E61","v":54},{"$f":"tabula!F61","v":146},{"$f":"tabula!G61","v":88},{"$f":"tabula!H61","v":41},{"$f":"tabula!I61","v":112},{"$f":"tabula!J61","v":72},{"$f":"tabula!K61","v":51},{"$f":"tabula!L61","v":87},{"$f":"tabula!M61","v":86},{"$f":"tabula!N61","v":90},{"$f":"tabula!O61","v":827},{"$f":"tabula!P61","v":"03 min. 05,109"},{"$f":"tabula!Q61","v":42},{"$f":"tabula!R61","v":"04,407 sek."}]
[null,1,{"$f":"tabula!C62","v":55},{"$f":"tabula!D62","v":"Kjiimikjis"},{"$f":"tabula!E62","v":68},{"$f":"tabula!F62","v":150},{"$f":"tabula!G62","v":89},{"$f":"tabula!H62","v":60},{"$f":"tabula!I62","v":139},{"$f":"tabula!J62","v":79},{"$f":"tabula!K62","v":46},{"$f":"tabula!L62","v":70},{"$f":"tabula!M62","v":66},{"$f":"tabula!N62","v":60},{"$f":"tabula!O62","v":827},{"$f":"tabula!P62","v":"05 min. 19,154"},{"$f":"tabula!Q62","v":46},{"$f":"tabula!R62","v":"06,938 sek."}]
[null,3,{"$f":"tabula!C63","v":56},{"$f":"tabula!D63","v":"Morgana"},{"$f":"tabula!E63","v":72},{"$f":"tabula!F63","v":143},{"$f":"tabula!G63","v":99},{"$f":"tabula!H63","v":83},{"$f":"tabula!I63","v":117},{"$f":"tabula!J63","v":57},{"$f":"tabula!K63","v":-8},{"$f":"tabula!L63","v":86},{"$f":"tabula!M63","v":83},{"$f":"tabula!N63","v":93},{"$f":"tabula!O63","v":825},{"$f":"tabula!P63","v":"04 min. 18,229"},{"$f":"tabula!Q63","v":45},{"$f":"tabula!R63","v":"05,738 sek."}]
[null,1,{"$f":"tabula!C64","v":57},{"$f":"tabula!D64","v":"Attārpotāji"},{"$f":"tabula!E64","v":52},{"$f":"tabula!F64","v":112},{"$f":"tabula!G64","v":85},{"$f":"tabula!H64","v":73},{"$f":"tabula!I64","v":111},{"$f":"tabula!J64","v":38},{"$f":"tabula!K64","v":54},{"$f":"tabula!L64","v":153},{"$f":"tabula!M64","v":90},{"$f":"tabula!N64","v":54},{"$f":"tabula!O64","v":822},{"$f":"tabula!P64","v":"10 min. 09,343"},{"$f":"tabula!Q64","v":53},{"$f":"tabula!R64","v":"11,497 sek."}]
[null,1,{"$f":"tabula!C65","v":58},{"$f":"tabula!D65","v":"Gunther"},{"$f":"tabula!E65","v":52},{"$f":"tabula!F65","v":124},{"$f":"tabula!G65","v":63},{"$f":"tabula!H65","v":104},{"$f":"tabula!I65","v":92},{"$f":"tabula!J65","v":72},{"$f":"tabula!K65","v":76},{"$f":"tabula!L65","v":119},{"$f":"tabula!M65","v":93},{"$f":"tabula!N65","v":24},{"$f":"tabula!O65","v":819},{"$f":"tabula!P65","v":"06 min. 18,553"},{"$f":"tabula!Q65","v":46},{"$f":"tabula!R65","v":"08,229 sek."}]
[null,2,{"$f":"tabula!C66","v":59},{"$f":"tabula!D66","v":"Nifflers"},{"$f":"tabula!E66","v":82},{"$f":"tabula!F66","v":160},{"$f":"tabula!G66","v":91},{"$f":"tabula!H66","v":67},{"$f":"tabula!I66","v":111},{"$f":"tabula!J66","v":63},{"$f":"tabula!K66","v":8},{"$f":"tabula!L66","v":88},{"$f":"tabula!M66","v":79},{"$f":"tabula!N66","v":69},{"$f":"tabula!O66","v":818},{"$f":"tabula!P66","v":"03 min. 26,388"},{"$f":"tabula!Q66","v":44},{"$f":"tabula!R66","v":"04,691 sek."}]
[null,3,{"$f":"tabula!C67","v":60},{"$f":"tabula!D67","v":"Edgars un Kristīne"},{"$f":"tabula!E67","v":52},{"$f":"tabula!F67","v":145},{"$f":"tabula!G67","v":103},{"$f":"tabula!H67","v":58},{"$f":"tabula!I67","v":105},{"$f":"tabula!J67","v":53},{"$f":"tabula!K67","v":32},{"$f":"tabula!L67","v":99},{"$f":"tabula!M67","v":63},{"$f":"tabula!N67","v":103},{"$f":"tabula!O67","v":813},{"$f":"tabula!P67","v":"05 min. 38,811"},{"$f":"tabula!Q67","v":47},{"$f":"tabula!R67","v":"07,209 sek."}]
[null,2,{"$f":"tabula!C68","v":61},{"$f":"tabula!D68","v":"Vientieši"},{"$f":"tabula!E68","v":58},{"$f":"tabula!F68","v":136},{"$f":"tabula!G68","v":112},{"$f":"tabula!H68","v":18},{"$f":"tabula!I68","v":71},{"$f":"tabula!J68","v":90},{"$f":"tabula!K68","v":6},{"$f":"tabula!L68","v":112},{"$f":"tabula!M68","v":139},{"$f":"tabula!N68","v":69},{"$f":"tabula!O68","v":811},{"$f":"tabula!P68","v":"02 min. 54,549"},{"$f":"tabula!Q68","v":42},{"$f":"tabula!R68","v":"04,156 sek."}]
[null,2,{"$f":"tabula!C69","v":62},{"$f":"tabula!D69","v":"atKodēji"},{"$f":"tabula!E69","v":33},{"$f":"tabula!F69","v":146},{"$f":"tabula!G69","v":77},{"$f":"tabula!H69","v":73},{"$f":"tabula!I69","v":94},{"$f":"tabula!J69","v":78},{"$f":"tabula!K69","v":74},{"$f":"tabula!L69","v":78},{"$f":"tabula!M69","v":86},{"$f":"tabula!N69","v":66},{"$f":"tabula!O69","v":805},{"$f":"tabula!P69","v":"04 min. 31,154"},{"$f":"tabula!Q69","v":43},{"$f":"tabula!R69","v":"06,306 sek."}]
[null,2,{"$f":"tabula!C70","v":63},{"$f":"tabula!D70","v":"Tom.ss"},{"$f":"tabula!E70","v":83},{"$f":"tabula!F70","v":115},{"$f":"tabula!G70","v":63},{"$f":"tabula!H70","v":99},{"$f":"tabula!I70","v":91},{"$f":"tabula!J70","v":62},{"$f":"tabula!K70","v":46},{"$f":"tabula!L70","v":130},{"$f":"tabula!M70","v":91},{"$f":"tabula!N70","v":24},{"$f":"tabula!O70","v":804},{"$f":"tabula!P70","v":"04 min. 30,422"},{"$f":"tabula!Q70","v":43},{"$f":"tabula!R70","v":"06,289 sek."}]
[null,3,{"$f":"tabula!C71","v":64},{"$f":"tabula!D71","v":"Marodieri"},{"$f":"tabula!E71","v":57},{"$f":"tabula!F71","v":130},{"$f":"tabula!G71","v":87},{"$f":"tabula!H71","v":65},{"$f":"tabula!I71","v":87},{"$f":"tabula!J71","v":60},{"$f":"tabula!K71","v":71},{"$f":"tabula!L71","v":96},{"$f":"tabula!M71","v":59},{"$f":"tabula!N71","v":89},{"$f":"tabula!O71","v":801},{"$f":"tabula!P71","v":"03 min. 46,446"},{"$f":"tabula!Q71","v":42},{"$f":"tabula!R71","v":"05,392 sek."}]
[null,1,{"$f":"tabula!C72","v":65},{"$f":"tabula!D72","v":"Cukurzirnītis"},{"$f":"tabula!E72","v":65},{"$f":"tabula!F72","v":155},{"$f":"tabula!G72","v":101},{"$f":"tabula!H72","v":41},{"$f":"tabula!I72","v":108},{"$f":"tabula!J72","v":57},{"$f":"tabula!K72","v":39},{"$f":"tabula!L72","v":102},{"$f":"tabula!M72","v":66},{"$f":"tabula!N72","v":65},{"$f":"tabula!O72","v":799},{"$f":"tabula!P72","v":"05 min. 54,691"},{"$f":"tabula!Q72","v":46},{"$f":"tabula!R72","v":"07,711 sek."}]
[null,3,{"$f":"tabula!C73","v":66},{"$f":"tabula!D73","v":"BraveDucks"},{"$f":"tabula!E73","v":33},{"$f":"tabula!F73","v":137},{"$f":"tabula!G73","v":64},{"$f":"tabula!H73","v":90},{"$f":"tabula!I73","v":112},{"$f":"tabula!J73","v":81},{"$f":"tabula!K73","v":11},{"$f":"tabula!L73","v":92},{"$f":"tabula!M73","v":56},{"$f":"tabula!N73","v":119},{"$f":"tabula!O73","v":795},{"$f":"tabula!P73","v":"05 min. 05,390"},{"$f":"tabula!Q73","v":45},{"$f":"tabula!R73","v":"06,786 sek."}]
[null,3,{"$f":"tabula!C74","v":67},{"$f":"tabula!D74","v":"Lego Friends"},{"$f":"tabula!E74","v":87},{"$f":"tabula!F74","v":147},{"$f":"tabula!G74","v":95},{"$f":"tabula!H74","v":18},{"$f":"tabula!I74","v":112},{"$f":"tabula!J74","v":64},{"$f":"tabula!K74","v":42},{"$f":"tabula!L74","v":61},{"$f":"tabula!M74","v":68},{"$f":"tabula!N74","v":98},{"$f":"tabula!O74","v":792},{"$f":"tabula!P74","v":"05 min. 31,437"},{"$f":"tabula!Q74","v":45},{"$f":"tabula!R74","v":"07,365 sek."}]
[null,3,{"$f":"tabula!C75","v":68},{"$f":"tabula!D75","v":"Pirāts"},{"$f":"tabula!E75","v":50},{"$f":"tabula!F75","v":130},{"$f":"tabula!G75","v":112},{"$f":"tabula!H75","v":23},{"$f":"tabula!I75","v":141},{"$f":"tabula!J75","v":106},{"$f":"tabula!K75","v":36},{"$f":"tabula!L75","v":95},{"$f":"tabula!M75","v":76},{"$f":"tabula!N75","v":22},{"$f":"tabula!O75","v":791},{"$f":"tabula!P75","v":"04 min. 54,966"},{"$f":"tabula!Q75","v":43},{"$f":"tabula!R75","v":"06,860 sek."}]
[null,1,{"$f":"tabula!C76","v":69},{"$f":"tabula!D76","v":"pienazupa"},{"$f":"tabula!E76","v":80},{"$f":"tabula!F76","v":114},{"$f":"tabula!G76","v":63},{"$f":"tabula!H76","v":47},{"$f":"tabula!I76","v":110},{"$f":"tabula!J76","v":66},{"$f":"tabula!K76","v":80},{"$f":"tabula!L76","v":125},{"$f":"tabula!M76","v":57},{"$f":"tabula!N76","v":45},{"$f":"tabula!O76","v":787},{"$f":"tabula!P76","v":"08 min. 10,634"},{"$f":"tabula!Q76","v":48},{"$f":"tabula!R76","v":"10,222 sek."}]
[null,1,{"$f":"tabula!C77","v":70},{"$f":"tabula!D77","v":"Šķirmice"},{"$f":"tabula!E77","v":73},{"$f":"tabula!F77","v":86},{"$f":"tabula!G77","v":108},{"$f":"tabula!H77","v":57},{"$f":"tabula!I77","v":107},{"$f":"tabula!J77","v":38},{"$f":"tabula!K77","v":61},{"$f":"tabula!L77","v":110},{"$f":"tabula!M77","v":68},{"$f":"tabula!N77","v":77},{"$f":"tabula!O77","v":785},{"$f":"tabula!P77","v":"06 min. 41,288"},{"$f":"tabula!Q77","v":45},{"$f":"tabula!R77","v":"08,918 sek."}]
[null,3,{"$f":"tabula!C78","v":71},{"$f":"tabula!D78","v":"Grifidora lauvas"},{"$f":"tabula!E78","v":37},{"$f":"tabula!F78","v":115},{"$f":"tabula!G78","v":107},{"$f":"tabula!H78","v":87},{"$f":"tabula!I78","v":90},{"$f":"tabula!J78","v":96},{"$f":"tabula!K78","v":-9},{"$f":"tabula!L78","v":92},{"$f":"tabula!M78","v":83},{"$f":"tabula!N78","v":80},{"$f":"tabula!O78","v":778},{"$f":"tabula!P78","v":"07 min. 22,871"},{"$f":"tabula!Q78","v":46},{"$f":"tabula!R78","v":"09,628 sek."}]
[null,null,{"$f":"tabula!C79","v":72},{"$f":"tabula!D79","v":"Tainijs"},{"$f":"tabula!E79","v":70},{"$f":"tabula!F79","v":105},{"$f":"tabula!G79","v":74},{"$f":"tabula!H79","v":63},{"$f":"tabula!I79","v":113},{"$f":"tabula!J79","v":68},{"$f":"tabula!K79","v":57},{"$f":"tabula!L79","v":85},{"$f":"tabula!M79","v":62},{"$f":"tabula!N79","v":79},{"$f":"tabula!O79","v":776},{"$f":"tabula!P79","v":"08 min. 40,936"},{"$f":"tabula!Q79","v":48},{"$f":"tabula!R79","v":"10,853 sek."}]
[null,null,{"$f":"tabula!C80","v":73},{"$f":"tabula!D80","v":"ELIINA"},{"$f":"tabula!E80","v":73},{"$f":"tabula!F80","v":123},{"$f":"tabula!G80","v":89},{"$f":"tabula!H80","v":65},{"$f":"tabula!I80","v":86},{"$f":"tabula!J80","v":62},{"$f":"tabula!K80","v":59},{"$f":"tabula!L80","v":108},{"$f":"tabula!M80","v":17},{"$f":"tabula!N80","v":89},{"$f":"tabula!O80","v":771},{"$f":"tabula!P80","v":"04 min. 15,508"},{"$f":"tabula!Q80","v":41},{"$f":"tabula!R80","v":"06,232 sek."}]
[null,null,{"$f":"tabula!C81","v":74},{"$f":"tabula!D81","v":"Lusteklis"},{"$f":"tabula!E81","v":51},{"$f":"tabula!F81","v":111},{"$f":"tabula!G81","v":88},{"$f":"tabula!H81","v":43},{"$f":"tabula!I81","v":102},{"$f":"tabula!J81","v":33},{"$f":"tabula!K81","v":75},{"$f":"tabula!L81","v":101},{"$f":"tabula!M81","v":79},{"$f":"tabula!N81","v":81},{"$f":"tabula!O81","v":764},{"$f":"tabula!P81","v":"06 min. 07,075"},{"$f":"tabula!Q81","v":45},{"$f":"tabula!R81","v":"08,157 sek."}]
[null,null,{"$f":"tabula!C82","v":75},{"$f":"tabula!D82","v":"Susuri"},{"$f":"tabula!E82","v":56},{"$f":"tabula!F82","v":139},{"$f":"tabula!G82","v":62},{"$f":"tabula!H82","v":56},{"$f":"tabula!I82","v":114},{"$f":"tabula!J82","v":44},{"$f":"tabula!K82","v":6},{"$f":"tabula!L82","v":121},{"$f":"tabula!M82","v":69},{"$f":"tabula!N82","v":94},{"$f":"tabula!O82","v":761},{"$f":"tabula!P82","v":"02 min. 53,606"},{"$f":"tabula!Q82","v":40},{"$f":"tabula!R82","v":"04,340 sek."}]
[null,null,{"$f":"tabula!C83","v":76},{"$f":"tabula!D83","v":"Lācīši"},{"$f":"tabula!E83","v":57},{"$f":"tabula!F83","v":148},{"$f":"tabula!G83","v":38},{"$f":"tabula!H83","v":28},{"$f":"tabula!I83","v":136},{"$f":"tabula!J83","v":39},{"$f":"tabula!K83","v":36},{"$f":"tabula!L83","v":104},{"$f":"tabula!M83","v":93},{"$f":"tabula!N83","v":70},{"$f":"tabula!O83","v":749},{"$f":"tabula!P83","v":"06 min. 13,955"},{"$f":"tabula!Q83","v":44},{"$f":"tabula!R83","v":"08,499 sek."}]
[null,null,{"$f":"tabula!C84","v":77},{"$f":"tabula!D84","v":"Pelmenis"},{"$f":"tabula!E84","v":38},{"$f":"tabula!F84","v":158},{"$f":"tabula!G84","v":84},{"$f":"tabula!H84","v":38},{"$f":"tabula!I84","v":112},{"$f":"tabula!J84","v":77},{"$f":"tabula!K84","v":52},{"$f":"tabula!L84","v":69},{"$f":"tabula!M84","v":59},{"$f":"tabula!N84","v":59},{"$f":"tabula!O84","v":746},{"$f":"tabula!P84","v":"05 min. 23,217"},{"$f":"tabula!Q84","v":43},{"$f":"tabula!R84","v":"07,517 sek."}]
[null,null,{"$f":"tabula!C85","v":78},{"$f":"tabula!D85","v":"Liepu iela"},{"$f":"tabula!E85","v":68},{"$f":"tabula!F85","v":100},{"$f":"tabula!G85","v":73},{"$f":"tabula!H85","v":63},{"$f":"tabula!I85","v":111},{"$f":"tabula!J85","v":66},{"$f":"tabula!K85","v":55},{"$f":"tabula!L85","v":86},{"$f":"tabula!M85","v":57},{"$f":"tabula!N85","v":64},{"$f":"tabula!O85","v":743},{"$f":"tabula!P85","v":"08 min. 47,653"},{"$f":"tabula!Q85","v":47},{"$f":"tabula!R85","v":"11,227 sek."}]
[null,null,{"$f":"tabula!C86","v":79},{"$f":"tabula!D86","v":"Smartlords"},{"$f":"tabula!E86","v":70},{"$f":"tabula!F86","v":116},{"$f":"tabula!G86","v":46},{"$f":"tabula!H86","v":37},{"$f":"tabula!I86","v":119},{"$f":"tabula!J86","v":26},{"$f":"tabula!K86","v":40},{"$f":"tabula!L86","v":92},{"$f":"tabula!M86","v":84},{"$f":"tabula!N86","v":106},{"$f":"tabula!O86","v":736},{"$f":"tabula!P86","v":"06 min. 18,173"},{"$f":"tabula!Q86","v":43},{"$f":"tabula!R86","v":"08,795 sek."}]
[null,null,{"$f":"tabula!C87","v":80},{"$f":"tabula!D87","v":"Vecais Džī un KaraLiene"},{"$f":"tabula!E87","v":93},{"$f":"tabula!F87","v":106},{"$f":"tabula!G87","v":54},{"$f":"tabula!H87","v":33},{"$f":"tabula!I87","v":100},{"$f":"tabula!J87","v":42},{"$f":"tabula!K87","v":47},{"$f":"tabula!L87","v":111},{"$f":"tabula!M87","v":61},{"$f":"tabula!N87","v":86},{"$f":"tabula!O87","v":733},{"$f":"tabula!P87","v":"07 min. 00,264"},{"$f":"tabula!Q87","v":44},{"$f":"tabula!R87","v":"09,551 sek."}]
[null,null,{"$f":"tabula!C88","v":81},{"$f":"tabula!D88","v":"Augļu ielas republika"},{"$f":"tabula!E88","v":45},{"$f":"tabula!F88","v":138},{"$f":"tabula!G88","v":105},{"$f":"tabula!H88","v":0},{"$f":"tabula!I88","v":114},{"$f":"tabula!J88","v":91},{"$f":"tabula!K88","v":17},{"$f":"tabula!L88","v":81},{"$f":"tabula!M88","v":53},{"$f":"tabula!N88","v":87},{"$f":"tabula!O88","v":731},{"$f":"tabula!P88","v":"04 min. 56,276"},{"$f":"tabula!Q88","v":42},{"$f":"tabula!R88","v":"07,054 sek."}]
[null,null,{"$f":"tabula!C89","v":82},{"$f":"tabula!D89","v":"varde ar brillēm"},{"$f":"tabula!E89","v":52},{"$f":"tabula!F89","v":157},{"$f":"tabula!G89","v":105},{"$f":"tabula!H89","v":57},{"$f":"tabula!I89","v":100},{"$f":"tabula!J89","v":38},{"$f":"tabula!K89","v":25},{"$f":"tabula!L89","v":98},{"$f":"tabula!M89","v":50},{"$f":"tabula!N89","v":45},{"$f":"tabula!O89","v":727},{"$f":"tabula!P89","v":"05 min. 14,429"},{"$f":"tabula!Q89","v":42},{"$f":"tabula!R89","v":"07,486 sek."}]
[null,null,{"$f":"tabula!C90","v":83},{"$f":"tabula!D90","v":"Ne jau atkal"},{"$f":"tabula!E90","v":65},{"$f":"tabula!F90","v":92},{"$f":"tabula!G90","v":82},{"$f":"tabula!H90","v":37},{"$f":"tabula!I90","v":127},{"$f":"tabula!J90","v":62},{"$f":"tabula!K90","v":16},{"$f":"tabula!L90","v":74},{"$f":"tabula!M90","v":85},{"$f":"tabula!N90","v":86},{"$f":"tabula!O90","v":726},{"$f":"tabula!P90","v":"07 min. 45,657"},{"$f":"tabula!Q90","v":46},{"$f":"tabula!R90","v":"10,123 sek."}]
[null,null,{"$f":"tabula!C91","v":84},{"$f":"tabula!D91","v":"Tukšrokdžimpiņ"},{"$f":"tabula!E91","v":66},{"$f":"tabula!F91","v":171},{"$f":"tabula!G91","v":45},{"$f":"tabula!H91","v":74},{"$f":"tabula!I91","v":116},{"$f":"tabula!J91","v":22},{"$f":"tabula!K91","v":22},{"$f":"tabula!L91","v":78},{"$f":"tabula!M91","v":82},{"$f":"tabula!N91","v":48},{"$f":"tabula!O91","v":724},{"$f":"tabula!P91","v":"04 min. 47,890"},{"$f":"tabula!Q91","v":42},{"$f":"tabula!R91","v":"06,855 sek."}]
[null,null,{"$f":"tabula!C92","v":85},{"$f":"tabula!D92","v":"Kristāliņi"},{"$f":"tabula!E92","v":68},{"$f":"tabula!F92","v":89},{"$f":"tabula!G92","v":76},{"$f":"tabula!H92","v":40},{"$f":"tabula!I92","v":112},{"$f":"tabula!J92","v":62},{"$f":"tabula!K92","v":54},{"$f":"tabula!L92","v":87},{"$f":"tabula!M92","v":68},{"$f":"tabula!N92","v":68},{"$f":"tabula!O92","v":724},{"$f":"tabula!P92","v":"07 min. 24,096"},{"$f":"tabula!Q92","v":45},{"$f":"tabula!R92","v":"09,869 sek."}]
[null,null,{"$f":"tabula!C93","v":86},{"$f":"tabula!D93","v":"ABC"},{"$f":"tabula!E93","v":22},{"$f":"tabula!F93","v":141},{"$f":"tabula!G93","v":65},{"$f":"tabula!H93","v":77},{"$f":"tabula!I93","v":113},{"$f":"tabula!J93","v":57},{"$f":"tabula!K93","v":28},{"$f":"tabula!L93","v":42},{"$f":"tabula!M93","v":87},{"$f":"tabula!N93","v":90},{"$f":"tabula!O93","v":722},{"$f":"tabula!P93","v":"04 min. 09,058"},{"$f":"tabula!Q93","v":40},{"$f":"tabula!R93","v":"06,226 sek."}]
[null,null,{"$f":"tabula!C94","v":87},{"$f":"tabula!D94","v":"Agilla"},{"$f":"tabula!E94","v":73},{"$f":"tabula!F94","v":155},{"$f":"tabula!G94","v":45},{"$f":"tabula!H94","v":73},{"$f":"tabula!I94","v":112},{"$f":"tabula!J94","v":50},{"$f":"tabula!K94","v":75},{"$f":"tabula!L94","v":41},{"$f":"tabula!M94","v":43},{"$f":"tabula!N94","v":55},{"$f":"tabula!O94","v":722},{"$f":"tabula!P94","v":"04 min. 18,361"},{"$f":"tabula!Q94","v":40},{"$f":"tabula!R94","v":"06,459 sek."}]
[null,null,{"$f":"tabula!C95","v":88},{"$f":"tabula!D95","v":"NeČītrā Velnene"},{"$f":"tabula!E95","v":46},{"$f":"tabula!F95","v":124},{"$f":"tabula!G95","v":82},{"$f":"tabula!H95","v":51},{"$f":"tabula!I95","v":88},{"$f":"tabula!J95","v":41},{"$f":"tabula!K95","v":47},{"$f":"tabula!L95","v":127},{"$f":"tabula!M95","v":62},{"$f":"tabula!N95","v":54},{"$f":"tabula!O95","v":722},{"$f":"tabula!P95","v":"07 min. 57,989"},{"$f":"tabula!Q95","v":46},{"$f":"tabula!R95","v":"10,391 sek."}]
[null,null,{"$f":"tabula!C96","v":89},{"$f":"tabula!D96","v":"Strupsis"},{"$f":"tabula!E96","v":44},{"$f":"tabula!F96","v":194},{"$f":"tabula!G96","v":64},{"$f":"tabula!H96","v":59},{"$f":"tabula!I96","v":107},{"$f":"tabula!J96","v":7},{"$f":"tabula!K96","v":67},{"$f":"tabula!L96","v":65},{"$f":"tabula!M96","v":52},{"$f":"tabula!N96","v":56},{"$f":"tabula!O96","v":715},{"$f":"tabula!P96","v":"05 min. 04,411"},{"$f":"tabula!Q96","v":42},{"$f":"tabula!R96","v":"07,248 sek."}]
[null,null,{"$f":"tabula!C97","v":90},{"$f":"tabula!D97","v":"Rio"},{"$f":"tabula!E97","v":29},{"$f":"tabula!F97","v":142},{"$f":"tabula!G97","v":43},{"$f":"tabula!H97","v":86},{"$f":"tabula!I97","v":96},{"$f":"tabula!J97","v":92},{"$f":"tabula!K97","v":41},{"$f":"tabula!L97","v":46},{"$f":"tabula!M97","v":71},{"$f":"tabula!N97","v":62},{"$f":"tabula!O97","v":708},{"$f":"tabula!P97","v":"02 min. 59,161"},{"$f":"tabula!Q97","v":38},{"$f":"tabula!R97","v":"04,715 sek."}]
[null,null,{"$f":"tabula!C98","v":91},{"$f":"tabula!D98","v":"Sancchoo"},{"$f":"tabula!E98","v":45},{"$f":"tabula!F98","v":169},{"$f":"tabula!G98","v":64},{"$f":"tabula!H98","v":55},{"$f":"tabula!I98","v":116},{"$f":"tabula!J98","v":62},{"$f":"tabula!K98","v":-26},{"$f":"tabula!L98","v":61},{"$f":"tabula!M98","v":63},{"$f":"tabula!N98","v":84},{"$f":"tabula!O98","v":693},{"$f":"tabula!P98","v":"02 min. 42,249"},{"$f":"tabula!Q98","v":38},{"$f":"tabula!R98","v":"04,270 sek."}]
[null,null,{"$f":"tabula!C99","v":92},{"$f":"tabula!D99","v":"Bīstamie"},{"$f":"tabula!E99","v":49},{"$f":"tabula!F99","v":76},{"$f":"tabula!G99","v":84},{"$f":"tabula!H99","v":21},{"$f":"tabula!I99","v":125},{"$f":"tabula!J99","v":84},{"$f":"tabula!K99","v":71},{"$f":"tabula!L99","v":40},{"$f":"tabula!M99","v":56},{"$f":"tabula!N99","v":85},{"$f":"tabula!O99","v":691},{"$f":"tabula!P99","v":"04 min. 42,698"},{"$f":"tabula!Q99","v":39},{"$f":"tabula!R99","v":"07,249 sek."}]
[null,null,{"$f":"tabula!C100","v":93},{"$f":"tabula!D100","v":"Budži"},{"$f":"tabula!E100","v":78},{"$f":"tabula!F100","v":103},{"$f":"tabula!G100","v":71},{"$f":"tabula!H100","v":69},{"$f":"tabula!I100","v":108},{"$f":"tabula!J100","v":17},{"$f":"tabula!K100","v":23},{"$f":"tabula!L100","v":72},{"$f":"tabula!M100","v":83},{"$f":"tabula!N100","v":62},{"$f":"tabula!O100","v":686},{"$f":"tabula!P100","v":"07 min. 05,660"},{"$f":"tabula!Q100","v":43},{"$f":"tabula!R100","v":"09,899 sek."}]
[null,null,{"$f":"tabula!C101","v":94},{"$f":"tabula!D101","v":"Riekstiņi"},{"$f":"tabula!E101","v":40},{"$f":"tabula!F101","v":114},{"$f":"tabula!G101","v":69},{"$f":"tabula!H101","v":68},{"$f":"tabula!I101","v":98},{"$f":"tabula!J101","v":21},{"$f":"tabula!K101","v":16},{"$f":"tabula!L101","v":91},{"$f":"tabula!M101","v":86},{"$f":"tabula!N101","v":76},{"$f":"tabula!O101","v":679},{"$f":"tabula!P101","v":"07 min. 35,962"},{"$f":"tabula!Q101","v":45},{"$f":"tabula!R101","v":"10,132 sek."}]
[null,null,{"$f":"tabula!C102","v":95},{"$f":"tabula!D102","v":"Ilze"},{"$f":"tabula!E102","v":56},{"$f":"tabula!F102","v":135},{"$f":"tabula!G102","v":63},{"$f":"tabula!H102","v":0},{"$f":"tabula!I102","v":82},{"$f":"tabula!J102","v":45},{"$f":"tabula!K102","v":43},{"$f":"tabula!L102","v":122},{"$f":"tabula!M102","v":62},{"$f":"tabula!N102","v":69},{"$f":"tabula!O102","v":677},{"$f":"tabula!P102","v":"04 min. 55,215"},{"$f":"tabula!Q102","v":40},{"$f":"tabula!R102","v":"07,380 sek."}]
[null,null,{"$f":"tabula!C103","v":96},{"$f":"tabula!D103","v":"Astotais horkrusts"},{"$f":"tabula!E103","v":63},{"$f":"tabula!F103","v":97},{"$f":"tabula!G103","v":75},{"$f":"tabula!H103","v":64},{"$f":"tabula!I103","v":87},{"$f":"tabula!J103","v":47},{"$f":"tabula!K103","v":34},{"$f":"tabula!L103","v":81},{"$f":"tabula!M103","v":76},{"$f":"tabula!N103","v":53},{"$f":"tabula!O103","v":677},{"$f":"tabula!P103","v":"07 min. 00,684"},{"$f":"tabula!Q103","v":43},{"$f":"tabula!R103","v":"09,783 sek."}]
[null,null,{"$f":"tabula!C104","v":97},{"$f":"tabula!D104","v":"Gendalfine"},{"$f":"tabula!E104","v":56},{"$f":"tabula!F104","v":104},{"$f":"tabula!G104","v":67},{"$f":"tabula!H104","v":27},{"$f":"tabula!I104","v":85},{"$f":"tabula!J104","v":75},{"$f":"tabula!K104","v":32},{"$f":"tabula!L104","v":38},{"$f":"tabula!M104","v":86},{"$f":"tabula!N104","v":106},{"$f":"tabula!O104","v":676},{"$f":"tabula!P104","v":"04 min. 08,157"},{"$f":"tabula!Q104","v":38},{"$f":"tabula!R104","v":"06,530 sek."}]
[null,null,{"$f":"tabula!C105","v":98},{"$f":"tabula!D105","v":"Tigerkomanda"},{"$f":"tabula!E105","v":59},{"$f":"tabula!F105","v":97},{"$f":"tabula!G105","v":66},{"$f":"tabula!H105","v":37},{"$f":"tabula!I105","v":91},{"$f":"tabula!J105","v":77},{"$f":"tabula!K105","v":36},{"$f":"tabula!L105","v":97},{"$f":"tabula!M105","v":60},{"$f":"tabula!N105","v":56},{"$f":"tabula!O105","v":676},{"$f":"tabula!P105","v":"05 min. 19,592"},{"$f":"tabula!Q105","v":39},{"$f":"tabula!R105","v":"08,195 sek."}]
[null,null,{"$f":"tabula!C106","v":99},{"$f":"tabula!D106","v":"Daudzsulu mikstūra"},{"$f":"tabula!E106","v":58},{"$f":"tabula!F106","v":109},{"$f":"tabula!G106","v":71},{"$f":"tabula!H106","v":26},{"$f":"tabula!I106","v":127},{"$f":"tabula!J106","v":49},{"$f":"tabula!K106","v":14},{"$f":"tabula!L106","v":67},{"$f":"tabula!M106","v":83},{"$f":"tabula!N106","v":71},{"$f":"tabula!O106","v":675},{"$f":"tabula!P106","v":"07 min. 21,158"},{"$f":"tabula!Q106","v":44},{"$f":"tabula!R106","v":"10,026 sek."}]
[null,null,{"$f":"tabula!C107","v":100},{"$f":"tabula!D107","v":"Izvelc vidējo"},{"$f":"tabula!E107","v":61},{"$f":"tabula!F107","v":91},{"$f":"tabula!G107","v":84},{"$f":"tabula!H107","v":52},{"$f":"tabula!I107","v":130},{"$f":"tabula!J107","v":49},{"$f":"tabula!K107","v":59},{"$f":"tabula!L107","v":58},{"$f":"tabula!M107","v":38},{"$f":"tabula!N107","v":43},{"$f":"tabula!O107","v":665},{"$f":"tabula!P107","v":"04 min. 32,729"},{"$f":"tabula!Q107","v":37},{"$f":"tabula!R107","v":"07,371 sek."}]
[null,null,{"$f":"tabula!C108","v":101},{"$f":"tabula!D108","v":"HubTuri"},{"$f":"tabula!E108","v":22},{"$f":"tabula!F108","v":85},{"$f":"tabula!G108","v":48},{"$f":"tabula!H108","v":45},{"$f":"tabula!I108","v":97},{"$f":"tabula!J108","v":41},{"$f":"tabula!K108","v":93},{"$f":"tabula!L108","v":87},{"$f":"tabula!M108","v":47},{"$f":"tabula!N108","v":97},{"$f":"tabula!O108","v":662},{"$f":"tabula!P108","v":"07 min. 49,747"},{"$f":"tabula!Q108","v":44},{"$f":"tabula!R108","v":"10,676 sek."}]
[null,null,{"$f":"tabula!C109","v":102},{"$f":"tabula!D109","v":"LOLA"},{"$f":"tabula!E109","v":60},{"$f":"tabula!F109","v":109},{"$f":"tabula!G109","v":73},{"$f":"tabula!H109","v":20},{"$f":"tabula!I109","v":86},{"$f":"tabula!J109","v":31},{"$f":"tabula!K109","v":31},{"$f":"tabula!L109","v":90},{"$f":"tabula!M109","v":88},{"$f":"tabula!N109","v":73},{"$f":"tabula!O109","v":661},{"$f":"tabula!P109","v":"06 min. 37,273"},{"$f":"tabula!Q109","v":41},{"$f":"tabula!R109","v":"09,690 sek."}]
[null,null,{"$f":"tabula!C110","v":103},{"$f":"tabula!D110","v":"Poga"},{"$f":"tabula!E110","v":65},{"$f":"tabula!F110","v":147},{"$f":"tabula!G110","v":56},{"$f":"tabula!H110","v":60},{"$f":"tabula!I110","v":90},{"$f":"tabula!J110","v":57},{"$f":"tabula!K110","v":38},{"$f":"tabula!L110","v":57},{"$f":"tabula!M110","v":45},{"$f":"tabula!N110","v":40},{"$f":"tabula!O110","v":655},{"$f":"tabula!P110","v":"06 min. 15,621"},{"$f":"tabula!Q110","v":40},{"$f":"tabula!R110","v":"09,391 sek."}]
[null,null,{"$f":"tabula!C111","v":104},{"$f":"tabula!D111","v":"BĀZES"},{"$f":"tabula!E111","v":54},{"$f":"tabula!F111","v":106},{"$f":"tabula!G111","v":47},{"$f":"tabula!H111","v":32},{"$f":"tabula!I111","v":116},{"$f":"tabula!J111","v":51},{"$f":"tabula!K111","v":-6},{"$f":"tabula!L111","v":95},{"$f":"tabula!M111","v":79},{"$f":"tabula!N111","v":77},{"$f":"tabula!O111","v":651},{"$f":"tabula!P111","v":"06 min. 53,016"},{"$f":"tabula!Q111","v":42},{"$f":"tabula!R111","v":"09,834 sek."}]
[null,null,{"$f":"tabula!C112","v":105},{"$f":"tabula!D112","v":"Jautrais Kekss"},{"$f":"tabula!E112","v":36},{"$f":"tabula!F112","v":92},{"$f":"tabula!G112","v":100},{"$f":"tabula!H112","v":75},{"$f":"tabula!I112","v":88},{"$f":"tabula!J112","v":83},{"$f":"tabula!K112","v":22},{"$f":"tabula!L112","v":33},{"$f":"tabula!M112","v":32},{"$f":"tabula!N112","v":87},{"$f":"tabula!O112","v":648},{"$f":"tabula!P112","v":"05 min. 20,846"},{"$f":"tabula!Q112","v":38},{"$f":"tabula!R112","v":"08,443 sek."}]
[null,null,{"$f":"tabula!C113","v":106},{"$f":"tabula!D113","v":"Teo"},{"$f":"tabula!E113","v":72},{"$f":"tabula!F113","v":98},{"$f":"tabula!G113","v":85},{"$f":"tabula!H113","v":53},{"$f":"tabula!I113","v":68},{"$f":"tabula!J113","v":55},{"$f":"tabula!K113","v":9},{"$f":"tabula!L113","v":84},{"$f":"tabula!M113","v":38},{"$f":"tabula!N113","v":83},{"$f":"tabula!O113","v":645},{"$f":"tabula!P113","v":"04 min. 05,258"},{"$f":"tabula!Q113","v":36},{"$f":"tabula!R113","v":"06,813 sek."}]
[null,null,{"$f":"tabula!C114","v":107},{"$f":"tabula!D114","v":"Filozofu akmens"},{"$f":"tabula!E114","v":61},{"$f":"tabula!F114","v":135},{"$f":"tabula!G114","v":94},{"$f":"tabula!H114","v":55},{"$f":"tabula!I114","v":88},{"$f":"tabula!J114","v":27},{"$f":"tabula!K114","v":-22},{"$f":"tabula!L114","v":106},{"$f":"tabula!M114","v":53},{"$f":"tabula!N114","v":46},{"$f":"tabula!O114","v":643},{"$f":"tabula!P114","v":"05 min. 02,668"},{"$f":"tabula!Q114","v":40},{"$f":"tabula!R114","v":"07,567 sek."}]
[null,null,{"$f":"tabula!C115","v":108},{"$f":"tabula!D115","v":"Mans Nau Dumš"},{"$f":"tabula!E115","v":49},{"$f":"tabula!F115","v":102},{"$f":"tabula!G115","v":50},{"$f":"tabula!H115","v":49},{"$f":"tabula!I115","v":113},{"$f":"tabula!J115","v":72},{"$f":"tabula!K115","v":27},{"$f":"tabula!L115","v":72},{"$f":"tabula!M115","v":43},{"$f":"tabula!N115","v":63},{"$f":"tabula!O115","v":640},{"$f":"tabula!P115","v":"08 min. 16,209"},{"$f":"tabula!Q115","v":43},{"$f":"tabula!R115","v":"11,540 sek."}]
[null,null,{"$f":"tabula!C116","v":109},{"$f":"tabula!D116","v":"Burvju Dāmas no Hogvartas"},{"$f":"tabula!E116","v":51},{"$f":"tabula!F116","v":138},{"$f":"tabula!G116","v":42},{"$f":"tabula!H116","v":58},{"$f":"tabula!I116","v":101},{"$f":"tabula!J116","v":71},{"$f":"tabula!K116","v":6},{"$f":"tabula!L116","v":23},{"$f":"tabula!M116","v":66},{"$f":"tabula!N116","v":76},{"$f":"tabula!O116","v":632},{"$f":"tabula!P116","v":"04 min. 39,110"},{"$f":"tabula!Q116","v":39},{"$f":"tabula!R116","v":"07,157 sek."}]
[null,null,{"$f":"tabula!C117","v":110},{"$f":"tabula!D117","v":"Pretējās mājas Skaidrīte"},{"$f":"tabula!E117","v":51},{"$f":"tabula!F117","v":109},{"$f":"tabula!G117","v":33},{"$f":"tabula!H117","v":57},{"$f":"tabula!I117","v":106},{"$f":"tabula!J117","v":53},{"$f":"tabula!K117","v":40},{"$f":"tabula!L117","v":49},{"$f":"tabula!M117","v":49},{"$f":"tabula!N117","v":81},{"$f":"tabula!O117","v":628},{"$f":"tabula!P117","v":"06 min. 28,095"},{"$f":"tabula!Q117","v":39},{"$f":"tabula!R117","v":"09,951 sek."}]
[null,null,{"$f":"tabula!C118","v":111},{"$f":"tabula!D118","v":"Kabacis"},{"$f":"tabula!E118","v":48},{"$f":"tabula!F118","v":137},{"$f":"tabula!G118","v":21},{"$f":"tabula!H118","v":32},{"$f":"tabula!I118","v":132},{"$f":"tabula!J118","v":55},{"$f":"tabula!K118","v":12},{"$f":"tabula!L118","v":68},{"$f":"tabula!M118","v":54},{"$f":"tabula!N118","v":62},{"$f":"tabula!O118","v":621},{"$f":"tabula!P118","v":"04 min. 29,954"},{"$f":"tabula!Q118","v":38},{"$f":"tabula!R118","v":"07,104 sek."}]
[null,null,{"$f":"tabula!C119","v":112},{"$f":"tabula!D119","v":"Hogwarts Legacy house"},{"$f":"tabula!E119","v":44},{"$f":"tabula!F119","v":106},{"$f":"tabula!G119","v":70},{"$f":"tabula!H119","v":61},{"$f":"tabula!I119","v":94},{"$f":"tabula!J119","v":31},{"$f":"tabula!K119","v":20},{"$f":"tabula!L119","v":34},{"$f":"tabula!M119","v":76},{"$f":"tabula!N119","v":74},{"$f":"tabula!O119","v":610},{"$f":"tabula!P119","v":"03 min. 47,206"},{"$f":"tabula!Q119","v":35},{"$f":"tabula!R119","v":"06,492 sek."}]
[null,null,{"$f":"tabula!C120","v":113},{"$f":"tabula!D120","v":"Dambldora armija!"},{"$f":"tabula!E120","v":49},{"$f":"tabula!F120","v":79},{"$f":"tabula!G120","v":70},{"$f":"tabula!H120","v":29},{"$f":"tabula!I120","v":93},{"$f":"tabula!J120","v":41},{"$f":"tabula!K120","v":24},{"$f":"tabula!L120","v":111},{"$f":"tabula!M120","v":55},{"$f":"tabula!N120","v":53},{"$f":"tabula!O120","v":604},{"$f":"tabula!P120","v":"07 min. 53,812"},{"$f":"tabula!Q120","v":41},{"$f":"tabula!R120","v":"11,556 sek."}]
[null,null,{"$f":"tabula!C121","v":114},{"$f":"tabula!D121","v":"Paulīne"},{"$f":"tabula!E121","v":20},{"$f":"tabula!F121","v":49},{"$f":"tabula!G121","v":96},{"$f":"tabula!H121","v":43},{"$f":"tabula!I121","v":85},{"$f":"tabula!J121","v":113},{"$f":"tabula!K121","v":13},{"$f":"tabula!L121","v":61},{"$f":"tabula!M121","v":54},{"$f":"tabula!N121","v":65},{"$f":"tabula!O121","v":599},{"$f":"tabula!P121","v":"04 min. 02,392"},{"$f":"tabula!Q121","v":34},{"$f":"tabula!R121","v":"07,129 sek."}]
[null,null,{"$f":"tabula!C122","v":115},{"$f":"tabula!D122","v":"TheGoldenTrio+2⚡️"},{"$f":"tabula!E122","v":35},{"$f":"tabula!F122","v":120},{"$f":"tabula!G122","v":42},{"$f":"tabula!H122","v":49},{"$f":"tabula!I122","v":84},{"$f":"tabula!J122","v":44},{"$f":"tabula!K122","v":32},{"$f":"tabula!L122","v":73},{"$f":"tabula!M122","v":52},{"$f":"tabula!N122","v":65},{"$f":"tabula!O122","v":596},{"$f":"tabula!P122","v":"03 min. 54,751"},{"$f":"tabula!Q122","v":34},{"$f":"tabula!R122","v":"06,904 sek."}]
[null,null,{"$f":"tabula!C123","v":116},{"$f":"tabula!D123","v":"Lotte"},{"$f":"tabula!E123","v":57},{"$f":"tabula!F123","v":137},{"$f":"tabula!G123","v":39},{"$f":"tabula!H123","v":38},{"$f":"tabula!I123","v":107},{"$f":"tabula!J123","v":14},{"$f":"tabula!K123","v":13},{"$f":"tabula!L123","v":104},{"$f":"tabula!M123","v":51},{"$f":"tabula!N123","v":22},{"$f":"tabula!O123","v":582},{"$f":"tabula!P123","v":"03 min. 48,002"},{"$f":"tabula!Q123","v":35},{"$f":"tabula!R123","v":"06,514 sek."}]
[null,null,{"$f":"tabula!C124","v":117},{"$f":"tabula!D124","v":"I-Džejs"},{"$f":"tabula!E124","v":75},{"$f":"tabula!F124","v":94},{"$f":"tabula!G124","v":55},{"$f":"tabula!H124","v":37},{"$f":"tabula!I124","v":63},{"$f":"tabula!J124","v":42},{"$f":"tabula!K124","v":10},{"$f":"tabula!L124","v":97},{"$f":"tabula!M124","v":56},{"$f":"tabula!N124","v":52},{"$f":"tabula!O124","v":581},{"$f":"tabula!P124","v":"06 min. 03,134"},{"$f":"tabula!Q124","v":36},{"$f":"tabula!R124","v":"10,087 sek."}]
[null,null,{"$f":"tabula!C125","v":118},{"$f":"tabula!D125","v":"Jaunās Lauvas"},{"$f":"tabula!E125","v":58},{"$f":"tabula!F125","v":106},{"$f":"tabula!G125","v":82},{"$f":"tabula!H125","v":47},{"$f":"tabula!I125","v":82},{"$f":"tabula!J125","v":49},{"$f":"tabula!K125","v":30},{"$f":"tabula!L125","v":45},{"$f":"tabula!M125","v":21},{"$f":"tabula!N125","v":60},{"$f":"tabula!O125","v":580},{"$f":"tabula!P125","v":"07 min. 13,260"},{"$f":"tabula!Q125","v":38},{"$f":"tabula!R125","v":"11,402 sek."}]
[null,null,{"$f":"tabula!C126","v":119},{"$f":"tabula!D126","v":"Saulīte"},{"$f":"tabula!E126","v":52},{"$f":"tabula!F126","v":128},{"$f":"tabula!G126","v":35},{"$f":"tabula!H126","v":22},{"$f":"tabula!I126","v":113},{"$f":"tabula!J126","v":35},{"$f":"tabula!K126","v":27},{"$f":"tabula!L126","v":46},{"$f":"tabula!M126","v":63},{"$f":"tabula!N126","v":58},{"$f":"tabula!O126","v":579},{"$f":"tabula!P126","v":"03 min. 19,903"},{"$f":"tabula!Q126","v":33},{"$f":"tabula!R126","v":"06,058 sek."}]
[null,null,{"$f":"tabula!C127","v":120},{"$f":"tabula!D127","v":"Otrdienas Elšpūtis"},{"$f":"tabula!E127","v":71},{"$f":"tabula!F127","v":87},{"$f":"tabula!G127","v":68},{"$f":"tabula!H127","v":33},{"$f":"tabula!I127","v":97},{"$f":"tabula!J127","v":33},{"$f":"tabula!K127","v":24},{"$f":"tabula!L127","v":62},{"$f":"tabula!M127","v":65},{"$f":"tabula!N127","v":37},{"$f":"tabula!O127","v":577},{"$f":"tabula!P127","v":"06 min. 42,268"},{"$f":"tabula!Q127","v":37},{"$f":"tabula!R127","v":"10,872 sek."}]
[null,null,{"$f":"tabula!C128","v":121},{"$f":"tabula!D128","v":"Puse no Pipariņiem"},{"$f":"tabula!E128","v":56},{"$f":"tabula!F128","v":90},{"$f":"tabula!G128","v":39},{"$f":"tabula!H128","v":18},{"$f":"tabula!I128","v":107},{"$f":"tabula!J128","v":27},{"$f":"tabula!K128","v":49},{"$f":"tabula!L128","v":43},{"$f":"tabula!M128","v":71},{"$f":"tabula!N128","v":60},{"$f":"tabula!O128","v":560},{"$f":"tabula!P128","v":"05 min. 20,698"},{"$f":"tabula!Q128","v":35},{"$f":"tabula!R128","v":"09,163 sek."}]
[null,null,{"$f":"tabula!C129","v":122},{"$f":"tabula!D129","v":"Sabiya"},{"$f":"tabula!E129","v":38},{"$f":"tabula!F129","v":147},{"$f":"tabula!G129","v":41},{"$f":"tabula!H129","v":22},{"$f":"tabula!I129","v":64},{"$f":"tabula!J129","v":44},{"$f":"tabula!K129","v":47},{"$f":"tabula!L129","v":82},{"$f":"tabula!M129","v":53},{"$f":"tabula!N129","v":21},{"$f":"tabula!O129","v":559},{"$f":"tabula!P129","v":"05 min. 19,563"},{"$f":"tabula!Q129","v":34},{"$f":"tabula!R129","v":"09,399 sek."}]
[null,null,{"$f":"tabula!C130","v":123},{"$f":"tabula!D130","v":"Austrumi Azkabanā"},{"$f":"tabula!E130","v":41},{"$f":"tabula!F130","v":141},{"$f":"tabula!G130","v":38},{"$f":"tabula!H130","v":59},{"$f":"tabula!I130","v":90},{"$f":"tabula!J130","v":23},{"$f":"tabula!K130","v":-52},{"$f":"tabula!L130","v":64},{"$f":"tabula!M130","v":89},{"$f":"tabula!N130","v":43},{"$f":"tabula!O130","v":536},{"$f":"tabula!P130","v":"03 min. 57,679"},{"$f":"tabula!Q130","v":33},{"$f":"tabula!R130","v":"07,202 sek."}]
[null,null,{"$f":"tabula!C131","v":124},{"$f":"tabula!D131","v":"KristsT"},{"$f":"tabula!E131","v":38},{"$f":"tabula!F131","v":125},{"$f":"tabula!G131","v":38},{"$f":"tabula!H131","v":63},{"$f":"tabula!I131","v":81},{"$f":"tabula!J131","v":15},{"$f":"tabula!K131","v":21},{"$f":"tabula!L131","v":59},{"$f":"tabula!M131","v":62},{"$f":"tabula!N131","v":19},{"$f":"tabula!O131","v":521},{"$f":"tabula!P131","v":"03 min. 31,435"},{"$f":"tabula!Q131","v":30},{"$f":"tabula!R131","v":"07,048 sek."}]
[null,null,{"$f":"tabula!C132","v":125},{"$f":"tabula!D132","v":"Bikko"},{"$f":"tabula!E132","v":59},{"$f":"tabula!F132","v":92},{"$f":"tabula!G132","v":42},{"$f":"tabula!H132","v":21},{"$f":"tabula!I132","v":85},{"$f":"tabula!J132","v":12},{"$f":"tabula!K132","v":-25},{"$f":"tabula!L132","v":108},{"$f":"tabula!M132","v":39},{"$f":"tabula!N132","v":86},{"$f":"tabula!O132","v":519},{"$f":"tabula!P132","v":"02 min. 50,451"},{"$f":"tabula!Q132","v":30},{"$f":"tabula!R132","v":"05,682 sek."}]
[null,null,{"$f":"tabula!C133","v":126},{"$f":"tabula!D133","v":"Dzīves Atspulgs AA"},{"$f":"tabula!E133","v":57},{"$f":"tabula!F133","v":104},{"$f":"tabula!G133","v":73},{"$f":"tabula!H133","v":39},{"$f":"tabula!I133","v":105},{"$f":"tabula!J133","v":12},{"$f":"tabula!K133","v":12},{"$f":"tabula!L133","v":38},{"$f":"tabula!M133","v":53},{"$f":"tabula!N133","v":16},{"$f":"tabula!O133","v":509},{"$f":"tabula!P133","v":"07 min. 00,376"},{"$f":"tabula!Q133","v":35},{"$f":"tabula!R133","v":"12,011 sek."}]
[null,null,{"$f":"tabula!C134","v":127},{"$f":"tabula!D134","v":"Auzenbergi"},{"$f":"tabula!E134","v":38},{"$f":"tabula!F134","v":130},{"$f":"tabula!G134","v":81},{"$f":"tabula!H134","v":49},{"$f":"tabula!I134","v":84},{"$f":"tabula!J134","v":14},{"$f":"tabula!K134","v":5},{"$f":"tabula!L134","v":43},{"$f":"tabula!M134","v":61},{"$f":"tabula!N134","v":0},{"$f":"tabula!O134","v":505},{"$f":"tabula!P134","v":"03 min. 36,061"},{"$f":"tabula!Q134","v":32},{"$f":"tabula!R134","v":"06,752 sek."}]
[null,null,{"$f":"tabula!C135","v":128},{"$f":"tabula!D135","v":"Pūkains Poters"},{"$f":"tabula!E135","v":22},{"$f":"tabula!F135","v":80},{"$f":"tabula!G135","v":39},{"$f":"tabula!H135","v":22},{"$f":"tabula!I135","v":115},{"$f":"tabula!J135","v":9},{"$f":"tabula!K135","v":-60},{"$f":"tabula!L135","v":91},{"$f":"tabula!M135","v":58},{"$f":"tabula!N135","v":112},{"$f":"tabula!O135","v":488},{"$f":"tabula!P135","v":"02 min. 29,799"},{"$f":"tabula!Q135","v":29},{"$f":"tabula!R135","v":"05,165 sek."}]
[null,null,{"$f":"tabula!C136","v":129},{"$f":"tabula!D136","v":"Petūnijas"},{"$f":"tabula!E136","v":54},{"$f":"tabula!F136","v":104},{"$f":"tabula!G136","v":40},{"$f":"tabula!H136","v":35},{"$f":"tabula!I136","v":68},{"$f":"tabula!J136","v":60},{"$f":"tabula!K136","v":-37},{"$f":"tabula!L136","v":88},{"$f":"tabula!M136","v":22},{"$f":"tabula!N136","v":41},{"$f":"tabula!O136","v":475},{"$f":"tabula!P136","v":"03 min. 31,587"},{"$f":"tabula!Q136","v":29},{"$f":"tabula!R136","v":"07,296 sek."}]
[null,null,{"$f":"tabula!C137","v":130},{"$f":"tabula!D137","v":"SiuuuuXbro"},{"$f":"tabula!E137","v":0},{"$f":"tabula!F137","v":136},{"$f":"tabula!G137","v":24},{"$f":"tabula!H137","v":41},{"$f":"tabula!I137","v":89},{"$f":"tabula!J137","v":63},{"$f":"tabula!K137","v":-14},{"$f":"tabula!L137","v":83},{"$f":"tabula!M137","v":44},{"$f":"tabula!N137","v":0},{"$f":"tabula!O137","v":466},{"$f":"tabula!P137","v":"02 min. 36,588"},{"$f":"tabula!Q137","v":28},{"$f":"tabula!R137","v":"05,592 sek."}]
[null,null,{"$f":"tabula!C138","v":131},{"$f":"tabula!D138","v":"Laivinieki"},{"$f":"tabula!E138","v":33},{"$f":"tabula!F138","v":95},{"$f":"tabula!G138","v":40},{"$f":"tabula!H138","v":29},{"$f":"tabula!I138","v":75},{"$f":"tabula!J138","v":35},{"$f":"tabula!K138","v":17},{"$f":"tabula!L138","v":63},{"$f":"tabula!M138","v":26},{"$f":"tabula!N138","v":30},{"$f":"tabula!O138","v":443},{"$f":"tabula!P138","v":"08 min. 16,912"},{"$f":"tabula!Q138","v":35},{"$f":"tabula!R138","v":"14,197 sek."}]
[null,null,{"$f":"tabula!C139","v":132},{"$f":"tabula!D139","v":"Dobijs#2"},{"$f":"tabula!E139","v":35},{"$f":"tabula!F139","v":104},{"$f":"tabula!G139","v":38},{"$f":"tabula!H139","v":0},{"$f":"tabula!I139","v":61},{"$f":"tabula!J139","v":30},{"$f":"tabula!K139","v":-6},{"$f":"tabula!L139","v":61},{"$f":"tabula!M139","v":43},{"$f":"tabula!N139","v":42},{"$f":"tabula!O139","v":408},{"$f":"tabula!P139","v":"04 min. 08,779"},{"$f":"tabula!Q139","v":28},{"$f":"tabula!R139","v":"08,885 sek."}]
[null,null,{"$f":"tabula!C140","v":133},{"$f":"tabula!D140","v":"Kaspara Komanda"},{"$f":"tabula!E140","v":55},{"$f":"tabula!F140","v":99},{"$f":"tabula!G140","v":46},{"$f":"tabula!H140","v":12},{"$f":"tabula!I140","v":58},{"$f":"tabula!J140","v":18},{"$f":"tabula!K140","v":-27},{"$f":"tabula!L140","v":62},{"$f":"tabula!M140","v":27},{"$f":"tabula!N140","v":43},{"$f":"tabula!O140","v":393},{"$f":"tabula!P140","v":"07 min. 55,098"},{"$f":"tabula!Q140","v":33},{"$f":"tabula!R140","v":"14,397 sek."}]
[null,null,{"$f":"tabula!C141","v":134},{"$f":"tabula!D141","v":"M&E&Co"},{"$f":"tabula!E141","v":60},{"$f":"tabula!F141","v":104},{"$f":"tabula!G141","v":37},{"$f":"tabula!H141","v":17},{"$f":"tabula!I141","v":74},{"$f":"tabula!J141","v":8},{"$f":"tabula!K141","v":-4},{"$f":"tabula!L141","v":39},{"$f":"tabula!M141","v":21},{"$f":"tabula!N141","v":28},{"$f":"tabula!O141","v":384},{"$f":"tabula!P141","v":"05 min. 21,901"},{"$f":"tabula!Q141","v":28},{"$f":"tabula!R141","v":"11,496 sek."}]
[null,null,{"$f":"tabula!C142","v":135},{"$f":"tabula!D142","v":"Urzula"},{"$f":"tabula!E142","v":55},{"$f":"tabula!F142","v":96},{"$f":"tabula!G142","v":61},{"$f":"tabula!H142","v":59},{"$f":"tabula!I142","v":90},{"$f":"tabula!J142","v":19},{"$f":"tabula!K142","v":0},{"$f":"tabula!L142","v":0},{"$f":"tabula!M142","v":0},{"$f":"tabula!N142","v":0},{"$f":"tabula!O142","v":380},{"$f":"tabula!P142","v":"03 min. 03,525"},{"$f":"tabula!Q142","v":23},{"$f":"tabula!R142","v":"07,979 sek."}]
[null,null,{"$f":"tabula!C143","v":136},{"$f":"tabula!D143","v":"Toms Čepelovs"},{"$f":"tabula!E143","v":46},{"$f":"tabula!F143","v":108},{"$f":"tabula!G143","v":46},{"$f":"tabula!H143","v":39},{"$f":"tabula!I143","v":31},{"$f":"tabula!J143","v":40},{"$f":"tabula!K143","v":-85},{"$f":"tabula!L143","v":59},{"$f":"tabula!M143","v":24},{"$f":"tabula!N143","v":40},{"$f":"tabula!O143","v":348},{"$f":"tabula!P143","v":"03 min. 25,204"},{"$f":"tabula!Q143","v":25},{"$f":"tabula!R143","v":"08,208 sek."}]
[null,null,{"$f":"tabula!C144","v":137},{"$f":"tabula!D144","v":"Artjoms&Lolita"},{"$f":"tabula!E144","v":46},{"$f":"tabula!F144","v":119},{"$f":"tabula!G144","v":22},{"$f":"tabula!H144","v":54},{"$f":"tabula!I144","v":88},{"$f":"tabula!J144","v":65},{"$f":"tabula!K144","v":-77},{"$f":"tabula!L144","v":25},{"$f":"tabula!M144","v":0},{"$f":"tabula!N144","v":0},{"$f":"tabula!O144","v":342},{"$f":"tabula!P144","v":"02 min. 55,302"},{"$f":"tabula!Q144","v":25},{"$f":"tabula!R144","v":"07,012 sek."}]
[null,null,{"$f":"tabula!C145","v":138},{"$f":"tabula!D145","v":"Burunduki 3"},{"$f":"tabula!E145","v":55},{"$f":"tabula!F145","v":57},{"$f":"tabula!G145","v":0},{"$f":"tabula!H145","v":15},{"$f":"tabula!I145","v":44},{"$f":"tabula!J145","v":20},{"$f":"tabula!K145","v":-18},{"$f":"tabula!L145","v":56},{"$f":"tabula!M145","v":15},{"$f":"tabula!N145","v":18},{"$f":"tabula!O145","v":262},{"$f":"tabula!P145","v":"07 min. 38,032"},{"$f":"tabula!Q145","v":26},{"$f":"tabula!R145","v":"17,617 sek."}]
[]
[null,null,"LIELDRAUGS                                                         ATBALSTĪTĀJI"]

{"sheet":"raundi","index":3,"n_rows":17,"n_cols":8,"rows_kept":17,"cut":false,"hidden":false,"merged":[[1,1,1,7],[13,1,14,1],[13,2,13,3],[13,4,14,4],[13,6,14,6],[13,7,14,7],[14,2,14,3],[13,5,14,5]]}
[]
[null,{"$f":"CONCATENATE(tabula!C2,\" --> Raundu uzvarētāji\")","v":"\"Harija Potera viktorīna\" (tiešsaistē / vebinārā) | 2025.gada 21.oktobris --> Raundu uzvarētāji"}]
[null,"#","Raunda nosaukums","Dalībnieks","Rezultāts","AVG","MAX","% no max"]
[null,1,{"$f":"TRANSPOSE(tabula!E4:N4)","v":"Pavediens: Dzīvnieku pasaule"},"Accio Atbildes!",103,{"$f":"TRANSPOSE(tabula!E7:N7)","v":60.2},{"$f":"TRANSPOSE(tabula!E5:N5)","v":150},{"$f":"E4/G4","v":0.68666666666666665}]
[null,2,"Ekspresis","Krišjānis Voldemorts",202,128.5,216,{"$f":"E5/G5","v":0.93518518518518523}]
[null,3,"Vizuālais","MEGA Biezenis",134,76,150,0.89333333333333331]
[null,4,"Burtu mīkla","Hanza90",120,57.5,150,0.8]
[null,5,"Ikdienā lietoti saīsinājumi","Harijs Poters",142,105.4,150,0.94666666666666666]
[null,6,"Latvija","Harijs Poters",116,59.8,150,0.77333333333333332]
[null,7,"Risks","Snape’s On A Plane",98,36.799999999999997,120,0.81666666666666665]
[null,8,"Kas kopīgs?","HowYouDoin?",178,95.5,205,0.86829268292682926]
[null,9,"Liekais pazūd: auto pasaule","Vientieši",139,70.400000000000006,150,0.92666666666666664]
[null,10,"Audio: instrumentāli","Harijs Poters",137,73.099999999999994,150,0.91333333333333333]
[null,"-","Uzvarētājs",null,{"$f":"tabula!O8","v":1134},{"$f":"tabula!O7","v":762.8},{"$f":"SUM(G4:G13)","v":1591},{"$f":"E14/G14","v":0.71275927089880575}]
[null,null,{"$f":"tabula!D8","v":"Accio Atbildes!"}]
[]
[null,"LIELDRAUGS                             ATBALSTĪTĀJI"]