{"text_format":"1","workbook":"xlsx","n_sheets":5,"sheets":["tabula","1-50","51-100","101-200","raundi"],"not_rendered":{"charts":0,"images":4,"macros":0,"external_links":0,"defined_names":7,"comments":0,"pivot_tables":0},"unopened":[],"bounds":{"document_bytes":16777216,"sheet_cells":100000,"rows_first":2000,"rows_last":500,"rows_between":2000,"halvings":0,"cell_chars":16384,"cell_head_chars":4096},"cells_cut":0,"cells_raw":0,"read":"whole","date_system":"1900"}

{"sheet":"tabula","index":0,"n_rows":170,"n_cols":18,"rows_kept":170,"cut":false,"hidden":true,"merged":[[5,2,5,3],[4,14,5,14],[2,15,5,15],[2,17,5,17],[2,3,3,3],[1,2,1,17],[2,1,4,1],[2,2,4,2],[2,14,3,14],[2,16,4,16]]}
[]
[null,null,"\"Ģimenes viktorīna\" (tiešsaistē / vebinārā) | 2025.gada 6.decembris"]
[null,"Grupa","#","Dalībnieks | Raunds | Tēma ",1,2,3,4,5,6,7,8,9,10,"KOPĀ","Laiks kopā uz pareizajām atbildēm","Pareizās atbildes (max)","Vid.laiks uz 1 pareizo atb."]
[null,null,null,null,"Pavediens: Lielie reptiļi","Ekspresis","Supervaroņu pasaule","Mūzikas žanri un popkultūra","Zinātne","Latvija","Risks","Kas kopīgs?","Mākslīgais intelekts","Audio"]
[null,null,null,"Max punkti raundā (bez bonusiem) ",150,216,150,150,150,150,120,205,150,150,{"$f":"SUM(E5:N5)","v":1591}]
[null,null,"Jautājumi",null,6,12,6,6,6,6,6,8,6,6,null,null,{"$f":"SUM(E6:N6)","v":68}]
[null,null,null,"Vidējie rādītāji",{"$f":"ROUND(AVERAGE(E8:E696),1)","v":90.3},{"$f":"ROUND(AVERAGE(F8:F696),1)","v":115},97.2,116.7,109.2,70.8,28.9,127.5,66,67.7,889.3,"-",49.1,"-"]
[null,3,1,"Matu vēji",127,148,133,138,138,99,58,191,90,125,1247,"05 min. 20,753",63,"04,450 sek."]
[null,1,2,"Sindija DJV",88,162,114,142,140,91,109,188,73,101,1208,"03 min. 57,774",58,"04,100 sek."]
[null,1,3,"Klavini",130,167,119,136,129,79,108,142,59,120,1189,"05 min. 03,190",60,"05,053 sek."]
[null,3,4,"Dancings cats",95,94,142,142,116,82,100,178,121,108,1178,"05 min. 24,531",59,"05,501 sek."]
[null,1,5,"Zibenīgie Gliemeži",120,156,117,138,136,118,63,137,70,117,1172,"07 min. 37,175",63,"07,257 sek."]
[null,3,6,"Bērnu mielasts",115,139,109,140,115,82,69,179,98,108,1154,"05 min. 14,460",58,"05,422 sek."]
[null,1,7,"CĪŅAA",82,121,141,137,129,91,83,178,85,104,1151,"06 min. 37,126",61,"06,510 sek."]
[null,1,8,"Kaimiņu būšana",117,93,143,133,135,86,74,178,79,112,1150,"07 min. 37,285",62,"07,376 sek."]
[null,2,9,"Margozaurs",97,137,116,139,134,108,93,134,90,91,1139,"07 min. 22,307",61,"07,251 sek."]
[null,3,10,"Planēta Pritons",108,129,138,134,131,104,47,184,74,86,1135,"06 min. 11,119",60,"06,185 sek."]
[null,2,11,"OmeZinLabāk",113,139,120,130,139,107,53,140,90,102,1133,"05 min. 27,179",58,"05,641 sek."]
[null,2,12,"EstiPois",110,102,135,139,74,90,100,150,96,132,1128,"08 min. 05,903",61,"07,966 sek."]
[null,2,13,"Parka ielas banda",131,134,138,142,115,67,35,163,95,87,1107,"04 min. 31,326",55,"04,933 sek."]
[null,3,14,"Badijs spēlē viktorīnu",120,113,118,142,138,64,71,165,70,105,1106,"04 min. 04,493",54,"04,528 sek."]
[null,1,15,"Theo.lv",130,136,115,135,139,77,67,151,59,96,1105,"07 min. 57,953",60,"07,966 sek."]
[null,3,16,"Biķis",115,158,147,141,141,45,10,146,102,91,1096,"02 min. 37,220",53,"02,966 sek."]
[null,3,17,"SAULKRASTU BANDA",123,127,141,136,133,111,14,170,84,53,1092,"05 min. 16,503",55,"05,755 sek."]
[null,3,18,"Rogas",107,106,122,131,88,86,79,163,94,114,1090,"06 min. 17,265",58,"06,505 sek."]
[null,1,19,"Zaļie gurķi",123,121,116,126,132,66,56,144,98,103,1085,"07 min. 34,311",60,"07,572 sek."]
[null,1,20,"Ogres kartelis",82,133,98,130,138,103,50,183,66,95,1078,"08 min. 49,769",61,"08,685 sek."]
[null,3,21,"Veiksminieki",98,153,120,139,107,91,96,138,84,51,1077,"05 min. 55,216",56,"06,343 sek."]
[null,null,22,"Saules iela",119,104,111,124,118,72,56,183,84,105,1076,"07 min. 00,819",57,"07,383 sek."]
[null,null,23,"Silavas IRBE",78,160,114,133,137,84,48,137,89,92,1072,"09 min. 06,123",62,"08,808 sek."]
[null,null,24,"Rūķis Stūķis",115,142,84,134,133,103,37,158,83,83,1072,"05 min. 42,115",56,"06,109 sek."]
[null,null,25,"Baltvīns",102,135,140,143,129,60,52,150,50,111,1072,"05 min. 22,021",55,"05,855 sek."]
[null,null,26,"Virsskaņas alus iznīcinātājs",119,140,118,119,137,105,37,164,91,42,1072,"04 min. 35,705",54,"05,106 sek."]
[null,null,27,"Hercogs",104,181,139,137,69,21,88,147,63,120,1069,"05 min. 43,972",56,"06,142 sek."]
[null,null,28,"žuļiks",114,107,141,138,129,110,30,171,84,45,1069,"05 min. 15,282",54,"05,839 sek."]
[null,null,29,"Echo Bravo",96,161,90,136,130,92,24,146,65,123,1063,"03 min. 33,402",55,"04,753 sek."]
[null,null,30,"Gigis & partneri",90,144,107,135,135,95,26,153,85,88,1058,"08 min. 09,515",60,"08,159 sek."]
[null,null,31,"Vāveres kosmosā",91,130,140,117,127,89,40,174,53,96,1057,"06 min. 39,023",57,"07,000 sek."]
[null,null,32,"Pūpolu ielas ZOO",92,114,110,133,129,65,78,151,63,121,1056,"05 min. 51,737",54,"06,514 sek."]
[null,null,33,"Aris1010",88,146,90,137,107,75,76,153,68,106,1046,"05 min. 05,240",54,"05,653 sek."]
[null,null,34,"Podzinieks",114,130,117,115,113,106,21,145,86,99,1046,"04 min. 02,872",52,"04,671 sek."]
[null,null,35,"Klieši & Draugi",96,97,116,121,105,102,17,174,99,112,1039,"08 min. 14,139",59,"08,375 sek."]
[null,null,36,"Bimonti",136,131,116,135,121,79,4,147,84,85,1038,"06 min. 29,012",57,"06,825 sek."]
[null,null,37,"MEKA",130,115,117,138,106,58,78,106,82,105,1035,"05 min. 59,072",55,"06,529 sek."]
[null,null,38,"Big R",130,140,117,130,116,41,86,136,71,67,1034,"05 min. 21,147",54,"05,947 sek."]
[null,null,39,"PutniņiCūciņas",127,119,120,139,114,54,39,174,61,82,1029,"04 min. 00,479",50,"04,810 sek."]
[null,null,40,"Kazubrenču princeses",117,148,114,135,136,87,16,122,83,67,1025,"05 min. 35,178",54,"06,207 sek."]
[null,null,41,"Suituceļš",111,126,100,135,94,87,67,162,60,83,1025,"06 min. 08,239",54,"06,819 sek."]
[null,null,42,"Svētie gadi",107,140,141,138,135,70,43,115,71,63,1023,"03 min. 58,242",52,"04,582 sek."]
[null,null,43,"Wilsons",93,111,92,131,113,85,51,170,77,99,1022,"08 min. 14,115",57,"08,669 sek."]
[null,null,44,"Durbe",113,117,114,133,111,64,44,138,100,85,1019,"09 min. 33,866",59,"09,727 sek."]
[null,null,45,"Langstiņu Muris",59,134,117,123,124,65,72,133,93,98,1018,"07 min. 42,589",57,"08,116 sek."]
[null,null,46,"Mēs no Jaunmārupes",102,170,116,110,138,93,21,154,48,66,1018,"06 min. 04,015",55,"06,618 sek."]
[null,null,47,"lielmezi.lv",118,130,95,126,126,92,5,163,54,104,1013,"07 min. 46,923",58,"08,050 sek."]
[null,null,48,"Korpulentā Betija",114,128,130,135,123,62,40,151,58,71,1012,"07 min. 38,265",57,"08,040 sek."]
[null,null,49,"Pa Zoino!",81,131,114,141,83,73,100,145,45,99,1012,"05 min. 56,805",53,"06,732 sek."]
[null,null,50,"Plānais galdiņš",96,133,114,139,90,115,52,125,85,60,1009,"07 min. 29,169",56,"08,021 sek."]
[null,null,51,"Trakais Trakulis",126,116,139,134,107,106,12,145,81,39,1005,"06 min. 44,069",54,"07,483 sek."]
[null,null,52,"Baltā sestdiena",127,125,117,141,117,89,55,115,80,38,1004,"05 min. 09,669",52,"05,955 sek."]
[null,null,53,"lemurii",78,151,114,136,132,109,15,159,51,57,1002,"06 min. 45,963",55,"07,381 sek."]
[null,null,54,"Lego Friends",85,148,68,138,134,109,16,147,63,88,996,"06 min. 44,651",55,"07,357 sek."]
[null,null,55,"Blitz the o is silent",131,119,140,109,122,106,-5,163,82,29,996,"05 min. 46,943",52,"06,672 sek."]
[null,null,56,"Frīk Adele",126,167,118,140,142,43,12,97,70,80,995,"04 min. 16,357",51,"05,027 sek."]
[null,null,57,"PO!",124,80,103,121,107,81,64,158,48,105,991,"11 min. 44,632",63,"11,185 sek."]
[null,null,58,"Active",93,128,108,125,135,41,64,138,72,87,991,"08 min. 29,561",57,"08,940 sek."]
[null,null,59,"Ceriņi gaišos toņos",120,114,109,123,132,46,-1,168,92,83,986,"07 min. 29,393",56,"08,025 sek."]
[null,null,60,"Šanhaja",100,112,92,111,132,72,38,162,82,84,985,"05 min. 32,657",52,"06,397 sek."]
[null,null,61,"AtstajRiepuMeza",86,158,93,138,138,98,19,98,70,83,981,"05 min. 23,997",53,"06,113 sek."]
[null,null,62,"Kas neriskē,tas nedzer",69,102,86,126,131,96,54,162,53,97,976,"09 min. 49,772",57,"10,347 sek."]
[null,null,63,3113,60,136,133,134,109,80,66,155,31,72,976,"06 min. 19,438",53,"07,159 sek."]
[null,null,64,"KLONDAIKA/NEWBLACK/QBIT",93,160,133,129,129,42,50,118,57,64,975,"06 min. 04,365",53,"06,875 sek."]
[null,null,65,"Zepelīni",106,143,132,128,133,55,13,130,78,51,969,"05 min. 12,455",51,"06,127 sek."]
[null,null,66,"Tālavas taurētāji",94,117,67,130,135,60,75,140,86,61,965,"04 min. 30,750",49,"05,526 sek."]
[null,null,67,"A-HA",89,92,111,119,67,67,40,154,114,108,961,"04 min. 09,287",48,"05,193 sek."]
[null,null,68,"Poļu mēbeles",71,108,89,128,115,72,67,156,54,98,958,"08 min. 34,192",55,"09,349 sek."]
[null,null,69,"Vāvere Veronika",108,126,91,138,114,61,50,163,65,35,951,"04 min. 24,676",49,"05,402 sek."]
[null,null,70,"BRUŅINIEKI",90,92,116,118,83,52,65,144,96,87,943,"08 min. 26,026",54,"09,371 sek."]
[null,null,71,"Dārza iela 1",75,132,68,125,105,59,51,157,73,96,941,"07 min. 05,863",54,"07,886 sek."]
[null,null,72,"Mimiko",113,120,119,139,110,90,-24,124,106,44,941,"04 min. 11,056",48,"05,230 sek."]
[null,null,73,"A&I",85,148,67,142,111,87,30,123,87,60,940,"04 min. 12,950",49,"05,162 sek."]
[null,null,74,"Koknesīši",73,141,109,121,128,39,-15,162,60,113,931,"05 min. 19,916",50,"06,398 sek."]
[null,null,75,"A.V.",126,155,121,113,135,65,40,90,63,22,930,"03 min. 00,586",47,"03,842 sek."]
[null,null,76,"Spidumbumba",94,138,89,107,112,84,71,73,80,80,928,"06 min. 30,556",52,"07,511 sek."]
[null,null,77,"MIKO",61,94,67,115,123,86,65,155,58,102,926,"09 min. 09,308",54,"10,172 sek."]
[null,null,78,"OZO",82,138,43,135,113,112,39,137,44,81,924,"03 min. 44,468",47,"04,776 sek."]
[null,null,79,"Noway",77,104,77,138,137,42,56,138,54,99,922,"06 min. 19,780",50,"07,596 sek."]
[null,null,80,"Grebežē",100,142,68,105,114,96,82,130,51,33,921,"05 min. 09,858",49,"06,324 sek."]
[null,null,81,"IGG",69,111,78,106,105,98,30,132,83,102,914,"09 min. 35,242",55,"10,459 sek."]
[null,null,82,"Ruma Šķiņķis",82,133,140,142,93,90,8,112,80,33,913,"05 min. 45,815",48,"07,204 sek."]
[null,null,83,"Inspektors tīklā",44,94,69,84,121,65,51,160,85,125,898,"11 min. 10,353",58,"11,558 sek."]
[null,null,84,"Zem",98,135,132,136,134,68,-33,119,66,35,890,"04 min. 24,535",48,"05,511 sek."]
[null,null,85,"kadrs33",118,107,90,136,134,43,9,146,63,43,889,"03 min. 21,855",45,"04,486 sek."]
[null,null,86,"LBG",106,143,42,112,137,108,42,117,57,22,886,"06 min. 42,297",51,"07,888 sek."]
[null,null,87,"Preppy_Slayyy",110,117,72,110,108,108,24,120,52,65,886,"04 min. 44,783",47,"06,059 sek."]
[null,null,88,"Vīksnas",103,153,117,108,134,61,39,88,48,33,884,"05 min. 17,425",50,"06,349 sek."]
[null,null,89,"Mikrene",122,76,118,136,133,78,-21,106,81,52,881,"04 min. 47,908",47,"06,126 sek."]
[null,null,90,"Viens, divi, trīs, četri, pieci",77,136,91,138,112,45,-5,136,77,71,878,"04 min. 55,291",47,"06,283 sek."]
[null,null,91,"Ieviņi :)",76,111,110,131,111,43,37,137,49,71,876,"06 min. 54,724",49,"08,464 sek."]
[null,null,92,"Kurmenes iela",108,120,111,136,86,63,-15,136,73,57,875,"05 min. 08,302",47,"06,560 sek."]
[null,null,93,"Līču Republika",101,121,96,94,101,35,40,160,35,90,873,"08 min. 15,546",51,"09,717 sek."]
[null,null,94,"Zeiboti",109,123,65,127,110,57,37,141,49,53,871,"05 min. 56,062",48,"07,418 sek."]
[null,null,95,"Bergmaņi Laučos",51,113,111,98,87,78,24,144,94,70,870,"07 min. 25,721",50,"08,914 sek."]
[null,null,96,"Kaimiņi",110,104,65,108,111,84,32,69,65,119,867,"06 min. 11,743",48,"07,745 sek."]
[null,null,97,"Emīla banda",96,132,95,94,120,88,-11,113,62,75,864,"06 min. 46,685",49,"08,300 sek."]
[null,null,98,"Kaķu māja",88,170,79,119,104,80,-14,142,53,42,863,"05 min. 11,556",48,"06,491 sek."]
[null,null,99,"Kristāļuks",120,96,123,101,110,76,14,108,54,58,860,"06 min. 30,627",48,"08,138 sek."]
[null,null,100,"Ko mēs te dar?",66,101,105,84,86,91,80,139,58,49,859,"07 min. 26,497",49,"09,112 sek."]
[null,null,101,"Smadzeņu Šašliks",113,85,143,110,79,58,75,91,46,58,858,"06 min. 36,406",47,"08,434 sek."]
[null,null,102,"Zaļās skujas",124,87,104,104,130,55,22,130,24,76,856,"07 min. 00,015",48,"08,750 sek."]
[null,null,103,"Blumfeldi",73,117,87,108,128,88,67,102,53,24,847,"06 min. 38,479",48,"08,302 sek."]
[null,null,104,"Jēkaba banda",91,76,84,114,125,62,27,136,52,79,846,"10 min. 41,812",53,"12,110 sek."]
[null,null,105,"DIHS",88,110,102,125,110,75,-22,86,92,79,845,"06 min. 47,630",48,"08,492 sek."]
[null,null,106,"Kas ira",108,105,94,133,79,41,58,108,56,59,841,"06 min. 03,290",46,"07,898 sek."]
[null,null,107,"Čipmoki",111,136,108,87,109,40,15,137,50,45,838,"08 min. 33,105",52,"09,867 sek."]
[null,null,108,"Laimīgās dzērves",128,112,94,90,62,69,34,130,62,57,838,"03 min. 49,902",43,"05,347 sek."]
[null,null,109,"Četri R",129,117,67,102,119,84,30,129,41,19,837,"08 min. 20,424",50,"10,008 sek."]
[null,null,110,"LĪDAKAS",103,79,66,125,104,74,11,145,70,58,835,"07 min. 03,254",48,"08,818 sek."]
[null,null,111,"Asarisi",94,122,94,112,110,46,19,95,75,55,822,"03 min. 53,355",43,"05,427 sek."]
[null,null,112,"User",78,117,67,108,116,77,31,162,50,14,820,"07 min. 47,976",50,"09,360 sek."]
[null,null,113,"STELLA",89,71,110,127,91,58,1,139,58,74,818,"05 min. 50,106",45,"07,780 sek."]
[null,null,114,"Kosmonauti",89,115,91,103,125,70,43,91,57,33,817,"04 min. 41,995",44,"06,409 sek."]
[null,null,115,"Darznieks",76,109,93,135,114,45,6,119,53,66,816,"06 min. 13,639",47,"07,950 sek."]
[null,null,116,"E-komanda",69,90,85,116,131,58,-21,134,88,65,815,"06 min. 27,954",47,"08,254 sek."]
[null,null,117,"Alķīmiķe",48,110,85,121,91,80,51,149,43,32,810,"08 min. 26,548",48,"10,553 sek."]
[null,null,118,"Milleri",55,109,88,107,89,57,41,143,72,47,808,"06 min. 25,107",46,"08,372 sek."]
[null,null,119,"Lindaaaa",68,132,117,94,68,67,-28,114,106,67,805,"02 min. 25,390",41,"03,546 sek."]
[null,null,120,"Saukas_rosols",65,110,105,111,112,86,-8,71,83,69,804,"07 min. 13,845",47,"09,231 sek."]
[null,null,121,"Lepnie nūģi",96,88,117,110,108,80,17,95,41,45,797,"06 min. 16,495",46,"08,185 sek."]
[null,null,122,"KIMBA",97,143,82,133,111,40,-13,101,63,39,796,"05 min. 45,039",46,"07,501 sek."]
[null,null,123,"Meistariņi",34,129,103,96,93,46,51,135,73,32,792,"08 min. 15,257",48,"10,318 sek."]
[null,null,124,"Chiwis",97,75,114,133,128,82,-20,67,46,67,789,"03 min. 47,448",42,"05,415 sek."]
[null,null,125,"Rubeņielas mafija",119,64,94,129,101,81,-8,94,51,61,786,"08 min. 05,175",47,"10,323 sek."]
[null,null,126,"Plūmītes",60,125,75,89,130,32,12,141,94,20,778,"05 min. 12,753",44,"07,108 sek."]
[null,null,127,"Raudas nak",85,39,113,107,82,70,36,102,93,49,776,"07 min. 55,941",44,"10,817 sek."]
[null,null,128,"Marchy",58,107,120,113,98,86,-31,89,94,41,775,"04 min. 12,275",43,"05,867 sek."]
[null,null,129,"BeeFam",44,86,40,108,120,72,18,160,72,52,772,"08 min. 36,735",48,"10,765 sek."]
[null,null,130,"Kalniņu blice",104,113,62,131,113,90,-31,71,39,80,772,"04 min. 57,014",43,"06,907 sek."]
[null,null,131,"Tikai mieru!",107,98,115,100,104,69,-12,107,30,48,766,"05 min. 32,950",44,"07,567 sek."]
[null,null,132,"Kultūrbomži",51,72,93,104,119,78,45,104,62,37,765,"07 min. 31,546",45,"10,034 sek."]
[null,null,133,"Skaņkalne",41,124,115,134,67,43,6,134,67,34,765,"04 min. 31,938",42,"06,475 sek."]
[null,null,134,"Vecie ērmi",77,96,69,72,112,80,38,122,33,60,759,"10 min. 10,304",49,"12,455 sek."]
[null,null,135,"Blusas",52,53,110,105,93,59,53,111,58,62,756,"10 min. 52,835",49,"13,323 sek."]
[null,null,136,"MOPŠI&CO",104,59,65,118,118,27,26,106,53,76,752,"08 min. 52,593",47,"11,332 sek."]
[null,null,137,"Slidkalnini",58,61,116,119,97,80,0,123,38,57,749,"08 min. 00,577",45,"10,679 sek."]
[null,null,138,"Supa-dupa-nice",88,93,113,90,93,69,-29,137,61,22,737,"02 min. 56,275",38,"04,639 sek."]
[null,null,139,"Ābolu bāzes",90,90,85,101,85,41,46,112,37,38,725,"07 min. 09,474",44,"09,761 sek."]
[null,null,140,"janisvalm",71,102,71,92,60,64,41,112,37,70,720,"04 min. 09,956",39,"06,409 sek."]
[null,null,141,"Grieķu lemuri",87,104,95,84,97,59,21,74,64,22,707,"09 min. 23,961",46,"12,260 sek."]
[null,null,142,"Lapenieši",52,147,47,107,80,36,3,105,104,26,707,"05 min. 39,581",42,"08,085 sek."]
[null,null,143,"Viksnas",42,85,117,108,134,61,15,77,37,28,704,"04 min. 15,424",39,"06,549 sek."]
[null,null,144,"CELTNIEKU IELA",76,85,85,103,98,41,4,112,75,15,694,"08 min. 11,410",45,"10,920 sek."]
[null,null,145,"Šeridans",92,117,23,115,89,71,11,67,43,63,691,"04 min. 01,751",38,"06,362 sek."]
[null,null,146,"Maigais Arvīds",98,76,94,107,64,52,-27,139,39,26,668,"04 min. 16,461",38,"06,749 sek."]
[null,null,147,"Daudzbērnu pavēlnieki",66,125,42,55,101,62,22,127,54,8,662,"05 min. 56,128",40,"08,903 sek."]
[null,null,148,"Agilla un Andilla",81,95,89,131,98,48,-19,46,56,35,660,"06 min. 40,703",42,"09,541 sek."]
[null,null,149,"Aconis67",58,97,65,103,113,42,-18,127,35,35,657,"06 min. 36,938",40,"09,923 sek."]
[null,null,150,"Kalnieši",87,90,44,92,108,98,-67,74,70,60,656,"04 min. 02,898",38,"06,392 sek."]
[null,null,151,"Freija",69,116,47,115,113,91,-69,48,42,68,640,"01 min. 42,748",34,"03,022 sek."]
[null,null,152,"DJ Alvito",69,86,67,79,86,41,-4,96,65,52,637,"04 min. 19,498",36,"07,208 sek."]
[null,null,153,"sixseven",103,125,104,92,56,37,-53,80,48,19,611,"05 min. 42,873",39,"08,792 sek."]
[null,null,154,"Trīs Muskatieri",16,84,59,117,101,94,-27,56,66,30,596,"08 min. 37,853",42,"12,330 sek."]
[null,null,155,"Šveiki",13,116,44,90,122,93,9,48,18,33,586,"07 min. 13,519",40,"10,838 sek."]
[null,null,157,"Priežu iela",25,103,42,85,42,61,-67,79,63,79,512,"04 min. 25,949",32,"08,311 sek."]
[null,null,158,"Karstās čiksas",44,102,21,39,72,51,-10,92,37,36,484,"08 min. 56,584",36,"14,905 sek."]
[null,null,159,"četri tomāti un viens gurķis",86,126,43,113,111,0,0,0,0,0,479,"02 min. 09,894",26,"04,996 sek."]
[null,null,160,"Avenes",54,105,86,89,78,66,-15,0,0,0,463,"03 min. 52,534",28,"08,305 sek."]
[null,null,161,"Kas???",0,0,0,0,0,0,0,141,66,77,284,"01 min. 52,403",14,"08,029 sek."]
[null,null,162,"Duplo",53,0,0,0,0,0,0,0,70,109,232,"01 min. 36,321",12,"08,027 sek."]
[null,null,163,"4 kartupeļi",0,0,0,0,0,0,-3,129,28,35,189,"02 min. 32,532",13,"11,733 sek."]
[null,null,165,"Bugatti 21023",11,0,0,0,0,0,0,0,0,0,11,"00 min. 21,363",1,"21,363 sek."]

{"sheet":"1-50","index":1,"n_rows":57,"n_cols":18,"rows_kept":57,"cut":false,"hidden":false,"merged":[[2,16,4,16],[2,17,5,17],[4,14,5,14],[5,2,5,3],[2,1,4,1],[2,2,4,2],[2,14,3,14],[2,3,3,3],[2,15,5,15]]}
[]
[null,null,{"$f":"tabula!C2","v":"\"Ģimenes viktorīna\" (tiešsaistē / vebinārā) | 2025.gada 6.decembris"}]
[null,"Grupa","#","Dalībnieks | Raunds | Tēma ",1,2,3,4,5,6,7,8,9,10,"KOPĀ","Laiks kopā uz pareizajām atbildēm","Pareizās atbildes (max)","Vid.laiks uz 1 pareizo atb."]
[null,null,null,null,{"$f":"tabula!E4","v":"Pavediens: Lielie reptiļi"},{"$f":"tabula!F4","v":"Ekspresis"},{"$f":"tabula!G4","v":"Supervaroņu pasaule"},{"$f":"tabula!H4","v":"Mūzikas žanri un popkultūra"},{"$f":"tabula!I4","v":"Zinātne"},{"$f":"tabula!J4","v":"Latvija"},{"$f":"tabula!K4","v":"Risks"},{"$f":"tabula!L4","v":"Kas kopīgs?"},{"$f":"tabula!M4","v":"Mākslīgais intelekts"},{"$f":"tabula!N4","v":"Audio"}]
[null,null,null,"Max punkti raundā (bez bonusiem) ",{"$f":"tabula!E5","v":150},{"$f":"tabula!F5","v":216},{"$f":"tabula!G5","v":150},{"$f":"tabula!H5","v":150},{"$f":"tabula!I5","v":150},{"$f":"tabula!J5","v":150},{"$f":"tabula!K5","v":120},{"$f":"tabula!L5","v":205},{"$f":"tabula!M5","v":150},{"$f":"tabula!N5","v":150},{"$f":"SUM(E5:N5)","v":1591}]
[null,null,"Jautājumi",null,{"$f":"tabula!E6","v":6},{"$f":"tabula!F6","v":12},{"$f":"tabula!G6","v":6},{"$f":"tabula!H6","v":6},{"$f":"tabula!I6","v":6},{"$f":"tabula!J6","v":6},{"$f":"tabula!K6","v":6},{"$f":"tabula!L6","v":8},{"$f":"tabula!M6","v":6},{"$f":"tabula!N6","v":6},null,null,{"$f":"SUM(E6:N6)","v":68}]
[null,null,null,"Vidējie rādītāji",{"$f":"tabula!E7","v":90.3},{"$f":"tabula!F7","v":115},{"$f":"tabula!G7","v":97.2},{"$f":"tabula!H7","v":116.7},{"$f":"tabula!I7","v":109.2},{"$f":"tabula!J7","v":70.8},{"$f":"tabula!K7","v":28.9},{"$f":"tabula!L7","v":127.5},{"$f":"tabula!M7","v":66},{"$f":"tabula!N7","v":67.7},{"$f":"tabula!O7","v":889.3},{"$f":"tabula!P7","v":"-"},{"$f":"tabula!Q7","v":49.1},{"$f":"tabula!R7","v":"-"}]
[null,3,{"$f":"tabula!C8","v":1},{"$f":"tabula!D8","v":"Matu vēji"},{"$f":"tabula!E8","v":127},{"$f":"tabula!F8","v":148},{"$f":"tabula!G8","v":133},{"$f":"tabula!H8","v":138},{"$f":"tabula!I8","v":138},{"$f":"tabula!J8","v":99},{"$f":"tabula!K8","v":58},{"$f":"tabula!L8","v":191},{"$f":"tabula!M8","v":90},{"$f":"tabula!N8","v":125},{"$f":"tabula!O8","v":1247},{"$f":"tabula!P8","v":"05 min. 20,753"},{"$f":"tabula!Q8","v":63},{"$f":"tabula!R8","v":"04,450 sek."}]
[null,1,{"$f":"tabula!C9","v":2},{"$f":"tabula!D9","v":"Sindija DJV"},{"$f":"tabula!E9","v":88},{"$f":"tabula!F9","v":162},{"$f":"tabula!G9","v":114},{"$f":"tabula!H9","v":142},{"$f":"tabula!I9","v":140},{"$f":"tabula!J9","v":91},{"$f":"tabula!K9","v":109},{"$f":"tabula!L9","v":188},{"$f":"tabula!M9","v":73},{"$f":"tabula!N9","v":101},{"$f":"tabula!O9","v":1208},{"$f":"tabula!P9","v":"03 min. 57,774"},{"$f":"tabula!Q9","v":58},{"$f":"tabula!R9","v":"04,100 sek."}]
[null,1,{"$f":"tabula!C10","v":3},{"$f":"tabula!D10","v":"Klavini"},{"$f":"tabula!E10","v":130},{"$f":"tabula!F10","v":167},{"$f":"tabula!G10","v":119},{"$f":"tabula!H10","v":136},{"$f":"tabula!I10","v":129},{"$f":"tabula!J10","v":79},{"$f":"tabula!K10","v":108},{"$f":"tabula!L10","v":142},{"$f":"tabula!M10","v":59},{"$f":"tabula!N10","v":120},{"$f":"tabula!O10","v":1189},{"$f":"tabula!P10","v":"05 min. 03,190"},{"$f":"tabula!Q10","v":60},{"$f":"tabula!R10","v":"05,053 sek."}]
[null,3,{"$f":"tabula!C11","v":4},{"$f":"tabula!D11","v":"Dancings cats"},{"$f":"tabula!E11","v":95},{"$f":"tabula!F11","v":94},{"$f":"tabula!G11","v":142},{"$f":"tabula!H11","v":142},{"$f":"tabula!I11","v":116},{"$f":"tabula!J11","v":82},{"$f":"tabula!K11","v":100},{"$f":"tabula!L11","v":178},{"$f":"tabula!M11","v":121},{"$f":"tabula!N11","v":108},{"$f":"tabula!O11","v":1178},{"$f":"tabula!P11","v":"05 min. 24,531"},{"$f":"tabula!Q11","v":59},{"$f":"tabula!R11","v":"05,501 sek."}]
[null,1,{"$f":"tabula!C12","v":5},{"$f":"tabula!D12","v":"Zibenīgie Gliemeži"},{"$f":"tabula!E12","v":120},{"$f":"tabula!F12","v":156},{"$f":"tabula!G12","v":117},{"$f":"tabula!H12","v":138},{"$f":"tabula!I12","v":136},{"$f":"tabula!J12","v":118},{"$f":"tabula!K12","v":63},{"$f":"tabula!L12","v":137},{"$f":"tabula!M12","v":70},{"$f":"tabula!N12","v":117},{"$f":"tabula!O12","v":1172},{"$f":"tabula!P12","v":"07 min. 37,175"},{"$f":"tabula!Q12","v":63},{"$f":"tabula!R12","v":"07,257 sek."}]
[null,3,{"$f":"tabula!C13","v":6},{"$f":"tabula!D13","v":"Bērnu mielasts"},{"$f":"tabula!E13","v":115},{"$f":"tabula!F13","v":139},{"$f":"tabula!G13","v":109},{"$f":"tabula!H13","v":140},{"$f":"tabula!I13","v":115},{"$f":"tabula!J13","v":82},{"$f":"tabula!K13","v":69},{"$f":"tabula!L13","v":179},{"$f":"tabula!M13","v":98},{"$f":"tabula!N13","v":108},{"$f":"tabula!O13","v":1154},{"$f":"tabula!P13","v":"05 min. 14,460"},{"$f":"tabula!Q13","v":58},{"$f":"tabula!R13","v":"05,422 sek."}]
[null,1,{"$f":"tabula!C14","v":7},{"$f":"tabula!D14","v":"CĪŅAA"},{"$f":"tabula!E14","v":82},{"$f":"tabula!F14","v":121},{"$f":"tabula!G14","v":141},{"$f":"tabula!H14","v":137},{"$f":"tabula!I14","v":129},{"$f":"tabula!J14","v":91},{"$f":"tabula!K14","v":83},{"$f":"tabula!L14","v":178},{"$f":"tabula!M14","v":85},{"$f":"tabula!N14","v":104},{"$f":"tabula!O14","v":1151},{"$f":"tabula!P14","v":"06 min. 37,126"},{"$f":"tabula!Q14","v":61},{"$f":"tabula!R14","v":"06,510 sek."}]
[null,1,{"$f":"tabula!C15","v":8},{"$f":"tabula!D15","v":"Kaimiņu būšana"},{"$f":"tabula!E15","v":117},{"$f":"tabula!F15","v":93},{"$f":"tabula!G15","v":143},{"$f":"tabula!H15","v":133},{"$f":"tabula!I15","v":135},{"$f":"tabula!J15","v":86},{"$f":"tabula!K15","v":74},{"$f":"tabula!L15","v":178},{"$f":"tabula!M15","v":79},{"$f":"tabula!N15","v":112},{"$f":"tabula!O15","v":1150},{"$f":"tabula!P15","v":"07 min. 37,285"},{"$f":"tabula!Q15","v":62},{"$f":"tabula!R15","v":"07,376 sek."}]
[null,2,{"$f":"tabula!C16","v":9},{"$f":"tabula!D16","v":"Margozaurs"},{"$f":"tabula!E16","v":97},{"$f":"tabula!F16","v":137},{"$f":"tabula!G16","v":116},{"$f":"tabula!H16","v":139},{"$f":"tabula!I16","v":134},{"$f":"tabula!J16","v":108},{"$f":"tabula!K16","v":93},{"$f":"tabula!L16","v":134},{"$f":"tabula!M16","v":90},{"$f":"tabula!N16","v":91},{"$f":"tabula!O16","v":1139},{"$f":"tabula!P16","v":"07 min. 22,307"},{"$f":"tabula!Q16","v":61},{"$f":"tabula!R16","v":"07,251 sek."}]
[null,3,{"$f":"tabula!C17","v":10},{"$f":"tabula!D17","v":"Planēta Pritons"},{"$f":"tabula!E17","v":108},{"$f":"tabula!F17","v":129},{"$f":"tabula!G17","v":138},{"$f":"tabula!H17","v":134},{"$f":"tabula!I17","v":131},{"$f":"tabula!J17","v":104},{"$f":"tabula!K17","v":47},{"$f":"tabula!L17","v":184},{"$f":"tabula!M17","v":74},{"$f":"tabula!N17","v":86},{"$f":"tabula!O17","v":1135},{"$f":"tabula!P17","v":"06 min. 11,119"},{"$f":"tabula!Q17","v":60},{"$f":"tabula!R17","v":"06,185 sek."}]
[null,2,{"$f":"tabula!C18","v":11},{"$f":"tabula!D18","v":"OmeZinLabāk"},{"$f":"tabula!E18","v":113},{"$f":"tabula!F18","v":139},{"$f":"tabula!G18","v":120},{"$f":"tabula!H18","v":130},{"$f":"tabula!I18","v":139},{"$f":"tabula!J18","v":107},{"$f":"tabula!K18","v":53},{"$f":"tabula!L18","v":140},{"$f":"tabula!M18","v":90},{"$f":"tabula!N18","v":102},{"$f":"tabula!O18","v":1133},{"$f":"tabula!P18","v":"05 min. 27,179"},{"$f":"tabula!Q18","v":58},{"$f":"tabula!R18","v":"05,641 sek."}]
[null,2,{"$f":"tabula!C19","v":12},{"$f":"tabula!D19","v":"EstiPois"},{"$f":"tabula!E19","v":110},{"$f":"tabula!F19","v":102},{"$f":"tabula!G19","v":135},{"$f":"tabula!H19","v":139},{"$f":"tabula!I19","v":74},{"$f":"tabula!J19","v":90},{"$f":"tabula!K19","v":100},{"$f":"tabula!L19","v":150},{"$f":"tabula!M19","v":96},{"$f":"tabula!N19","v":132},{"$f":"tabula!O19","v":1128},{"$f":"tabula!P19","v":"08 min. 05,903"},{"$f":"tabula!Q19","v":61},{"$f":"tabula!R19","v":"07,966 sek."}]
[null,2,{"$f":"tabula!C20","v":13},{"$f":"tabula!D20","v":"Parka ielas banda"},{"$f":"tabula!E20","v":131},{"$f":"tabula!F20","v":134},{"$f":"tabula!G20","v":138},{"$f":"tabula!H20","v":142},{"$f":"tabula!I20","v":115},{"$f":"tabula!J20","v":67},{"$f":"tabula!K20","v":35},{"$f":"tabula!L20","v":163},{"$f":"tabula!M20","v":95},{"$f":"tabula!N20","v":87},{"$f":"tabula!O20","v":1107},{"$f":"tabula!P20","v":"04 min. 31,326"},{"$f":"tabula!Q20","v":55},{"$f":"tabula!R20","v":"04,933 sek."}]
[null,3,{"$f":"tabula!C21","v":14},{"$f":"tabula!D21","v":"Badijs spēlē viktorīnu"},{"$f":"tabula!E21","v":120},{"$f":"tabula!F21","v":113},{"$f":"tabula!G21","v":118},{"$f":"tabula!H21","v":142},{"$f":"tabula!I21","v":138},{"$f":"tabula!J21","v":64},{"$f":"tabula!K21","v":71},{"$f":"tabula!L21","v":165},{"$f":"tabula!M21","v":70},{"$f":"tabula!N21","v":105},{"$f":"tabula!O21","v":1106},{"$f":"tabula!P21","v":"04 min. 04,493"},{"$f":"tabula!Q21","v":54},{"$f":"tabula!R21","v":"04,528 sek."}]
[null,1,{"$f":"tabula!C22","v":15},{"$f":"tabula!D22","v":"Theo.lv"},{"$f":"tabula!E22","v":130},{"$f":"tabula!F22","v":136},{"$f":"tabula!G22","v":115},{"$f":"tabula!H22","v":135},{"$f":"tabula!I22","v":139},{"$f":"tabula!J22","v":77},{"$f":"tabula!K22","v":67},{"$f":"tabula!L22","v":151},{"$f":"tabula!M22","v":59},{"$f":"tabula!N22","v":96},{"$f":"tabula!O22","v":1105},{"$f":"tabula!P22","v":"07 min. 57,953"},{"$f":"tabula!Q22","v":60},{"$f":"tabula!R22","v":"07,966 sek."}]
[null,3,{"$f":"tabula!C23","v":16},{"$f":"tabula!D23","v":"Biķis"},{"$f":"tabula!E23","v":115},{"$f":"tabula!F23","v":158},{"$f":"tabula!G23","v":147},{"$f":"tabula!H23","v":141},{"$f":"tabula!I23","v":141},{"$f":"tabula!J23","v":45},{"$f":"tabula!K23","v":10},{"$f":"tabula!L23","v":146},{"$f":"tabula!M23","v":102},{"$f":"tabula!N23","v":91},{"$f":"tabula!O23","v":1096},{"$f":"tabula!P23","v":"02 min. 37,220"},{"$f":"tabula!Q23","v":53},{"$f":"tabula!R23","v":"02,966 sek."}]
[null,3,{"$f":"tabula!C24","v":17},{"$f":"tabula!D24","v":"SAULKRASTU BANDA"},{"$f":"tabula!E24","v":123},{"$f":"tabula!F24","v":127},{"$f":"tabula!G24","v":141},{"$f":"tabula!H24","v":136},{"$f":"tabula!I24","v":133},{"$f":"tabula!J24","v":111},{"$f":"tabula!K24","v":14},{"$f":"tabula!L24","v":170},{"$f":"tabula!M24","v":84},{"$f":"tabula!N24","v":53},{"$f":"tabula!O24","v":1092},{"$f":"tabula!P24","v":"05 min. 16,503"},{"$f":"tabula!Q24","v":55},{"$f":"tabula!R24","v":"05,755 sek."}]
[null,3,{"$f":"tabula!C25","v":18},{"$f":"tabula!D25","v":"Rogas"},{"$f":"tabula!E25","v":107},{"$f":"tabula!F25","v":106},{"$f":"tabula!G25","v":122},{"$f":"tabula!H25","v":131},{"$f":"tabula!I25","v":88},{"$f":"tabula!J25","v":86},{"$f":"tabula!K25","v":79},{"$f":"tabula!L25","v":163},{"$f":"tabula!M25","v":94},{"$f":"tabula!N25","v":114},{"$f":"tabula!O25","v":1090},{"$f":"tabula!P25","v":"06 min. 17,265"},{"$f":"tabula!Q25","v":58},{"$f":"tabula!R25","v":"06,505 sek."}]
[null,1,{"$f":"tabula!C26","v":19},{"$f":"tabula!D26","v":"Zaļie gurķi"},{"$f":"tabula!E26","v":123},{"$f":"tabula!F26","v":121},{"$f":"tabula!G26","v":116},{"$f":"tabula!H26","v":126},{"$f":"tabula!I26","v":132},{"$f":"tabula!J26","v":66},{"$f":"tabula!K26","v":56},{"$f":"tabula!L26","v":144},{"$f":"tabula!M26","v":98},{"$f":"tabula!N26","v":103},{"$f":"tabula!O26","v":1085},{"$f":"tabula!P26","v":"07 min. 34,311"},{"$f":"tabula!Q26","v":60},{"$f":"tabula!R26","v":"07,572 sek."}]
[null,1,{"$f":"tabula!C27","v":20},{"$f":"tabula!D27","v":"Ogres kartelis"},{"$f":"tabula!E27","v":82},{"$f":"tabula!F27","v":133},{"$f":"tabula!G27","v":98},{"$f":"tabula!H27","v":130},{"$f":"tabula!I27","v":138},{"$f":"tabula!J27","v":103},{"$f":"tabula!K27","v":50},{"$f":"tabula!L27","v":183},{"$f":"tabula!M27","v":66},{"$f":"tabula!N27","v":95},{"$f":"tabula!O27","v":1078},{"$f":"tabula!P27","v":"08 min. 49,769"},{"$f":"tabula!Q27","v":61},{"$f":"tabula!R27","v":"08,685 sek."}]
[null,3,{"$f":"tabula!C28","v":21},{"$f":"tabula!D28","v":"Veiksminieki"},{"$f":"tabula!E28","v":98},{"$f":"tabula!F28","v":153},{"$f":"tabula!G28","v":120},{"$f":"tabula!H28","v":139},{"$f":"tabula!I28","v":107},{"$f":"tabula!J28","v":91},{"$f":"tabula!K28","v":96},{"$f":"tabula!L28","v":138},{"$f":"tabula!M28","v":84},{"$f":"tabula!N28","v":51},{"$f":"tabula!O28","v":1077},{"$f":"tabula!P28","v":"05 min. 55,216"},{"$f":"tabula!Q28","v":56},{"$f":"tabula!R28","v":"06,343 sek."}]
[null,null,{"$f":"tabula!C29","v":22},{"$f":"tabula!D29","v":"Saules iela"},{"$f":"tabula!E29","v":119},{"$f":"tabula!F29","v":104},{"$f":"tabula!G29","v":111},{"$f":"tabula!H29","v":124},{"$f":"tabula!I29","v":118},{"$f":"tabula!J29","v":72},{"$f":"tabula!K29","v":56},{"$f":"tabula!L29","v":183},{"$f":"tabula!M29","v":84},{"$f":"tabula!N29","v":105},{"$f":"tabula!O29","v":1076},{"$f":"tabula!P29","v":"07 min. 00,819"},{"$f":"tabula!Q29","v":57},{"$f":"tabula!R29","v":"07,383 sek."}]
[null,null,{"$f":"tabula!C30","v":23},{"$f":"tabula!D30","v":"Silavas IRBE"},{"$f":"tabula!E30","v":78},{"$f":"tabula!F30","v":160},{"$f":"tabula!G30","v":114},{"$f":"tabula!H30","v":133},{"$f":"tabula!I30","v":137},{"$f":"tabula!J30","v":84},{"$f":"tabula!K30","v":48},{"$f":"tabula!L30","v":137},{"$f":"tabula!M30","v":89},{"$f":"tabula!N30","v":92},{"$f":"tabula!O30","v":1072},{"$f":"tabula!P30","v":"09 min. 06,123"},{"$f":"tabula!Q30","v":62},{"$f":"tabula!R30","v":"08,808 sek."}]
[null,null,{"$f":"tabula!C31","v":24},{"$f":"tabula!D31","v":"Rūķis Stūķis"},{"$f":"tabula!E31","v":115},{"$f":"tabula!F31","v":142},{"$f":"tabula!G31","v":84},{"$f":"tabula!H31","v":134},{"$f":"tabula!I31","v":133},{"$f":"tabula!J31","v":103},{"$f":"tabula!K31","v":37},{"$f":"tabula!L31","v":158},{"$f":"tabula!M31","v":83},{"$f":"tabula!N31","v":83},{"$f":"tabula!O31","v":1072},{"$f":"tabula!P31","v":"05 min. 42,115"},{"$f":"tabula!Q31","v":56},{"$f":"tabula!R31","v":"06,109 sek."}]
[null,null,{"$f":"tabula!C32","v":25},{"$f":"tabula!D32","v":"Baltvīns"},{"$f":"tabula!E32","v":102},{"$f":"tabula!F32","v":135},{"$f":"tabula!G32","v":140},{"$f":"tabula!H32","v":143},{"$f":"tabula!I32","v":129},{"$f":"tabula!J32","v":60},{"$f":"tabula!K32","v":52},{"$f":"tabula!L32","v":150},{"$f":"tabula!M32","v":50},{"$f":"tabula!N32","v":111},{"$f":"tabula!O32","v":1072},{"$f":"tabula!P32","v":"05 min. 22,021"},{"$f":"tabula!Q32","v":55},{"$f":"tabula!R32","v":"05,855 sek."}]
[null,null,{"$f":"tabula!C33","v":26},{"$f":"tabula!D33","v":"Virsskaņas alus iznīcinātājs"},{"$f":"tabula!E33","v":119},{"$f":"tabula!F33","v":140},{"$f":"tabula!G33","v":118},{"$f":"tabula!H33","v":119},{"$f":"tabula!I33","v":137},{"$f":"tabula!J33","v":105},{"$f":"tabula!K33","v":37},{"$f":"tabula!L33","v":164},{"$f":"tabula!M33","v":91},{"$f":"tabula!N33","v":42},{"$f":"tabula!O33","v":1072},{"$f":"tabula!P33","v":"04 min. 35,705"},{"$f":"tabula!Q33","v":54},{"$f":"tabula!R33","v":"05,106 sek."}]
[null,null,{"$f":"tabula!C34","v":27},{"$f":"tabula!D34","v":"Hercogs"},{"$f":"tabula!E34","v":104},{"$f":"tabula!F34","v":181},{"$f":"tabula!G34","v":139},{"$f":"tabula!H34","v":137},{"$f":"tabula!I34","v":69},{"$f":"tabula!J34","v":21},{"$f":"tabula!K34","v":88},{"$f":"tabula!L34","v":147},{"$f":"tabula!M34","v":63},{"$f":"tabula!N34","v":120},{"$f":"tabula!O34","v":1069},{"$f":"tabula!P34","v":"05 min. 43,972"},{"$f":"tabula!Q34","v":56},{"$f":"tabula!R34","v":"06,142 sek."}]
[null,null,{"$f":"tabula!C35","v":28},{"$f":"tabula!D35","v":"žuļiks"},{"$f":"tabula!E35","v":114},{"$f":"tabula!F35","v":107},{"$f":"tabula!G35","v":141},{"$f":"tabula!H35","v":138},{"$f":"tabula!I35","v":129},{"$f":"tabula!J35","v":110},{"$f":"tabula!K35","v":30},{"$f":"tabula!L35","v":171},{"$f":"tabula!M35","v":84},{"$f":"tabula!N35","v":45},{"$f":"tabula!O35","v":1069},{"$f":"tabula!P35","v":"05 min. 15,282"},{"$f":"tabula!Q35","v":54},{"$f":"tabula!R35","v":"05,839 sek."}]
[null,null,{"$f":"tabula!C36","v":29},{"$f":"tabula!D36","v":"Echo Bravo"},{"$f":"tabula!E36","v":96},{"$f":"tabula!F36","v":161},{"$f":"tabula!G36","v":90},{"$f":"tabula!H36","v":136},{"$f":"tabula!I36","v":130},{"$f":"tabula!J36","v":92},{"$f":"tabula!K36","v":24},{"$f":"tabula!L36","v":146},{"$f":"tabula!M36","v":65},{"$f":"tabula!N36","v":123},{"$f":"tabula!O36","v":1063},{"$f":"tabula!P36","v":"03 min. 33,402"},{"$f":"tabula!Q36","v":55},{"$f":"tabula!R36","v":"04,753 sek."}]
[null,null,{"$f":"tabula!C37","v":30},{"$f":"tabula!D37","v":"Gigis & partneri"},{"$f":"tabula!E37","v":90},{"$f":"tabula!F37","v":144},{"$f":"tabula!G37","v":107},{"$f":"tabula!H37","v":135},{"$f":"tabula!I37","v":135},{"$f":"tabula!J37","v":95},{"$f":"tabula!K37","v":26},{"$f":"tabula!L37","v":153},{"$f":"tabula!M37","v":85},{"$f":"tabula!N37","v":88},{"$f":"tabula!O37","v":1058},{"$f":"tabula!P37","v":"08 min. 09,515"},{"$f":"tabula!Q37","v":60},{"$f":"tabula!R37","v":"08,159 sek."}]
[null,null,{"$f":"tabula!C38","v":31},{"$f":"tabula!D38","v":"Vāveres kosmosā"},{"$f":"tabula!E38","v":91},{"$f":"tabula!F38","v":130},{"$f":"tabula!G38","v":140},{"$f":"tabula!H38","v":117},{"$f":"tabula!I38","v":127},{"$f":"tabula!J38","v":89},{"$f":"tabula!K38","v":40},{"$f":"tabula!L38","v":174},{"$f":"tabula!M38","v":53},{"$f":"tabula!N38","v":96},{"$f":"tabula!O38","v":1057},{"$f":"tabula!P38","v":"06 min. 39,023"},{"$f":"tabula!Q38","v":57},{"$f":"tabula!R38","v":"07,000 sek."}]
[null,null,{"$f":"tabula!C39","v":32},{"$f":"tabula!D39","v":"Pūpolu ielas ZOO"},{"$f":"tabula!E39","v":92},{"$f":"tabula!F39","v":114},{"$f":"tabula!G39","v":110},{"$f":"tabula!H39","v":133},{"$f":"tabula!I39","v":129},{"$f":"tabula!J39","v":65},{"$f":"tabula!K39","v":78},{"$f":"tabula!L39","v":151},{"$f":"tabula!M39","v":63},{"$f":"tabula!N39","v":121},{"$f":"tabula!O39","v":1056},{"$f":"tabula!P39","v":"05 min. 51,737"},{"$f":"tabula!Q39","v":54},{"$f":"tabula!R39","v":"06,514 sek."}]
[null,null,{"$f":"tabula!C40","v":33},{"$f":"tabula!D40","v":"Aris1010"},{"$f":"tabula!E40","v":88},{"$f":"tabula!F40","v":146},{"$f":"tabula!G40","v":90},{"$f":"tabula!H40","v":137},{"$f":"tabula!I40","v":107},{"$f":"tabula!J40","v":75},{"$f":"tabula!K40","v":76},{"$f":"tabula!L40","v":153},{"$f":"tabula!M40","v":68},{"$f":"tabula!N40","v":106},{"$f":"tabula!O40","v":1046},{"$f":"tabula!P40","v":"05 min. 05,240"},{"$f":"tabula!Q40","v":54},{"$f":"tabula!R40","v":"05,653 sek."}]
[null,null,{"$f":"tabula!C41","v":34},{"$f":"tabula!D41","v":"Podzinieks"},{"$f":"tabula!E41","v":114},{"$f":"tabula!F41","v":130},{"$f":"tabula!G41","v":117},{"$f":"tabula!H41","v":115},{"$f":"tabula!I41","v":113},{"$f":"tabula!J41","v":106},{"$f":"tabula!K41","v":21},{"$f":"tabula!L41","v":145},{"$f":"tabula!M41","v":86},{"$f":"tabula!N41","v":99},{"$f":"tabula!O41","v":1046},{"$f":"tabula!P41","v":"04 min. 02,872"},{"$f":"tabula!Q41","v":52},{"$f":"tabula!R41","v":"04,671 sek."}]
[null,null,{"$f":"tabula!C42","v":35},{"$f":"tabula!D42","v":"Klieši & Draugi"},{"$f":"tabula!E42","v":96},{"$f":"tabula!F42","v":97},{"$f":"tabula!G42","v":116},{"$f":"tabula!H42","v":121},{"$f":"tabula!I42","v":105},{"$f":"tabula!J42","v":102},{"$f":"tabula!K42","v":17},{"$f":"tabula!L42","v":174},{"$f":"tabula!M42","v":99},{"$f":"tabula!N42","v":112},{"$f":"tabula!O42","v":1039},{"$f":"tabula!P42","v":"08 min. 14,139"},{"$f":"tabula!Q42","v":59},{"$f":"tabula!R42","v":"08,375 sek."}]
[null,null,{"$f":"tabula!C43","v":36},{"$f":"tabula!D43","v":"Bimonti"},{"$f":"tabula!E43","v":136},{"$f":"tabula!F43","v":131},{"$f":"tabula!G43","v":116},{"$f":"tabula!H43","v":135},{"$f":"tabula!I43","v":121},{"$f":"tabula!J43","v":79},{"$f":"tabula!K43","v":4},{"$f":"tabula!L43","v":147},{"$f":"tabula!M43","v":84},{"$f":"tabula!N43","v":85},{"$f":"tabula!O43","v":1038},{"$f":"tabula!P43","v":"06 min. 29,012"},{"$f":"tabula!Q43","v":57},{"$f":"tabula!R43","v":"06,825 sek."}]
[null,null,{"$f":"tabula!C44","v":37},{"$f":"tabula!D44","v":"MEKA"},{"$f":"tabula!E44","v":130},{"$f":"tabula!F44","v":115},{"$f":"tabula!G44","v":117},{"$f":"tabula!H44","v":138},{"$f":"tabula!I44","v":106},{"$f":"tabula!J44","v":58},{"$f":"tabula!K44","v":78},{"$f":"tabula!L44","v":106},{"$f":"tabula!M44","v":82},{"$f":"tabula!N44","v":105},{"$f":"tabula!O44","v":1035},{"$f":"tabula!P44","v":"05 min. 59,072"},{"$f":"tabula!Q44","v":55},{"$f":"tabula!R44","v":"06,529 sek."}]
[null,null,{"$f":"tabula!C45","v":38},{"$f":"tabula!D45","v":"Big R"},{"$f":"tabula!E45","v":130},{"$f":"tabula!F45","v":140},{"$f":"tabula!G45","v":117},{"$f":"tabula!H45","v":130},{"$f":"tabula!I45","v":116},{"$f":"tabula!J45","v":41},{"$f":"tabula!K45","v":86},{"$f":"tabula!L45","v":136},{"$f":"tabula!M45","v":71},{"$f":"tabula!N45","v":67},{"$f":"tabula!O45","v":1034},{"$f":"tabula!P45","v":"05 min. 21,147"},{"$f":"tabula!Q45","v":54},{"$f":"tabula!R45","v":"05,947 sek."}]
[null,null,{"$f":"tabula!C46","v":39},{"$f":"tabula!D46","v":"PutniņiCūciņas"},{"$f":"tabula!E46","v":127},{"$f":"tabula!F46","v":119},{"$f":"tabula!G46","v":120},{"$f":"tabula!H46","v":139},{"$f":"tabula!I46","v":114},{"$f":"tabula!J46","v":54},{"$f":"tabula!K46","v":39},{"$f":"tabula!L46","v":174},{"$f":"tabula!M46","v":61},{"$f":"tabula!N46","v":82},{"$f":"tabula!O46","v":1029},{"$f":"tabula!P46","v":"04 min. 00,479"},{"$f":"tabula!Q46","v":50},{"$f":"tabula!R46","v":"04,810 sek."}]
[null,null,{"$f":"tabula!C47","v":40},{"$f":"tabula!D47","v":"Kazubrenču princeses"},{"$f":"tabula!E47","v":117},{"$f":"tabula!F47","v":148},{"$f":"tabula!G47","v":114},{"$f":"tabula!H47","v":135},{"$f":"tabula!I47","v":136},{"$f":"tabula!J47","v":87},{"$f":"tabula!K47","v":16},{"$f":"tabula!L47","v":122},{"$f":"tabula!M47","v":83},{"$f":"tabula!N47","v":67},{"$f":"tabula!O47","v":1025},{"$f":"tabula!P47","v":"05 min. 35,178"},{"$f":"tabula!Q47","v":54},{"$f":"tabula!R47","v":"06,207 sek."}]
[null,null,{"$f":"tabula!C48","v":41},{"$f":"tabula!D48","v":"Suituceļš"},{"$f":"tabula!E48","v":111},{"$f":"tabula!F48","v":126},{"$f":"tabula!G48","v":100},{"$f":"tabula!H48","v":135},{"$f":"tabula!I48","v":94},{"$f":"tabula!J48","v":87},{"$f":"tabula!K48","v":67},{"$f":"tabula!L48","v":162},{"$f":"tabula!M48","v":60},{"$f":"tabula!N48","v":83},{"$f":"tabula!O48","v":1025},{"$f":"tabula!P48","v":"06 min. 08,239"},{"$f":"tabula!Q48","v":54},{"$f":"tabula!R48","v":"06,819 sek."}]
[null,null,{"$f":"tabula!C49","v":42},{"$f":"tabula!D49","v":"Svētie gadi"},{"$f":"tabula!E49","v":107},{"$f":"tabula!F49","v":140},{"$f":"tabula!G49","v":141},{"$f":"tabula!H49","v":138},{"$f":"tabula!I49","v":135},{"$f":"tabula!J49","v":70},{"$f":"tabula!K49","v":43},{"$f":"tabula!L49","v":115},{"$f":"tabula!M49","v":71},{"$f":"tabula!N49","v":63},{"$f":"tabula!O49","v":1023},{"$f":"tabula!P49","v":"03 min. 58,242"},{"$f":"tabula!Q49","v":52},{"$f":"tabula!R49","v":"04,582 sek."}]
[null,null,{"$f":"tabula!C50","v":43},{"$f":"tabula!D50","v":"Wilsons"},{"$f":"tabula!E50","v":93},{"$f":"tabula!F50","v":111},{"$f":"tabula!G50","v":92},{"$f":"tabula!H50","v":131},{"$f":"tabula!I50","v":113},{"$f":"tabula!J50","v":85},{"$f":"tabula!K50","v":51},{"$f":"tabula!L50","v":170},{"$f":"tabula!M50","v":77},{"$f":"tabula!N50","v":99},{"$f":"tabula!O50","v":1022},{"$f":"tabula!P50","v":"08 min. 14,115"},{"$f":"tabula!Q50","v":57},{"$f":"tabula!R50","v":"08,669 sek."}]
[null,null,{"$f":"tabula!C51","v":44},{"$f":"tabula!D51","v":"Durbe"},{"$f":"tabula!E51","v":113},{"$f":"tabula!F51","v":117},{"$f":"tabula!G51","v":114},{"$f":"tabula!H51","v":133},{"$f":"tabula!I51","v":111},{"$f":"tabula!J51","v":64},{"$f":"tabula!K51","v":44},{"$f":"tabula!L51","v":138},{"$f":"tabula!M51","v":100},{"$f":"tabula!N51","v":85},{"$f":"tabula!O51","v":1019},{"$f":"tabula!P51","v":"09 min. 33,866"},{"$f":"tabula!Q51","v":59},{"$f":"tabula!R51","v":"09,727 sek."}]
[null,null,{"$f":"tabula!C52","v":45},{"$f":"tabula!D52","v":"Langstiņu Muris"},{"$f":"tabula!E52","v":59},{"$f":"tabula!F52","v":134},{"$f":"tabula!G52","v":117},{"$f":"tabula!H52","v":123},{"$f":"tabula!I52","v":124},{"$f":"tabula!J52","v":65},{"$f":"tabula!K52","v":72},{"$f":"tabula!L52","v":133},{"$f":"tabula!M52","v":93},{"$f":"tabula!N52","v":98},{"$f":"tabula!O52","v":1018},{"$f":"tabula!P52","v":"07 min. 42,589"},{"$f":"tabula!Q52","v":57},{"$f":"tabula!R52","v":"08,116 sek."}]
[null,null,{"$f":"tabula!C53","v":46},{"$f":"tabula!D53","v":"Mēs no Jaunmārupes"},{"$f":"tabula!E53","v":102},{"$f":"tabula!F53","v":170},{"$f":"tabula!G53","v":116},{"$f":"tabula!H53","v":110},{"$f":"tabula!I53","v":138},{"$f":"tabula!J53","v":93},{"$f":"tabula!K53","v":21},{"$f":"tabula!L53","v":154},{"$f":"tabula!M53","v":48},{"$f":"tabula!N53","v":66},{"$f":"tabula!O53","v":1018},{"$f":"tabula!P53","v":"06 min. 04,015"},{"$f":"tabula!Q53","v":55},{"$f":"tabula!R53","v":"06,618 sek."}]
[null,null,{"$f":"tabula!C54","v":47},{"$f":"tabula!D54","v":"lielmezi.lv"},{"$f":"tabula!E54","v":118},{"$f":"tabula!F54","v":130},{"$f":"tabula!G54","v":95},{"$f":"tabula!H54","v":126},{"$f":"tabula!I54","v":126},{"$f":"tabula!J54","v":92},{"$f":"tabula!K54","v":5},{"$f":"tabula!L54","v":163},{"$f":"tabula!M54","v":54},{"$f":"tabula!N54","v":104},{"$f":"tabula!O54","v":1013},{"$f":"tabula!P54","v":"07 min. 46,923"},{"$f":"tabula!Q54","v":58},{"$f":"tabula!R54","v":"08,050 sek."}]
[null,null,{"$f":"tabula!C55","v":48},{"$f":"tabula!D55","v":"Korpulentā Betija"},{"$f":"tabula!E55","v":114},{"$f":"tabula!F55","v":128},{"$f":"tabula!G55","v":130},{"$f":"tabula!H55","v":135},{"$f":"tabula!I55","v":123},{"$f":"tabula!J55","v":62},{"$f":"tabula!K55","v":40},{"$f":"tabula!L55","v":151},{"$f":"tabula!M55","v":58},{"$f":"tabula!N55","v":71},{"$f":"tabula!O55","v":1012},{"$f":"tabula!P55","v":"07 min. 38,265"},{"$f":"tabula!Q55","v":57},{"$f":"tabula!R55","v":"08,040 sek."}]
[null,null,{"$f":"tabula!C56","v":49},{"$f":"tabula!D56","v":"Pa Zoino!"},{"$f":"tabula!E56","v":81},{"$f":"tabula!F56","v":131},{"$f":"tabula!G56","v":114},{"$f":"tabula!H56","v":141},{"$f":"tabula!I56","v":83},{"$f":"tabula!J56","v":73},{"$f":"tabula!K56","v":100},{"$f":"tabula!L56","v":145},{"$f":"tabula!M56","v":45},{"$f":"tabula!N56","v":99},{"$f":"tabula!O56","v":1012},{"$f":"tabula!P56","v":"05 min. 56,805"},{"$f":"tabula!Q56","v":53},{"$f":"tabula!R56","v":"06,732 sek."}]
[null,null,{"$f":"tabula!C57","v":50},{"$f":"tabula!D57","v":"Plānais galdiņš"},{"$f":"tabula!E57","v":96},{"$f":"tabula!F57","v":133},{"$f":"tabula!G57","v":114},{"$f":"tabula!H57","v":139},{"$f":"tabula!I57","v":90},{"$f":"tabula!J57","v":115},{"$f":"tabula!K57","v":52},{"$f":"tabula!L57","v":125},{"$f":"tabula!M57","v":85},{"$f":"tabula!N57","v":60},{"$f":"tabula!O57","v":1009},{"$f":"tabula!P57","v":"07 min. 29,169"},{"$f":"tabula!Q57","v":56},{"$f":"tabula!R57","v":"08,021 sek."}]

{"sheet":"51-100","index":2,"n_rows":57,"n_cols":18,"rows_kept":57,"cut":false,"hidden":false,"merged":[[2,17,5,17],[4,14,5,14],[5,2,5,3],[2,1,4,1],[2,2,4,2],[2,3,3,3],[2,14,3,14],[2,15,5,15],[2,16,4,16]]}
[]
[null,null,{"$f":"tabula!C2","v":"\"Ģimenes viktorīna\" (tiešsaistē / vebinārā) | 2025.gada 6.decembris"}]
[null,"Grupa","#","Dalībnieks | Raunds | Tēma ",1,2,3,4,5,6,7,8,9,10,"KOPĀ","Laiks kopā uz pareizajām atbildēm","Pareizās atbildes (max)","Vid.laiks uz 1 pareizo atb."]
[null,null,null,null,{"$f":"tabula!E4","v":"Pavediens: Lielie reptiļi"},{"$f":"tabula!F4","v":"Ekspresis"},{"$f":"tabula!G4","v":"Supervaroņu pasaule"},{"$f":"tabula!H4","v":"Mūzikas žanri un popkultūra"},{"$f":"tabula!I4","v":"Zinātne"},{"$f":"tabula!J4","v":"Latvija"},{"$f":"tabula!K4","v":"Risks"},{"$f":"tabula!L4","v":"Kas kopīgs?"},{"$f":"tabula!M4","v":"Mākslīgais intelekts"},{"$f":"tabula!N4","v":"Audio"}]
[null,null,null,"Max punkti raundā (bez bonusiem) ",{"$f":"tabula!E5","v":150},{"$f":"tabula!F5","v":216},{"$f":"tabula!G5","v":150},{"$f":"tabula!H5","v":150},{"$f":"tabula!I5","v":150},{"$f":"tabula!J5","v":150},{"$f":"tabula!K5","v":120},{"$f":"tabula!L5","v":205},{"$f":"tabula!M5","v":150},{"$f":"tabula!N5","v":150},{"$f":"SUM(E5:N5)","v":1591}]
[null,null,"Jautājumi",null,{"$f":"tabula!E6","v":6},{"$f":"tabula!F6","v":12},{"$f":"tabula!G6","v":6},{"$f":"tabula!H6","v":6},{"$f":"tabula!I6","v":6},{"$f":"tabula!J6","v":6},{"$f":"tabula!K6","v":6},{"$f":"tabula!L6","v":8},{"$f":"tabula!M6","v":6},{"$f":"tabula!N6","v":6},null,null,{"$f":"SUM(E6:N6)","v":68}]
[null,null,null,"Vidējie rādītāji",{"$f":"tabula!E7","v":90.3},{"$f":"tabula!F7","v":115},{"$f":"tabula!G7","v":97.2},{"$f":"tabula!H7","v":116.7},{"$f":"tabula!I7","v":109.2},{"$f":"tabula!J7","v":70.8},{"$f":"tabula!K7","v":28.9},{"$f":"tabula!L7","v":127.5},{"$f":"tabula!M7","v":66},{"$f":"tabula!N7","v":67.7},{"$f":"tabula!O7","v":889.3},{"$f":"tabula!P7","v":"-"},{"$f":"tabula!Q7","v":49.1},{"$f":"tabula!R7","v":"-"}]
[null,3,{"$f":"tabula!C58","v":51},{"$f":"tabula!D58","v":"Trakais Trakulis"},{"$f":"tabula!E58","v":126},{"$f":"tabula!F58","v":116},{"$f":"tabula!G58","v":139},{"$f":"tabula!H58","v":134},{"$f":"tabula!I58","v":107},{"$f":"tabula!J58","v":106},{"$f":"tabula!K58","v":12},{"$f":"tabula!L58","v":145},{"$f":"tabula!M58","v":81},{"$f":"tabula!N58","v":39},{"$f":"tabula!O58","v":1005},{"$f":"tabula!P58","v":"06 min. 44,069"},{"$f":"tabula!Q58","v":54},{"$f":"tabula!R58","v":"07,483 sek."}]
[null,1,{"$f":"tabula!C59","v":52},{"$f":"tabula!D59","v":"Baltā sestdiena"},{"$f":"tabula!E59","v":127},{"$f":"tabula!F59","v":125},{"$f":"tabula!G59","v":117},{"$f":"tabula!H59","v":141},{"$f":"tabula!I59","v":117},{"$f":"tabula!J59","v":89},{"$f":"tabula!K59","v":55},{"$f":"tabula!L59","v":115},{"$f":"tabula!M59","v":80},{"$f":"tabula!N59","v":38},{"$f":"tabula!O59","v":1004},{"$f":"tabula!P59","v":"05 min. 09,669"},{"$f":"tabula!Q59","v":52},{"$f":"tabula!R59","v":"05,955 sek."}]
[null,1,{"$f":"tabula!C60","v":53},{"$f":"tabula!D60","v":"lemurii"},{"$f":"tabula!E60","v":78},{"$f":"tabula!F60","v":151},{"$f":"tabula!G60","v":114},{"$f":"tabula!H60","v":136},{"$f":"tabula!I60","v":132},{"$f":"tabula!J60","v":109},{"$f":"tabula!K60","v":15},{"$f":"tabula!L60","v":159},{"$f":"tabula!M60","v":51},{"$f":"tabula!N60","v":57},{"$f":"tabula!O60","v":1002},{"$f":"tabula!P60","v":"06 min. 45,963"},{"$f":"tabula!Q60","v":55},{"$f":"tabula!R60","v":"07,381 sek."}]
[null,3,{"$f":"tabula!C61","v":54},{"$f":"tabula!D61","v":"Lego Friends"},{"$f":"tabula!E61","v":85},{"$f":"tabula!F61","v":148},{"$f":"tabula!G61","v":68},{"$f":"tabula!H61","v":138},{"$f":"tabula!I61","v":134},{"$f":"tabula!J61","v":109},{"$f":"tabula!K61","v":16},{"$f":"tabula!L61","v":147},{"$f":"tabula!M61","v":63},{"$f":"tabula!N61","v":88},{"$f":"tabula!O61","v":996},{"$f":"tabula!P61","v":"06 min. 44,651"},{"$f":"tabula!Q61","v":55},{"$f":"tabula!R61","v":"07,357 sek."}]
[null,1,{"$f":"tabula!C62","v":55},{"$f":"tabula!D62","v":"Blitz the o is silent"},{"$f":"tabula!E62","v":131},{"$f":"tabula!F62","v":119},{"$f":"tabula!G62","v":140},{"$f":"tabula!H62","v":109},{"$f":"tabula!I62","v":122},{"$f":"tabula!J62","v":106},{"$f":"tabula!K62","v":-5},{"$f":"tabula!L62","v":163},{"$f":"tabula!M62","v":82},{"$f":"tabula!N62","v":29},{"$f":"tabula!O62","v":996},{"$f":"tabula!P62","v":"05 min. 46,943"},{"$f":"tabula!Q62","v":52},{"$f":"tabula!R62","v":"06,672 sek."}]
[null,3,{"$f":"tabula!C63","v":56},{"$f":"tabula!D63","v":"Frīk Adele"},{"$f":"tabula!E63","v":126},{"$f":"tabula!F63","v":167},{"$f":"tabula!G63","v":118},{"$f":"tabula!H63","v":140},{"$f":"tabula!I63","v":142},{"$f":"tabula!J63","v":43},{"$f":"tabula!K63","v":12},{"$f":"tabula!L63","v":97},{"$f":"tabula!M63","v":70},{"$f":"tabula!N63","v":80},{"$f":"tabula!O63","v":995},{"$f":"tabula!P63","v":"04 min. 16,357"},{"$f":"tabula!Q63","v":51},{"$f":"tabula!R63","v":"05,027 sek."}]
[null,1,{"$f":"tabula!C64","v":57},{"$f":"tabula!D64","v":"PO!"},{"$f":"tabula!E64","v":124},{"$f":"tabula!F64","v":80},{"$f":"tabula!G64","v":103},{"$f":"tabula!H64","v":121},{"$f":"tabula!I64","v":107},{"$f":"tabula!J64","v":81},{"$f":"tabula!K64","v":64},{"$f":"tabula!L64","v":158},{"$f":"tabula!M64","v":48},{"$f":"tabula!N64","v":105},{"$f":"tabula!O64","v":991},{"$f":"tabula!P64","v":"11 min. 44,632"},{"$f":"tabula!Q64","v":63},{"$f":"tabula!R64","v":"11,185 sek."}]
[null,1,{"$f":"tabula!C65","v":58},{"$f":"tabula!D65","v":"Active"},{"$f":"tabula!E65","v":93},{"$f":"tabula!F65","v":128},{"$f":"tabula!G65","v":108},{"$f":"tabula!H65","v":125},{"$f":"tabula!I65","v":135},{"$f":"tabula!J65","v":41},{"$f":"tabula!K65","v":64},{"$f":"tabula!L65","v":138},{"$f":"tabula!M65","v":72},{"$f":"tabula!N65","v":87},{"$f":"tabula!O65","v":991},{"$f":"tabula!P65","v":"08 min. 29,561"},{"$f":"tabula!Q65","v":57},{"$f":"tabula!R65","v":"08,940 sek."}]
[null,2,{"$f":"tabula!C66","v":59},{"$f":"tabula!D66","v":"Ceriņi gaišos toņos"},{"$f":"tabula!E66","v":120},{"$f":"tabula!F66","v":114},{"$f":"tabula!G66","v":109},{"$f":"tabula!H66","v":123},{"$f":"tabula!I66","v":132},{"$f":"tabula!J66","v":46},{"$f":"tabula!K66","v":-1},{"$f":"tabula!L66","v":168},{"$f":"tabula!M66","v":92},{"$f":"tabula!N66","v":83},{"$f":"tabula!O66","v":986},{"$f":"tabula!P66","v":"07 min. 29,393"},{"$f":"tabula!Q66","v":56},{"$f":"tabula!R66","v":"08,025 sek."}]
[null,3,{"$f":"tabula!C67","v":60},{"$f":"tabula!D67","v":"Šanhaja"},{"$f":"tabula!E67","v":100},{"$f":"tabula!F67","v":112},{"$f":"tabula!G67","v":92},{"$f":"tabula!H67","v":111},{"$f":"tabula!I67","v":132},{"$f":"tabula!J67","v":72},{"$f":"tabula!K67","v":38},{"$f":"tabula!L67","v":162},{"$f":"tabula!M67","v":82},{"$f":"tabula!N67","v":84},{"$f":"tabula!O67","v":985},{"$f":"tabula!P67","v":"05 min. 32,657"},{"$f":"tabula!Q67","v":52},{"$f":"tabula!R67","v":"06,397 sek."}]
[null,2,{"$f":"tabula!C68","v":61},{"$f":"tabula!D68","v":"AtstajRiepuMeza"},{"$f":"tabula!E68","v":86},{"$f":"tabula!F68","v":158},{"$f":"tabula!G68","v":93},{"$f":"tabula!H68","v":138},{"$f":"tabula!I68","v":138},{"$f":"tabula!J68","v":98},{"$f":"tabula!K68","v":19},{"$f":"tabula!L68","v":98},{"$f":"tabula!M68","v":70},{"$f":"tabula!N68","v":83},{"$f":"tabula!O68","v":981},{"$f":"tabula!P68","v":"05 min. 23,997"},{"$f":"tabula!Q68","v":53},{"$f":"tabula!R68","v":"06,113 sek."}]
[null,2,{"$f":"tabula!C69","v":62},{"$f":"tabula!D69","v":"Kas neriskē,tas nedzer"},{"$f":"tabula!E69","v":69},{"$f":"tabula!F69","v":102},{"$f":"tabula!G69","v":86},{"$f":"tabula!H69","v":126},{"$f":"tabula!I69","v":131},{"$f":"tabula!J69","v":96},{"$f":"tabula!K69","v":54},{"$f":"tabula!L69","v":162},{"$f":"tabula!M69","v":53},{"$f":"tabula!N69","v":97},{"$f":"tabula!O69","v":976},{"$f":"tabula!P69","v":"09 min. 49,772"},{"$f":"tabula!Q69","v":57},{"$f":"tabula!R69","v":"10,347 sek."}]
[null,2,{"$f":"tabula!C70","v":63},{"$f":"tabula!D70","v":3113},{"$f":"tabula!E70","v":60},{"$f":"tabula!F70","v":136},{"$f":"tabula!G70","v":133},{"$f":"tabula!H70","v":134},{"$f":"tabula!I70","v":109},{"$f":"tabula!J70","v":80},{"$f":"tabula!K70","v":66},{"$f":"tabula!L70","v":155},{"$f":"tabula!M70","v":31},{"$f":"tabula!N70","v":72},{"$f":"tabula!O70","v":976},{"$f":"tabula!P70","v":"06 min. 19,438"},{"$f":"tabula!Q70","v":53},{"$f":"tabula!R70","v":"07,159 sek."}]
[null,3,{"$f":"tabula!C71","v":64},{"$f":"tabula!D71","v":"KLONDAIKA/NEWBLACK/QBIT"},{"$f":"tabula!E71","v":93},{"$f":"tabula!F71","v":160},{"$f":"tabula!G71","v":133},{"$f":"tabula!H71","v":129},{"$f":"tabula!I71","v":129},{"$f":"tabula!J71","v":42},{"$f":"tabula!K71","v":50},{"$f":"tabula!L71","v":118},{"$f":"tabula!M71","v":57},{"$f":"tabula!N71","v":64},{"$f":"tabula!O71","v":975},{"$f":"tabula!P71","v":"06 min. 04,365"},{"$f":"tabula!Q71","v":53},{"$f":"tabula!R71","v":"06,875 sek."}]
[null,1,{"$f":"tabula!C72","v":65},{"$f":"tabula!D72","v":"Zepelīni"},{"$f":"tabula!E72","v":106},{"$f":"tabula!F72","v":143},{"$f":"tabula!G72","v":132},{"$f":"tabula!H72","v":128},{"$f":"tabula!I72","v":133},{"$f":"tabula!J72","v":55},{"$f":"tabula!K72","v":13},{"$f":"tabula!L72","v":130},{"$f":"tabula!M72","v":78},{"$f":"tabula!N72","v":51},{"$f":"tabula!O72","v":969},{"$f":"tabula!P72","v":"05 min. 12,455"},{"$f":"tabula!Q72","v":51},{"$f":"tabula!R72","v":"06,127 sek."}]
[null,3,{"$f":"tabula!C73","v":66},{"$f":"tabula!D73","v":"Tālavas taurētāji"},{"$f":"tabula!E73","v":94},{"$f":"tabula!F73","v":117},{"$f":"tabula!G73","v":67},{"$f":"tabula!H73","v":130},{"$f":"tabula!I73","v":135},{"$f":"tabula!J73","v":60},{"$f":"tabula!K73","v":75},{"$f":"tabula!L73","v":140},{"$f":"tabula!M73","v":86},{"$f":"tabula!N73","v":61},{"$f":"tabula!O73","v":965},{"$f":"tabula!P73","v":"04 min. 30,750"},{"$f":"tabula!Q73","v":49},{"$f":"tabula!R73","v":"05,526 sek."}]
[null,3,{"$f":"tabula!C74","v":67},{"$f":"tabula!D74","v":"A-HA"},{"$f":"tabula!E74","v":89},{"$f":"tabula!F74","v":92},{"$f":"tabula!G74","v":111},{"$f":"tabula!H74","v":119},{"$f":"tabula!I74","v":67},{"$f":"tabula!J74","v":67},{"$f":"tabula!K74","v":40},{"$f":"tabula!L74","v":154},{"$f":"tabula!M74","v":114},{"$f":"tabula!N74","v":108},{"$f":"tabula!O74","v":961},{"$f":"tabula!P74","v":"04 min. 09,287"},{"$f":"tabula!Q74","v":48},{"$f":"tabula!R74","v":"05,193 sek."}]
[null,3,{"$f":"tabula!C75","v":68},{"$f":"tabula!D75","v":"Poļu mēbeles"},{"$f":"tabula!E75","v":71},{"$f":"tabula!F75","v":108},{"$f":"tabula!G75","v":89},{"$f":"tabula!H75","v":128},{"$f":"tabula!I75","v":115},{"$f":"tabula!J75","v":72},{"$f":"tabula!K75","v":67},{"$f":"tabula!L75","v":156},{"$f":"tabula!M75","v":54},{"$f":"tabula!N75","v":98},{"$f":"tabula!O75","v":958},{"$f":"tabula!P75","v":"08 min. 34,192"},{"$f":"tabula!Q75","v":55},{"$f":"tabula!R75","v":"09,349 sek."}]
[null,1,{"$f":"tabula!C76","v":69},{"$f":"tabula!D76","v":"Vāvere Veronika"},{"$f":"tabula!E76","v":108},{"$f":"tabula!F76","v":126},{"$f":"tabula!G76","v":91},{"$f":"tabula!H76","v":138},{"$f":"tabula!I76","v":114},{"$f":"tabula!J76","v":61},{"$f":"tabula!K76","v":50},{"$f":"tabula!L76","v":163},{"$f":"tabula!M76","v":65},{"$f":"tabula!N76","v":35},{"$f":"tabula!O76","v":951},{"$f":"tabula!P76","v":"04 min. 24,676"},{"$f":"tabula!Q76","v":49},{"$f":"tabula!R76","v":"05,402 sek."}]
[null,1,{"$f":"tabula!C77","v":70},{"$f":"tabula!D77","v":"BRUŅINIEKI"},{"$f":"tabula!E77","v":90},{"$f":"tabula!F77","v":92},{"$f":"tabula!G77","v":116},{"$f":"tabula!H77","v":118},{"$f":"tabula!I77","v":83},{"$f":"tabula!J77","v":52},{"$f":"tabula!K77","v":65},{"$f":"tabula!L77","v":144},{"$f":"tabula!M77","v":96},{"$f":"tabula!N77","v":87},{"$f":"tabula!O77","v":943},{"$f":"tabula!P77","v":"08 min. 26,026"},{"$f":"tabula!Q77","v":54},{"$f":"tabula!R77","v":"09,371 sek."}]
[null,3,{"$f":"tabula!C78","v":71},{"$f":"tabula!D78","v":"Dārza iela 1"},{"$f":"tabula!E78","v":75},{"$f":"tabula!F78","v":132},{"$f":"tabula!G78","v":68},{"$f":"tabula!H78","v":125},{"$f":"tabula!I78","v":105},{"$f":"tabula!J78","v":59},{"$f":"tabula!K78","v":51},{"$f":"tabula!L78","v":157},{"$f":"tabula!M78","v":73},{"$f":"tabula!N78","v":96},{"$f":"tabula!O78","v":941},{"$f":"tabula!P78","v":"07 min. 05,863"},{"$f":"tabula!Q78","v":54},{"$f":"tabula!R78","v":"07,886 sek."}]
[null,null,{"$f":"tabula!C79","v":72},{"$f":"tabula!D79","v":"Mimiko"},{"$f":"tabula!E79","v":113},{"$f":"tabula!F79","v":120},{"$f":"tabula!G79","v":119},{"$f":"tabula!H79","v":139},{"$f":"tabula!I79","v":110},{"$f":"tabula!J79","v":90},{"$f":"tabula!K79","v":-24},{"$f":"tabula!L79","v":124},{"$f":"tabula!M79","v":106},{"$f":"tabula!N79","v":44},{"$f":"tabula!O79","v":941},{"$f":"tabula!P79","v":"04 min. 11,056"},{"$f":"tabula!Q79","v":48},{"$f":"tabula!R79","v":"05,230 sek."}]
[null,null,{"$f":"tabula!C80","v":73},{"$f":"tabula!D80","v":"A&I"},{"$f":"tabula!E80","v":85},{"$f":"tabula!F80","v":148},{"$f":"tabula!G80","v":67},{"$f":"tabula!H80","v":142},{"$f":"tabula!I80","v":111},{"$f":"tabula!J80","v":87},{"$f":"tabula!K80","v":30},{"$f":"tabula!L80","v":123},{"$f":"tabula!M80","v":87},{"$f":"tabula!N80","v":60},{"$f":"tabula!O80","v":940},{"$f":"tabula!P80","v":"04 min. 12,950"},{"$f":"tabula!Q80","v":49},{"$f":"tabula!R80","v":"05,162 sek."}]
[null,null,{"$f":"tabula!C81","v":74},{"$f":"tabula!D81","v":"Koknesīši"},{"$f":"tabula!E81","v":73},{"$f":"tabula!F81","v":141},{"$f":"tabula!G81","v":109},{"$f":"tabula!H81","v":121},{"$f":"tabula!I81","v":128},{"$f":"tabula!J81","v":39},{"$f":"tabula!K81","v":-15},{"$f":"tabula!L81","v":162},{"$f":"tabula!M81","v":60},{"$f":"tabula!N81","v":113},{"$f":"tabula!O81","v":931},{"$f":"tabula!P81","v":"05 min. 19,916"},{"$f":"tabula!Q81","v":50},{"$f":"tabula!R81","v":"06,398 sek."}]
[null,null,{"$f":"tabula!C82","v":75},{"$f":"tabula!D82","v":"A.V."},{"$f":"tabula!E82","v":126},{"$f":"tabula!F82","v":155},{"$f":"tabula!G82","v":121},{"$f":"tabula!H82","v":113},{"$f":"tabula!I82","v":135},{"$f":"tabula!J82","v":65},{"$f":"tabula!K82","v":40},{"$f":"tabula!L82","v":90},{"$f":"tabula!M82","v":63},{"$f":"tabula!N82","v":22},{"$f":"tabula!O82","v":930},{"$f":"tabula!P82","v":"03 min. 00,586"},{"$f":"tabula!Q82","v":47},{"$f":"tabula!R82","v":"03,842 sek."}]
[null,null,{"$f":"tabula!C83","v":76},{"$f":"tabula!D83","v":"Spidumbumba"},{"$f":"tabula!E83","v":94},{"$f":"tabula!F83","v":138},{"$f":"tabula!G83","v":89},{"$f":"tabula!H83","v":107},{"$f":"tabula!I83","v":112},{"$f":"tabula!J83","v":84},{"$f":"tabula!K83","v":71},{"$f":"tabula!L83","v":73},{"$f":"tabula!M83","v":80},{"$f":"tabula!N83","v":80},{"$f":"tabula!O83","v":928},{"$f":"tabula!P83","v":"06 min. 30,556"},{"$f":"tabula!Q83","v":52},{"$f":"tabula!R83","v":"07,511 sek."}]
[null,null,{"$f":"tabula!C84","v":77},{"$f":"tabula!D84","v":"MIKO"},{"$f":"tabula!E84","v":61},{"$f":"tabula!F84","v":94},{"$f":"tabula!G84","v":67},{"$f":"tabula!H84","v":115},{"$f":"tabula!I84","v":123},{"$f":"tabula!J84","v":86},{"$f":"tabula!K84","v":65},{"$f":"tabula!L84","v":155},{"$f":"tabula!M84","v":58},{"$f":"tabula!N84","v":102},{"$f":"tabula!O84","v":926},{"$f":"tabula!P84","v":"09 min. 09,308"},{"$f":"tabula!Q84","v":54},{"$f":"tabula!R84","v":"10,172 sek."}]
[null,null,{"$f":"tabula!C85","v":78},{"$f":"tabula!D85","v":"OZO"},{"$f":"tabula!E85","v":82},{"$f":"tabula!F85","v":138},{"$f":"tabula!G85","v":43},{"$f":"tabula!H85","v":135},{"$f":"tabula!I85","v":113},{"$f":"tabula!J85","v":112},{"$f":"tabula!K85","v":39},{"$f":"tabula!L85","v":137},{"$f":"tabula!M85","v":44},{"$f":"tabula!N85","v":81},{"$f":"tabula!O85","v":924},{"$f":"tabula!P85","v":"03 min. 44,468"},{"$f":"tabula!Q85","v":47},{"$f":"tabula!R85","v":"04,776 sek."}]
[null,null,{"$f":"tabula!C86","v":79},{"$f":"tabula!D86","v":"Noway"},{"$f":"tabula!E86","v":77},{"$f":"tabula!F86","v":104},{"$f":"tabula!G86","v":77},{"$f":"tabula!H86","v":138},{"$f":"tabula!I86","v":137},{"$f":"tabula!J86","v":42},{"$f":"tabula!K86","v":56},{"$f":"tabula!L86","v":138},{"$f":"tabula!M86","v":54},{"$f":"tabula!N86","v":99},{"$f":"tabula!O86","v":922},{"$f":"tabula!P86","v":"06 min. 19,780"},{"$f":"tabula!Q86","v":50},{"$f":"tabula!R86","v":"07,596 sek."}]
[null,null,{"$f":"tabula!C87","v":80},{"$f":"tabula!D87","v":"Grebežē"},{"$f":"tabula!E87","v":100},{"$f":"tabula!F87","v":142},{"$f":"tabula!G87","v":68},{"$f":"tabula!H87","v":105},{"$f":"tabula!I87","v":114},{"$f":"tabula!J87","v":96},{"$f":"tabula!K87","v":82},{"$f":"tabula!L87","v":130},{"$f":"tabula!M87","v":51},{"$f":"tabula!N87","v":33},{"$f":"tabula!O87","v":921},{"$f":"tabula!P87","v":"05 min. 09,858"},{"$f":"tabula!Q87","v":49},{"$f":"tabula!R87","v":"06,324 sek."}]
[null,null,{"$f":"tabula!C88","v":81},{"$f":"tabula!D88","v":"IGG"},{"$f":"tabula!E88","v":69},{"$f":"tabula!F88","v":111},{"$f":"tabula!G88","v":78},{"$f":"tabula!H88","v":106},{"$f":"tabula!I88","v":105},{"$f":"tabula!J88","v":98},{"$f":"tabula!K88","v":30},{"$f":"tabula!L88","v":132},{"$f":"tabula!M88","v":83},{"$f":"tabula!N88","v":102},{"$f":"tabula!O88","v":914},{"$f":"tabula!P88","v":"09 min. 35,242"},{"$f":"tabula!Q88","v":55},{"$f":"tabula!R88","v":"10,459 sek."}]
[null,null,{"$f":"tabula!C89","v":82},{"$f":"tabula!D89","v":"Ruma Šķiņķis"},{"$f":"tabula!E89","v":82},{"$f":"tabula!F89","v":133},{"$f":"tabula!G89","v":140},{"$f":"tabula!H89","v":142},{"$f":"tabula!I89","v":93},{"$f":"tabula!J89","v":90},{"$f":"tabula!K89","v":8},{"$f":"tabula!L89","v":112},{"$f":"tabula!M89","v":80},{"$f":"tabula!N89","v":33},{"$f":"tabula!O89","v":913},{"$f":"tabula!P89","v":"05 min. 45,815"},{"$f":"tabula!Q89","v":48},{"$f":"tabula!R89","v":"07,204 sek."}]
[null,null,{"$f":"tabula!C90","v":83},{"$f":"tabula!D90","v":"Inspektors tīklā"},{"$f":"tabula!E90","v":44},{"$f":"tabula!F90","v":94},{"$f":"tabula!G90","v":69},{"$f":"tabula!H90","v":84},{"$f":"tabula!I90","v":121},{"$f":"tabula!J90","v":65},{"$f":"tabula!K90","v":51},{"$f":"tabula!L90","v":160},{"$f":"tabula!M90","v":85},{"$f":"tabula!N90","v":125},{"$f":"tabula!O90","v":898},{"$f":"tabula!P90","v":"11 min. 10,353"},{"$f":"tabula!Q90","v":58},{"$f":"tabula!R90","v":"11,558 sek."}]
[null,null,{"$f":"tabula!C91","v":84},{"$f":"tabula!D91","v":"Zem"},{"$f":"tabula!E91","v":98},{"$f":"tabula!F91","v":135},{"$f":"tabula!G91","v":132},{"$f":"tabula!H91","v":136},{"$f":"tabula!I91","v":134},{"$f":"tabula!J91","v":68},{"$f":"tabula!K91","v":-33},{"$f":"tabula!L91","v":119},{"$f":"tabula!M91","v":66},{"$f":"tabula!N91","v":35},{"$f":"tabula!O91","v":890},{"$f":"tabula!P91","v":"04 min. 24,535"},{"$f":"tabula!Q91","v":48},{"$f":"tabula!R91","v":"05,511 sek."}]
[null,null,{"$f":"tabula!C92","v":85},{"$f":"tabula!D92","v":"kadrs33"},{"$f":"tabula!E92","v":118},{"$f":"tabula!F92","v":107},{"$f":"tabula!G92","v":90},{"$f":"tabula!H92","v":136},{"$f":"tabula!I92","v":134},{"$f":"tabula!J92","v":43},{"$f":"tabula!K92","v":9},{"$f":"tabula!L92","v":146},{"$f":"tabula!M92","v":63},{"$f":"tabula!N92","v":43},{"$f":"tabula!O92","v":889},{"$f":"tabula!P92","v":"03 min. 21,855"},{"$f":"tabula!Q92","v":45},{"$f":"tabula!R92","v":"04,486 sek."}]
[null,null,{"$f":"tabula!C93","v":86},{"$f":"tabula!D93","v":"LBG"},{"$f":"tabula!E93","v":106},{"$f":"tabula!F93","v":143},{"$f":"tabula!G93","v":42},{"$f":"tabula!H93","v":112},{"$f":"tabula!I93","v":137},{"$f":"tabula!J93","v":108},{"$f":"tabula!K93","v":42},{"$f":"tabula!L93","v":117},{"$f":"tabula!M93","v":57},{"$f":"tabula!N93","v":22},{"$f":"tabula!O93","v":886},{"$f":"tabula!P93","v":"06 min. 42,297"},{"$f":"tabula!Q93","v":51},{"$f":"tabula!R93","v":"07,888 sek."}]
[null,null,{"$f":"tabula!C94","v":87},{"$f":"tabula!D94","v":"Preppy_Slayyy"},{"$f":"tabula!E94","v":110},{"$f":"tabula!F94","v":117},{"$f":"tabula!G94","v":72},{"$f":"tabula!H94","v":110},{"$f":"tabula!I94","v":108},{"$f":"tabula!J94","v":108},{"$f":"tabula!K94","v":24},{"$f":"tabula!L94","v":120},{"$f":"tabula!M94","v":52},{"$f":"tabula!N94","v":65},{"$f":"tabula!O94","v":886},{"$f":"tabula!P94","v":"04 min. 44,783"},{"$f":"tabula!Q94","v":47},{"$f":"tabula!R94","v":"06,059 sek."}]
[null,null,{"$f":"tabula!C95","v":88},{"$f":"tabula!D95","v":"Vīksnas"},{"$f":"tabula!E95","v":103},{"$f":"tabula!F95","v":153},{"$f":"tabula!G95","v":117},{"$f":"tabula!H95","v":108},{"$f":"tabula!I95","v":134},{"$f":"tabula!J95","v":61},{"$f":"tabula!K95","v":39},{"$f":"tabula!L95","v":88},{"$f":"tabula!M95","v":48},{"$f":"tabula!N95","v":33},{"$f":"tabula!O95","v":884},{"$f":"tabula!P95","v":"05 min. 17,425"},{"$f":"tabula!Q95","v":50},{"$f":"tabula!R95","v":"06,349 sek."}]
[null,null,{"$f":"tabula!C96","v":89},{"$f":"tabula!D96","v":"Mikrene"},{"$f":"tabula!E96","v":122},{"$f":"tabula!F96","v":76},{"$f":"tabula!G96","v":118},{"$f":"tabula!H96","v":136},{"$f":"tabula!I96","v":133},{"$f":"tabula!J96","v":78},{"$f":"tabula!K96","v":-21},{"$f":"tabula!L96","v":106},{"$f":"tabula!M96","v":81},{"$f":"tabula!N96","v":52},{"$f":"tabula!O96","v":881},{"$f":"tabula!P96","v":"04 min. 47,908"},{"$f":"tabula!Q96","v":47},{"$f":"tabula!R96","v":"06,126 sek."}]
[null,null,{"$f":"tabula!C97","v":90},{"$f":"tabula!D97","v":"Viens, divi, trīs, četri, pieci"},{"$f":"tabula!E97","v":77},{"$f":"tabula!F97","v":136},{"$f":"tabula!G97","v":91},{"$f":"tabula!H97","v":138},{"$f":"tabula!I97","v":112},{"$f":"tabula!J97","v":45},{"$f":"tabula!K97","v":-5},{"$f":"tabula!L97","v":136},{"$f":"tabula!M97","v":77},{"$f":"tabula!N97","v":71},{"$f":"tabula!O97","v":878},{"$f":"tabula!P97","v":"04 min. 55,291"},{"$f":"tabula!Q97","v":47},{"$f":"tabula!R97","v":"06,283 sek."}]
[null,null,{"$f":"tabula!C98","v":91},{"$f":"tabula!D98","v":"Ieviņi :)"},{"$f":"tabula!E98","v":76},{"$f":"tabula!F98","v":111},{"$f":"tabula!G98","v":110},{"$f":"tabula!H98","v":131},{"$f":"tabula!I98","v":111},{"$f":"tabula!J98","v":43},{"$f":"tabula!K98","v":37},{"$f":"tabula!L98","v":137},{"$f":"tabula!M98","v":49},{"$f":"tabula!N98","v":71},{"$f":"tabula!O98","v":876},{"$f":"tabula!P98","v":"06 min. 54,724"},{"$f":"tabula!Q98","v":49},{"$f":"tabula!R98","v":"08,464 sek."}]
[null,null,{"$f":"tabula!C99","v":92},{"$f":"tabula!D99","v":"Kurmenes iela"},{"$f":"tabula!E99","v":108},{"$f":"tabula!F99","v":120},{"$f":"tabula!G99","v":111},{"$f":"tabula!H99","v":136},{"$f":"tabula!I99","v":86},{"$f":"tabula!J99","v":63},{"$f":"tabula!K99","v":-15},{"$f":"tabula!L99","v":136},{"$f":"tabula!M99","v":73},{"$f":"tabula!N99","v":57},{"$f":"tabula!O99","v":875},{"$f":"tabula!P99","v":"05 min. 08,302"},{"$f":"tabula!Q99","v":47},{"$f":"tabula!R99","v":"06,560 sek."}]
[null,null,{"$f":"tabula!C100","v":93},{"$f":"tabula!D100","v":"Līču Republika"},{"$f":"tabula!E100","v":101},{"$f":"tabula!F100","v":121},{"$f":"tabula!G100","v":96},{"$f":"tabula!H100","v":94},{"$f":"tabula!I100","v":101},{"$f":"tabula!J100","v":35},{"$f":"tabula!K100","v":40},{"$f":"tabula!L100","v":160},{"$f":"tabula!M100","v":35},{"$f":"tabula!N100","v":90},{"$f":"tabula!O100","v":873},{"$f":"tabula!P100","v":"08 min. 15,546"},{"$f":"tabula!Q100","v":51},{"$f":"tabula!R100","v":"09,717 sek."}]
[null,null,{"$f":"tabula!C101","v":94},{"$f":"tabula!D101","v":"Zeiboti"},{"$f":"tabula!E101","v":109},{"$f":"tabula!F101","v":123},{"$f":"tabula!G101","v":65},{"$f":"tabula!H101","v":127},{"$f":"tabula!I101","v":110},{"$f":"tabula!J101","v":57},{"$f":"tabula!K101","v":37},{"$f":"tabula!L101","v":141},{"$f":"tabula!M101","v":49},{"$f":"tabula!N101","v":53},{"$f":"tabula!O101","v":871},{"$f":"tabula!P101","v":"05 min. 56,062"},{"$f":"tabula!Q101","v":48},{"$f":"tabula!R101","v":"07,418 sek."}]
[null,null,{"$f":"tabula!C102","v":95},{"$f":"tabula!D102","v":"Bergmaņi Laučos"},{"$f":"tabula!E102","v":51},{"$f":"tabula!F102","v":113},{"$f":"tabula!G102","v":111},{"$f":"tabula!H102","v":98},{"$f":"tabula!I102","v":87},{"$f":"tabula!J102","v":78},{"$f":"tabula!K102","v":24},{"$f":"tabula!L102","v":144},{"$f":"tabula!M102","v":94},{"$f":"tabula!N102","v":70},{"$f":"tabula!O102","v":870},{"$f":"tabula!P102","v":"07 min. 25,721"},{"$f":"tabula!Q102","v":50},{"$f":"tabula!R102","v":"08,914 sek."}]
[null,null,{"$f":"tabula!C103","v":96},{"$f":"tabula!D103","v":"Kaimiņi"},{"$f":"tabula!E103","v":110},{"$f":"tabula!F103","v":104},{"$f":"tabula!G103","v":65},{"$f":"tabula!H103","v":108},{"$f":"tabula!I103","v":111},{"$f":"tabula!J103","v":84},{"$f":"tabula!K103","v":32},{"$f":"tabula!L103","v":69},{"$f":"tabula!M103","v":65},{"$f":"tabula!N103","v":119},{"$f":"tabula!O103","v":867},{"$f":"tabula!P103","v":"06 min. 11,743"},{"$f":"tabula!Q103","v":48},{"$f":"tabula!R103","v":"07,745 sek."}]
[null,null,{"$f":"tabula!C104","v":97},{"$f":"tabula!D104","v":"Emīla banda"},{"$f":"tabula!E104","v":96},{"$f":"tabula!F104","v":132},{"$f":"tabula!G104","v":95},{"$f":"tabula!H104","v":94},{"$f":"tabula!I104","v":120},{"$f":"tabula!J104","v":88},{"$f":"tabula!K104","v":-11},{"$f":"tabula!L104","v":113},{"$f":"tabula!M104","v":62},{"$f":"tabula!N104","v":75},{"$f":"tabula!O104","v":864},{"$f":"tabula!P104","v":"06 min. 46,685"},{"$f":"tabula!Q104","v":49},{"$f":"tabula!R104","v":"08,300 sek."}]
[null,null,{"$f":"tabula!C105","v":98},{"$f":"tabula!D105","v":"Kaķu māja"},{"$f":"tabula!E105","v":88},{"$f":"tabula!F105","v":170},{"$f":"tabula!G105","v":79},{"$f":"tabula!H105","v":119},{"$f":"tabula!I105","v":104},{"$f":"tabula!J105","v":80},{"$f":"tabula!K105","v":-14},{"$f":"tabula!L105","v":142},{"$f":"tabula!M105","v":53},{"$f":"tabula!N105","v":42},{"$f":"tabula!O105","v":863},{"$f":"tabula!P105","v":"05 min. 11,556"},{"$f":"tabula!Q105","v":48},{"$f":"tabula!R105","v":"06,491 sek."}]
[null,null,{"$f":"tabula!C106","v":99},{"$f":"tabula!D106","v":"Kristāļuks"},{"$f":"tabula!E106","v":120},{"$f":"tabula!F106","v":96},{"$f":"tabula!G106","v":123},{"$f":"tabula!H106","v":101},{"$f":"tabula!I106","v":110},{"$f":"tabula!J106","v":76},{"$f":"tabula!K106","v":14},{"$f":"tabula!L106","v":108},{"$f":"tabula!M106","v":54},{"$f":"tabula!N106","v":58},{"$f":"tabula!O106","v":860},{"$f":"tabula!P106","v":"06 min. 30,627"},{"$f":"tabula!Q106","v":48},{"$f":"tabula!R106","v":"08,138 sek."}]
[null,null,{"$f":"tabula!C107","v":100},{"$f":"tabula!D107","v":"Ko mēs te dar?"},{"$f":"tabula!E107","v":66},{"$f":"tabula!F107","v":101},{"$f":"tabula!G107","v":105},{"$f":"tabula!H107","v":84},{"$f":"tabula!I107","v":86},{"$f":"tabula!J107","v":91},{"$f":"tabula!K107","v":80},{"$f":"tabula!L107","v":139},{"$f":"tabula!M107","v":58},{"$f":"tabula!N107","v":49},{"$f":"tabula!O107","v":859},{"$f":"tabula!P107","v":"07 min. 26,497"},{"$f":"tabula!Q107","v":49},{"$f":"tabula!R107","v":"09,112 sek."}]

{"sheet":"101-200","index":3,"n_rows":70,"n_cols":18,"rows_kept":70,"cut":false,"hidden":false,"merged":[[2,17,5,17],[4,14,5,14],[5,2,5,3],[2,1,4,1],[2,2,4,2],[2,3,3,3],[2,14,3,14],[2,15,5,15],[2,16,4,16]]}
[]
[null,null,{"$f":"tabula!C2","v":"\"Ģimenes viktorīna\" (tiešsaistē / vebinārā) | 2025.gada 6.decembris"}]
[null,"Grupa","#","Dalībnieks | Raunds | Tēma ",1,2,3,4,5,6,7,8,9,10,"KOPĀ","Laiks kopā uz pareizajām atbildēm","Pareizās atbildes (max)","Vid.laiks uz 1 pareizo atb."]
[null,null,null,null,{"$f":"tabula!E4","v":"Pavediens: Lielie reptiļi"},{"$f":"tabula!F4","v":"Ekspresis"},{"$f":"tabula!G4","v":"Supervaroņu pasaule"},{"$f":"tabula!H4","v":"Mūzikas žanri un popkultūra"},{"$f":"tabula!I4","v":"Zinātne"},{"$f":"tabula!J4","v":"Latvija"},{"$f":"tabula!K4","v":"Risks"},{"$f":"tabula!L4","v":"Kas kopīgs?"},{"$f":"tabula!M4","v":"Mākslīgais intelekts"},{"$f":"tabula!N4","v":"Audio"}]
[null,null,null,"Max punkti raundā (bez bonusiem) ",{"$f":"tabula!E5","v":150},{"$f":"tabula!F5","v":216},{"$f":"tabula!G5","v":150},{"$f":"tabula!H5","v":150},{"$f":"tabula!I5","v":150},{"$f":"tabula!J5","v":150},{"$f":"tabula!K5","v":120},{"$f":"tabula!L5","v":205},{"$f":"tabula!M5","v":150},{"$f":"tabula!N5","v":150},{"$f":"SUM(E5:N5)","v":1591}]
[null,null,"Jautājumi",null,{"$f":"tabula!E6","v":6},{"$f":"tabula!F6","v":12},{"$f":"tabula!G6","v":6},{"$f":"tabula!H6","v":6},{"$f":"tabula!I6","v":6},{"$f":"tabula!J6","v":6},{"$f":"tabula!K6","v":6},{"$f":"tabula!L6","v":8},{"$f":"tabula!M6","v":6},{"$f":"tabula!N6","v":6},null,null,{"$f":"SUM(E6:N6)","v":68}]
[null,null,null,"Vidējie rādītāji",{"$f":"tabula!E7","v":90.3},{"$f":"tabula!F7","v":115},{"$f":"tabula!G7","v":97.2},{"$f":"tabula!H7","v":116.7},{"$f":"tabula!I7","v":109.2},{"$f":"tabula!J7","v":70.8},{"$f":"tabula!K7","v":28.9},{"$f":"tabula!L7","v":127.5},{"$f":"tabula!M7","v":66},{"$f":"tabula!N7","v":67.7},{"$f":"tabula!O7","v":889.3},{"$f":"tabula!P7","v":"-"},{"$f":"tabula!Q7","v":49.1},{"$f":"tabula!R7","v":"-"}]
[null,3,{"$f":"tabula!C108","v":101},{"$f":"tabula!D108","v":"Smadzeņu Šašliks"},{"$f":"tabula!E108","v":113},{"$f":"tabula!F108","v":85},{"$f":"tabula!G108","v":143},{"$f":"tabula!H108","v":110},{"$f":"tabula!I108","v":79},{"$f":"tabula!J108","v":58},{"$f":"tabula!K108","v":75},{"$f":"tabula!L108","v":91},{"$f":"tabula!M108","v":46},{"$f":"tabula!N108","v":58},{"$f":"tabula!O108","v":858},{"$f":"tabula!P108","v":"06 min. 36,406"},{"$f":"tabula!Q108","v":47},{"$f":"tabula!R108","v":"08,434 sek."}]
[null,1,{"$f":"tabula!C109","v":102},{"$f":"tabula!D109","v":"Zaļās skujas"},{"$f":"tabula!E109","v":124},{"$f":"tabula!F109","v":87},{"$f":"tabula!G109","v":104},{"$f":"tabula!H109","v":104},{"$f":"tabula!I109","v":130},{"$f":"tabula!J109","v":55},{"$f":"tabula!K109","v":22},{"$f":"tabula!L109","v":130},{"$f":"tabula!M109","v":24},{"$f":"tabula!N109","v":76},{"$f":"tabula!O109","v":856},{"$f":"tabula!P109","v":"07 min. 00,015"},{"$f":"tabula!Q109","v":48},{"$f":"tabula!R109","v":"08,750 sek."}]
[null,1,{"$f":"tabula!C110","v":103},{"$f":"tabula!D110","v":"Blumfeldi"},{"$f":"tabula!E110","v":73},{"$f":"tabula!F110","v":117},{"$f":"tabula!G110","v":87},{"$f":"tabula!H110","v":108},{"$f":"tabula!I110","v":128},{"$f":"tabula!J110","v":88},{"$f":"tabula!K110","v":67},{"$f":"tabula!L110","v":102},{"$f":"tabula!M110","v":53},{"$f":"tabula!N110","v":24},{"$f":"tabula!O110","v":847},{"$f":"tabula!P110","v":"06 min. 38,479"},{"$f":"tabula!Q110","v":48},{"$f":"tabula!R110","v":"08,302 sek."}]
[null,3,{"$f":"tabula!C111","v":104},{"$f":"tabula!D111","v":"Jēkaba banda"},{"$f":"tabula!E111","v":91},{"$f":"tabula!F111","v":76},{"$f":"tabula!G111","v":84},{"$f":"tabula!H111","v":114},{"$f":"tabula!I111","v":125},{"$f":"tabula!J111","v":62},{"$f":"tabula!K111","v":27},{"$f":"tabula!L111","v":136},{"$f":"tabula!M111","v":52},{"$f":"tabula!N111","v":79},{"$f":"tabula!O111","v":846},{"$f":"tabula!P111","v":"10 min. 41,812"},{"$f":"tabula!Q111","v":53},{"$f":"tabula!R111","v":"12,110 sek."}]
[null,1,{"$f":"tabula!C112","v":105},{"$f":"tabula!D112","v":"DIHS"},{"$f":"tabula!E112","v":88},{"$f":"tabula!F112","v":110},{"$f":"tabula!G112","v":102},{"$f":"tabula!H112","v":125},{"$f":"tabula!I112","v":110},{"$f":"tabula!J112","v":75},{"$f":"tabula!K112","v":-22},{"$f":"tabula!L112","v":86},{"$f":"tabula!M112","v":92},{"$f":"tabula!N112","v":79},{"$f":"tabula!O112","v":845},{"$f":"tabula!P112","v":"06 min. 47,630"},{"$f":"tabula!Q112","v":48},{"$f":"tabula!R112","v":"08,492 sek."}]
[null,3,{"$f":"tabula!C113","v":106},{"$f":"tabula!D113","v":"Kas ira"},{"$f":"tabula!E113","v":108},{"$f":"tabula!F113","v":105},{"$f":"tabula!G113","v":94},{"$f":"tabula!H113","v":133},{"$f":"tabula!I113","v":79},{"$f":"tabula!J113","v":41},{"$f":"tabula!K113","v":58},{"$f":"tabula!L113","v":108},{"$f":"tabula!M113","v":56},{"$f":"tabula!N113","v":59},{"$f":"tabula!O113","v":841},{"$f":"tabula!P113","v":"06 min. 03,290"},{"$f":"tabula!Q113","v":46},{"$f":"tabula!R113","v":"07,898 sek."}]
[null,1,{"$f":"tabula!C114","v":107},{"$f":"tabula!D114","v":"Čipmoki"},{"$f":"tabula!E114","v":111},{"$f":"tabula!F114","v":136},{"$f":"tabula!G114","v":108},{"$f":"tabula!H114","v":87},{"$f":"tabula!I114","v":109},{"$f":"tabula!J114","v":40},{"$f":"tabula!K114","v":15},{"$f":"tabula!L114","v":137},{"$f":"tabula!M114","v":50},{"$f":"tabula!N114","v":45},{"$f":"tabula!O114","v":838},{"$f":"tabula!P114","v":"08 min. 33,105"},{"$f":"tabula!Q114","v":52},{"$f":"tabula!R114","v":"09,867 sek."}]
[null,1,{"$f":"tabula!C115","v":108},{"$f":"tabula!D115","v":"Laimīgās dzērves"},{"$f":"tabula!E115","v":128},{"$f":"tabula!F115","v":112},{"$f":"tabula!G115","v":94},{"$f":"tabula!H115","v":90},{"$f":"tabula!I115","v":62},{"$f":"tabula!J115","v":69},{"$f":"tabula!K115","v":34},{"$f":"tabula!L115","v":130},{"$f":"tabula!M115","v":62},{"$f":"tabula!N115","v":57},{"$f":"tabula!O115","v":838},{"$f":"tabula!P115","v":"03 min. 49,902"},{"$f":"tabula!Q115","v":43},{"$f":"tabula!R115","v":"05,347 sek."}]
[null,2,{"$f":"tabula!C116","v":109},{"$f":"tabula!D116","v":"Četri R"},{"$f":"tabula!E116","v":129},{"$f":"tabula!F116","v":117},{"$f":"tabula!G116","v":67},{"$f":"tabula!H116","v":102},{"$f":"tabula!I116","v":119},{"$f":"tabula!J116","v":84},{"$f":"tabula!K116","v":30},{"$f":"tabula!L116","v":129},{"$f":"tabula!M116","v":41},{"$f":"tabula!N116","v":19},{"$f":"tabula!O116","v":837},{"$f":"tabula!P116","v":"08 min. 20,424"},{"$f":"tabula!Q116","v":50},{"$f":"tabula!R116","v":"10,008 sek."}]
[null,3,{"$f":"tabula!C117","v":110},{"$f":"tabula!D117","v":"LĪDAKAS"},{"$f":"tabula!E117","v":103},{"$f":"tabula!F117","v":79},{"$f":"tabula!G117","v":66},{"$f":"tabula!H117","v":125},{"$f":"tabula!I117","v":104},{"$f":"tabula!J117","v":74},{"$f":"tabula!K117","v":11},{"$f":"tabula!L117","v":145},{"$f":"tabula!M117","v":70},{"$f":"tabula!N117","v":58},{"$f":"tabula!O117","v":835},{"$f":"tabula!P117","v":"07 min. 03,254"},{"$f":"tabula!Q117","v":48},{"$f":"tabula!R117","v":"08,818 sek."}]
[null,2,{"$f":"tabula!C118","v":111},{"$f":"tabula!D118","v":"Asarisi"},{"$f":"tabula!E118","v":94},{"$f":"tabula!F118","v":122},{"$f":"tabula!G118","v":94},{"$f":"tabula!H118","v":112},{"$f":"tabula!I118","v":110},{"$f":"tabula!J118","v":46},{"$f":"tabula!K118","v":19},{"$f":"tabula!L118","v":95},{"$f":"tabula!M118","v":75},{"$f":"tabula!N118","v":55},{"$f":"tabula!O118","v":822},{"$f":"tabula!P118","v":"03 min. 53,355"},{"$f":"tabula!Q118","v":43},{"$f":"tabula!R118","v":"05,427 sek."}]
[null,2,{"$f":"tabula!C119","v":112},{"$f":"tabula!D119","v":"User"},{"$f":"tabula!E119","v":78},{"$f":"tabula!F119","v":117},{"$f":"tabula!G119","v":67},{"$f":"tabula!H119","v":108},{"$f":"tabula!I119","v":116},{"$f":"tabula!J119","v":77},{"$f":"tabula!K119","v":31},{"$f":"tabula!L119","v":162},{"$f":"tabula!M119","v":50},{"$f":"tabula!N119","v":14},{"$f":"tabula!O119","v":820},{"$f":"tabula!P119","v":"07 min. 47,976"},{"$f":"tabula!Q119","v":50},{"$f":"tabula!R119","v":"09,360 sek."}]
[null,2,{"$f":"tabula!C120","v":113},{"$f":"tabula!D120","v":"STELLA"},{"$f":"tabula!E120","v":89},{"$f":"tabula!F120","v":71},{"$f":"tabula!G120","v":110},{"$f":"tabula!H120","v":127},{"$f":"tabula!I120","v":91},{"$f":"tabula!J120","v":58},{"$f":"tabula!K120","v":1},{"$f":"tabula!L120","v":139},{"$f":"tabula!M120","v":58},{"$f":"tabula!N120","v":74},{"$f":"tabula!O120","v":818},{"$f":"tabula!P120","v":"05 min. 50,106"},{"$f":"tabula!Q120","v":45},{"$f":"tabula!R120","v":"07,780 sek."}]
[null,3,{"$f":"tabula!C121","v":114},{"$f":"tabula!D121","v":"Kosmonauti"},{"$f":"tabula!E121","v":89},{"$f":"tabula!F121","v":115},{"$f":"tabula!G121","v":91},{"$f":"tabula!H121","v":103},{"$f":"tabula!I121","v":125},{"$f":"tabula!J121","v":70},{"$f":"tabula!K121","v":43},{"$f":"tabula!L121","v":91},{"$f":"tabula!M121","v":57},{"$f":"tabula!N121","v":33},{"$f":"tabula!O121","v":817},{"$f":"tabula!P121","v":"04 min. 41,995"},{"$f":"tabula!Q121","v":44},{"$f":"tabula!R121","v":"06,409 sek."}]
[null,1,{"$f":"tabula!C122","v":115},{"$f":"tabula!D122","v":"Darznieks"},{"$f":"tabula!E122","v":76},{"$f":"tabula!F122","v":109},{"$f":"tabula!G122","v":93},{"$f":"tabula!H122","v":135},{"$f":"tabula!I122","v":114},{"$f":"tabula!J122","v":45},{"$f":"tabula!K122","v":6},{"$f":"tabula!L122","v":119},{"$f":"tabula!M122","v":53},{"$f":"tabula!N122","v":66},{"$f":"tabula!O122","v":816},{"$f":"tabula!P122","v":"06 min. 13,639"},{"$f":"tabula!Q122","v":47},{"$f":"tabula!R122","v":"07,950 sek."}]
[null,3,{"$f":"tabula!C123","v":116},{"$f":"tabula!D123","v":"E-komanda"},{"$f":"tabula!E123","v":69},{"$f":"tabula!F123","v":90},{"$f":"tabula!G123","v":85},{"$f":"tabula!H123","v":116},{"$f":"tabula!I123","v":131},{"$f":"tabula!J123","v":58},{"$f":"tabula!K123","v":-21},{"$f":"tabula!L123","v":134},{"$f":"tabula!M123","v":88},{"$f":"tabula!N123","v":65},{"$f":"tabula!O123","v":815},{"$f":"tabula!P123","v":"06 min. 27,954"},{"$f":"tabula!Q123","v":47},{"$f":"tabula!R123","v":"08,254 sek."}]
[null,3,{"$f":"tabula!C124","v":117},{"$f":"tabula!D124","v":"Alķīmiķe"},{"$f":"tabula!E124","v":48},{"$f":"tabula!F124","v":110},{"$f":"tabula!G124","v":85},{"$f":"tabula!H124","v":121},{"$f":"tabula!I124","v":91},{"$f":"tabula!J124","v":80},{"$f":"tabula!K124","v":51},{"$f":"tabula!L124","v":149},{"$f":"tabula!M124","v":43},{"$f":"tabula!N124","v":32},{"$f":"tabula!O124","v":810},{"$f":"tabula!P124","v":"08 min. 26,548"},{"$f":"tabula!Q124","v":48},{"$f":"tabula!R124","v":"10,553 sek."}]
[null,3,{"$f":"tabula!C125","v":118},{"$f":"tabula!D125","v":"Milleri"},{"$f":"tabula!E125","v":55},{"$f":"tabula!F125","v":109},{"$f":"tabula!G125","v":88},{"$f":"tabula!H125","v":107},{"$f":"tabula!I125","v":89},{"$f":"tabula!J125","v":57},{"$f":"tabula!K125","v":41},{"$f":"tabula!L125","v":143},{"$f":"tabula!M125","v":72},{"$f":"tabula!N125","v":47},{"$f":"tabula!O125","v":808},{"$f":"tabula!P125","v":"06 min. 25,107"},{"$f":"tabula!Q125","v":46},{"$f":"tabula!R125","v":"08,372 sek."}]
[null,1,{"$f":"tabula!C126","v":119},{"$f":"tabula!D126","v":"Lindaaaa"},{"$f":"tabula!E126","v":68},{"$f":"tabula!F126","v":132},{"$f":"tabula!G126","v":117},{"$f":"tabula!H126","v":94},{"$f":"tabula!I126","v":68},{"$f":"tabula!J126","v":67},{"$f":"tabula!K126","v":-28},{"$f":"tabula!L126","v":114},{"$f":"tabula!M126","v":106},{"$f":"tabula!N126","v":67},{"$f":"tabula!O126","v":805},{"$f":"tabula!P126","v":"02 min. 25,390"},{"$f":"tabula!Q126","v":41},{"$f":"tabula!R126","v":"03,546 sek."}]
[null,1,{"$f":"tabula!C127","v":120},{"$f":"tabula!D127","v":"Saukas_rosols"},{"$f":"tabula!E127","v":65},{"$f":"tabula!F127","v":110},{"$f":"tabula!G127","v":105},{"$f":"tabula!H127","v":111},{"$f":"tabula!I127","v":112},{"$f":"tabula!J127","v":86},{"$f":"tabula!K127","v":-8},{"$f":"tabula!L127","v":71},{"$f":"tabula!M127","v":83},{"$f":"tabula!N127","v":69},{"$f":"tabula!O127","v":804},{"$f":"tabula!P127","v":"07 min. 13,845"},{"$f":"tabula!Q127","v":47},{"$f":"tabula!R127","v":"09,231 sek."}]
[null,3,{"$f":"tabula!C128","v":121},{"$f":"tabula!D128","v":"Lepnie nūģi"},{"$f":"tabula!E128","v":96},{"$f":"tabula!F128","v":88},{"$f":"tabula!G128","v":117},{"$f":"tabula!H128","v":110},{"$f":"tabula!I128","v":108},{"$f":"tabula!J128","v":80},{"$f":"tabula!K128","v":17},{"$f":"tabula!L128","v":95},{"$f":"tabula!M128","v":41},{"$f":"tabula!N128","v":45},{"$f":"tabula!O128","v":797},{"$f":"tabula!P128","v":"06 min. 16,495"},{"$f":"tabula!Q128","v":46},{"$f":"tabula!R128","v":"08,185 sek."}]
[null,null,{"$f":"tabula!C129","v":122},{"$f":"tabula!D129","v":"KIMBA"},{"$f":"tabula!E129","v":97},{"$f":"tabula!F129","v":143},{"$f":"tabula!G129","v":82},{"$f":"tabula!H129","v":133},{"$f":"tabula!I129","v":111},{"$f":"tabula!J129","v":40},{"$f":"tabula!K129","v":-13},{"$f":"tabula!L129","v":101},{"$f":"tabula!M129","v":63},{"$f":"tabula!N129","v":39},{"$f":"tabula!O129","v":796},{"$f":"tabula!P129","v":"05 min. 45,039"},{"$f":"tabula!Q129","v":46},{"$f":"tabula!R129","v":"07,501 sek."}]
[null,null,{"$f":"tabula!C130","v":123},{"$f":"tabula!D130","v":"Meistariņi"},{"$f":"tabula!E130","v":34},{"$f":"tabula!F130","v":129},{"$f":"tabula!G130","v":103},{"$f":"tabula!H130","v":96},{"$f":"tabula!I130","v":93},{"$f":"tabula!J130","v":46},{"$f":"tabula!K130","v":51},{"$f":"tabula!L130","v":135},{"$f":"tabula!M130","v":73},{"$f":"tabula!N130","v":32},{"$f":"tabula!O130","v":792},{"$f":"tabula!P130","v":"08 min. 15,257"},{"$f":"tabula!Q130","v":48},{"$f":"tabula!R130","v":"10,318 sek."}]
[null,null,{"$f":"tabula!C131","v":124},{"$f":"tabula!D131","v":"Chiwis"},{"$f":"tabula!E131","v":97},{"$f":"tabula!F131","v":75},{"$f":"tabula!G131","v":114},{"$f":"tabula!H131","v":133},{"$f":"tabula!I131","v":128},{"$f":"tabula!J131","v":82},{"$f":"tabula!K131","v":-20},{"$f":"tabula!L131","v":67},{"$f":"tabula!M131","v":46},{"$f":"tabula!N131","v":67},{"$f":"tabula!O131","v":789},{"$f":"tabula!P131","v":"03 min. 47,448"},{"$f":"tabula!Q131","v":42},{"$f":"tabula!R131","v":"05,415 sek."}]
[null,null,{"$f":"tabula!C132","v":125},{"$f":"tabula!D132","v":"Rubeņielas mafija"},{"$f":"tabula!E132","v":119},{"$f":"tabula!F132","v":64},{"$f":"tabula!G132","v":94},{"$f":"tabula!H132","v":129},{"$f":"tabula!I132","v":101},{"$f":"tabula!J132","v":81},{"$f":"tabula!K132","v":-8},{"$f":"tabula!L132","v":94},{"$f":"tabula!M132","v":51},{"$f":"tabula!N132","v":61},{"$f":"tabula!O132","v":786},{"$f":"tabula!P132","v":"08 min. 05,175"},{"$f":"tabula!Q132","v":47},{"$f":"tabula!R132","v":"10,323 sek."}]
[null,null,{"$f":"tabula!C133","v":126},{"$f":"tabula!D133","v":"Plūmītes"},{"$f":"tabula!E133","v":60},{"$f":"tabula!F133","v":125},{"$f":"tabula!G133","v":75},{"$f":"tabula!H133","v":89},{"$f":"tabula!I133","v":130},{"$f":"tabula!J133","v":32},{"$f":"tabula!K133","v":12},{"$f":"tabula!L133","v":141},{"$f":"tabula!M133","v":94},{"$f":"tabula!N133","v":20},{"$f":"tabula!O133","v":778},{"$f":"tabula!P133","v":"05 min. 12,753"},{"$f":"tabula!Q133","v":44},{"$f":"tabula!R133","v":"07,108 sek."}]
[null,null,{"$f":"tabula!C134","v":127},{"$f":"tabula!D134","v":"Raudas nak"},{"$f":"tabula!E134","v":85},{"$f":"tabula!F134","v":39},{"$f":"tabula!G134","v":113},{"$f":"tabula!H134","v":107},{"$f":"tabula!I134","v":82},{"$f":"tabula!J134","v":70},{"$f":"tabula!K134","v":36},{"$f":"tabula!L134","v":102},{"$f":"tabula!M134","v":93},{"$f":"tabula!N134","v":49},{"$f":"tabula!O134","v":776},{"$f":"tabula!P134","v":"07 min. 55,941"},{"$f":"tabula!Q134","v":44},{"$f":"tabula!R134","v":"10,817 sek."}]
[null,null,{"$f":"tabula!C135","v":128},{"$f":"tabula!D135","v":"Marchy"},{"$f":"tabula!E135","v":58},{"$f":"tabula!F135","v":107},{"$f":"tabula!G135","v":120},{"$f":"tabula!H135","v":113},{"$f":"tabula!I135","v":98},{"$f":"tabula!J135","v":86},{"$f":"tabula!K135","v":-31},{"$f":"tabula!L135","v":89},{"$f":"tabula!M135","v":94},{"$f":"tabula!N135","v":41},{"$f":"tabula!O135","v":775},{"$f":"tabula!P135","v":"04 min. 12,275"},{"$f":"tabula!Q135","v":43},{"$f":"tabula!R135","v":"05,867 sek."}]
[null,null,{"$f":"tabula!C136","v":129},{"$f":"tabula!D136","v":"BeeFam"},{"$f":"tabula!E136","v":44},{"$f":"tabula!F136","v":86},{"$f":"tabula!G136","v":40},{"$f":"tabula!H136","v":108},{"$f":"tabula!I136","v":120},{"$f":"tabula!J136","v":72},{"$f":"tabula!K136","v":18},{"$f":"tabula!L136","v":160},{"$f":"tabula!M136","v":72},{"$f":"tabula!N136","v":52},{"$f":"tabula!O136","v":772},{"$f":"tabula!P136","v":"08 min. 36,735"},{"$f":"tabula!Q136","v":48},{"$f":"tabula!R136","v":"10,765 sek."}]
[null,null,{"$f":"tabula!C137","v":130},{"$f":"tabula!D137","v":"Kalniņu blice"},{"$f":"tabula!E137","v":104},{"$f":"tabula!F137","v":113},{"$f":"tabula!G137","v":62},{"$f":"tabula!H137","v":131},{"$f":"tabula!I137","v":113},{"$f":"tabula!J137","v":90},{"$f":"tabula!K137","v":-31},{"$f":"tabula!L137","v":71},{"$f":"tabula!M137","v":39},{"$f":"tabula!N137","v":80},{"$f":"tabula!O137","v":772},{"$f":"tabula!P137","v":"04 min. 57,014"},{"$f":"tabula!Q137","v":43},{"$f":"tabula!R137","v":"06,907 sek."}]
[null,null,{"$f":"tabula!C138","v":131},{"$f":"tabula!D138","v":"Tikai mieru!"},{"$f":"tabula!E138","v":107},{"$f":"tabula!F138","v":98},{"$f":"tabula!G138","v":115},{"$f":"tabula!H138","v":100},{"$f":"tabula!I138","v":104},{"$f":"tabula!J138","v":69},{"$f":"tabula!K138","v":-12},{"$f":"tabula!L138","v":107},{"$f":"tabula!M138","v":30},{"$f":"tabula!N138","v":48},{"$f":"tabula!O138","v":766},{"$f":"tabula!P138","v":"05 min. 32,950"},{"$f":"tabula!Q138","v":44},{"$f":"tabula!R138","v":"07,567 sek."}]
[null,null,{"$f":"tabula!C139","v":132},{"$f":"tabula!D139","v":"Kultūrbomži"},{"$f":"tabula!E139","v":51},{"$f":"tabula!F139","v":72},{"$f":"tabula!G139","v":93},{"$f":"tabula!H139","v":104},{"$f":"tabula!I139","v":119},{"$f":"tabula!J139","v":78},{"$f":"tabula!K139","v":45},{"$f":"tabula!L139","v":104},{"$f":"tabula!M139","v":62},{"$f":"tabula!N139","v":37},{"$f":"tabula!O139","v":765},{"$f":"tabula!P139","v":"07 min. 31,546"},{"$f":"tabula!Q139","v":45},{"$f":"tabula!R139","v":"10,034 sek."}]
[null,null,{"$f":"tabula!C140","v":133},{"$f":"tabula!D140","v":"Skaņkalne"},{"$f":"tabula!E140","v":41},{"$f":"tabula!F140","v":124},{"$f":"tabula!G140","v":115},{"$f":"tabula!H140","v":134},{"$f":"tabula!I140","v":67},{"$f":"tabula!J140","v":43},{"$f":"tabula!K140","v":6},{"$f":"tabula!L140","v":134},{"$f":"tabula!M140","v":67},{"$f":"tabula!N140","v":34},{"$f":"tabula!O140","v":765},{"$f":"tabula!P140","v":"04 min. 31,938"},{"$f":"tabula!Q140","v":42},{"$f":"tabula!R140","v":"06,475 sek."}]
[null,null,{"$f":"tabula!C141","v":134},{"$f":"tabula!D141","v":"Vecie ērmi"},{"$f":"tabula!E141","v":77},{"$f":"tabula!F141","v":96},{"$f":"tabula!G141","v":69},{"$f":"tabula!H141","v":72},{"$f":"tabula!I141","v":112},{"$f":"tabula!J141","v":80},{"$f":"tabula!K141","v":38},{"$f":"tabula!L141","v":122},{"$f":"tabula!M141","v":33},{"$f":"tabula!N141","v":60},{"$f":"tabula!O141","v":759},{"$f":"tabula!P141","v":"10 min. 10,304"},{"$f":"tabula!Q141","v":49},{"$f":"tabula!R141","v":"12,455 sek."}]
[null,null,{"$f":"tabula!C142","v":135},{"$f":"tabula!D142","v":"Blusas"},{"$f":"tabula!E142","v":52},{"$f":"tabula!F142","v":53},{"$f":"tabula!G142","v":110},{"$f":"tabula!H142","v":105},{"$f":"tabula!I142","v":93},{"$f":"tabula!J142","v":59},{"$f":"tabula!K142","v":53},{"$f":"tabula!L142","v":111},{"$f":"tabula!M142","v":58},{"$f":"tabula!N142","v":62},{"$f":"tabula!O142","v":756},{"$f":"tabula!P142","v":"10 min. 52,835"},{"$f":"tabula!Q142","v":49},{"$f":"tabula!R142","v":"13,323 sek."}]
[null,null,{"$f":"tabula!C143","v":136},{"$f":"tabula!D143","v":"MOPŠI&CO"},{"$f":"tabula!E143","v":104},{"$f":"tabula!F143","v":59},{"$f":"tabula!G143","v":65},{"$f":"tabula!H143","v":118},{"$f":"tabula!I143","v":118},{"$f":"tabula!J143","v":27},{"$f":"tabula!K143","v":26},{"$f":"tabula!L143","v":106},{"$f":"tabula!M143","v":53},{"$f":"tabula!N143","v":76},{"$f":"tabula!O143","v":752},{"$f":"tabula!P143","v":"08 min. 52,593"},{"$f":"tabula!Q143","v":47},{"$f":"tabula!R143","v":"11,332 sek."}]
[null,null,{"$f":"tabula!C144","v":137},{"$f":"tabula!D144","v":"Slidkalnini"},{"$f":"tabula!E144","v":58},{"$f":"tabula!F144","v":61},{"$f":"tabula!G144","v":116},{"$f":"tabula!H144","v":119},{"$f":"tabula!I144","v":97},{"$f":"tabula!J144","v":80},{"$f":"tabula!K144","v":0},{"$f":"tabula!L144","v":123},{"$f":"tabula!M144","v":38},{"$f":"tabula!N144","v":57},{"$f":"tabula!O144","v":749},{"$f":"tabula!P144","v":"08 min. 00,577"},{"$f":"tabula!Q144","v":45},{"$f":"tabula!R144","v":"10,679 sek."}]
[null,null,{"$f":"tabula!C145","v":138},{"$f":"tabula!D145","v":"Supa-dupa-nice"},{"$f":"tabula!E145","v":88},{"$f":"tabula!F145","v":93},{"$f":"tabula!G145","v":113},{"$f":"tabula!H145","v":90},{"$f":"tabula!I145","v":93},{"$f":"tabula!J145","v":69},{"$f":"tabula!K145","v":-29},{"$f":"tabula!L145","v":137},{"$f":"tabula!M145","v":61},{"$f":"tabula!N145","v":22},{"$f":"tabula!O145","v":737},{"$f":"tabula!P145","v":"02 min. 56,275"},{"$f":"tabula!Q145","v":38},{"$f":"tabula!R145","v":"04,639 sek."}]
[null,null,{"$f":"tabula!C146","v":139},{"$f":"tabula!D146","v":"Ābolu bāzes"},{"$f":"tabula!E146","v":90},{"$f":"tabula!F146","v":90},{"$f":"tabula!G146","v":85},{"$f":"tabula!H146","v":101},{"$f":"tabula!I146","v":85},{"$f":"tabula!J146","v":41},{"$f":"tabula!K146","v":46},{"$f":"tabula!L146","v":112},{"$f":"tabula!M146","v":37},{"$f":"tabula!N146","v":38},{"$f":"tabula!O146","v":725},{"$f":"tabula!P146","v":"07 min. 09,474"},{"$f":"tabula!Q146","v":44},{"$f":"tabula!R146","v":"09,761 sek."}]
[null,null,{"$f":"tabula!C147","v":140},{"$f":"tabula!D147","v":"janisvalm"},{"$f":"tabula!E147","v":71},{"$f":"tabula!F147","v":102},{"$f":"tabula!G147","v":71},{"$f":"tabula!H147","v":92},{"$f":"tabula!I147","v":60},{"$f":"tabula!J147","v":64},{"$f":"tabula!K147","v":41},{"$f":"tabula!L147","v":112},{"$f":"tabula!M147","v":37},{"$f":"tabula!N147","v":70},{"$f":"tabula!O147","v":720},{"$f":"tabula!P147","v":"04 min. 09,956"},{"$f":"tabula!Q147","v":39},{"$f":"tabula!R147","v":"06,409 sek."}]
[null,null,{"$f":"tabula!C148","v":141},{"$f":"tabula!D148","v":"Grieķu lemuri"},{"$f":"tabula!E148","v":87},{"$f":"tabula!F148","v":104},{"$f":"tabula!G148","v":95},{"$f":"tabula!H148","v":84},{"$f":"tabula!I148","v":97},{"$f":"tabula!J148","v":59},{"$f":"tabula!K148","v":21},{"$f":"tabula!L148","v":74},{"$f":"tabula!M148","v":64},{"$f":"tabula!N148","v":22},{"$f":"tabula!O148","v":707},{"$f":"tabula!P148","v":"09 min. 23,961"},{"$f":"tabula!Q148","v":46},{"$f":"tabula!R148","v":"12,260 sek."}]
[null,null,{"$f":"tabula!C149","v":142},{"$f":"tabula!D149","v":"Lapenieši"},{"$f":"tabula!E149","v":52},{"$f":"tabula!F149","v":147},{"$f":"tabula!G149","v":47},{"$f":"tabula!H149","v":107},{"$f":"tabula!I149","v":80},{"$f":"tabula!J149","v":36},{"$f":"tabula!K149","v":3},{"$f":"tabula!L149","v":105},{"$f":"tabula!M149","v":104},{"$f":"tabula!N149","v":26},{"$f":"tabula!O149","v":707},{"$f":"tabula!P149","v":"05 min. 39,581"},{"$f":"tabula!Q149","v":42},{"$f":"tabula!R149","v":"08,085 sek."}]
[null,null,{"$f":"tabula!C150","v":143},{"$f":"tabula!D150","v":"Viksnas"},{"$f":"tabula!E150","v":42},{"$f":"tabula!F150","v":85},{"$f":"tabula!G150","v":117},{"$f":"tabula!H150","v":108},{"$f":"tabula!I150","v":134},{"$f":"tabula!J150","v":61},{"$f":"tabula!K150","v":15},{"$f":"tabula!L150","v":77},{"$f":"tabula!M150","v":37},{"$f":"tabula!N150","v":28},{"$f":"tabula!O150","v":704},{"$f":"tabula!P150","v":"04 min. 15,424"},{"$f":"tabula!Q150","v":39},{"$f":"tabula!R150","v":"06,549 sek."}]
[null,null,{"$f":"tabula!C151","v":144},{"$f":"tabula!D151","v":"CELTNIEKU IELA"},{"$f":"tabula!E151","v":76},{"$f":"tabula!F151","v":85},{"$f":"tabula!G151","v":85},{"$f":"tabula!H151","v":103},{"$f":"tabula!I151","v":98},{"$f":"tabula!J151","v":41},{"$f":"tabula!K151","v":4},{"$f":"tabula!L151","v":112},{"$f":"tabula!M151","v":75},{"$f":"tabula!N151","v":15},{"$f":"tabula!O151","v":694},{"$f":"tabula!P151","v":"08 min. 11,410"},{"$f":"tabula!Q151","v":45},{"$f":"tabula!R151","v":"10,920 sek."}]
[null,null,{"$f":"tabula!C152","v":145},{"$f":"tabula!D152","v":"Šeridans"},{"$f":"tabula!E152","v":92},{"$f":"tabula!F152","v":117},{"$f":"tabula!G152","v":23},{"$f":"tabula!H152","v":115},{"$f":"tabula!I152","v":89},{"$f":"tabula!J152","v":71},{"$f":"tabula!K152","v":11},{"$f":"tabula!L152","v":67},{"$f":"tabula!M152","v":43},{"$f":"tabula!N152","v":63},{"$f":"tabula!O152","v":691},{"$f":"tabula!P152","v":"04 min. 01,751"},{"$f":"tabula!Q152","v":38},{"$f":"tabula!R152","v":"06,362 sek."}]
[null,null,{"$f":"tabula!C153","v":146},{"$f":"tabula!D153","v":"Maigais Arvīds"},{"$f":"tabula!E153","v":98},{"$f":"tabula!F153","v":76},{"$f":"tabula!G153","v":94},{"$f":"tabula!H153","v":107},{"$f":"tabula!I153","v":64},{"$f":"tabula!J153","v":52},{"$f":"tabula!K153","v":-27},{"$f":"tabula!L153","v":139},{"$f":"tabula!M153","v":39},{"$f":"tabula!N153","v":26},{"$f":"tabula!O153","v":668},{"$f":"tabula!P153","v":"04 min. 16,461"},{"$f":"tabula!Q153","v":38},{"$f":"tabula!R153","v":"06,749 sek."}]
[null,null,{"$f":"tabula!C154","v":147},{"$f":"tabula!D154","v":"Daudzbērnu pavēlnieki"},{"$f":"tabula!E154","v":66},{"$f":"tabula!F154","v":125},{"$f":"tabula!G154","v":42},{"$f":"tabula!H154","v":55},{"$f":"tabula!I154","v":101},{"$f":"tabula!J154","v":62},{"$f":"tabula!K154","v":22},{"$f":"tabula!L154","v":127},{"$f":"tabula!M154","v":54},{"$f":"tabula!N154","v":8},{"$f":"tabula!O154","v":662},{"$f":"tabula!P154","v":"05 min. 56,128"},{"$f":"tabula!Q154","v":40},{"$f":"tabula!R154","v":"08,903 sek."}]
[null,null,{"$f":"tabula!C155","v":148},{"$f":"tabula!D155","v":"Agilla un Andilla"},{"$f":"tabula!E155","v":81},{"$f":"tabula!F155","v":95},{"$f":"tabula!G155","v":89},{"$f":"tabula!H155","v":131},{"$f":"tabula!I155","v":98},{"$f":"tabula!J155","v":48},{"$f":"tabula!K155","v":-19},{"$f":"tabula!L155","v":46},{"$f":"tabula!M155","v":56},{"$f":"tabula!N155","v":35},{"$f":"tabula!O155","v":660},{"$f":"tabula!P155","v":"06 min. 40,703"},{"$f":"tabula!Q155","v":42},{"$f":"tabula!R155","v":"09,541 sek."}]
[null,null,{"$f":"tabula!C156","v":149},{"$f":"tabula!D156","v":"Aconis67"},{"$f":"tabula!E156","v":58},{"$f":"tabula!F156","v":97},{"$f":"tabula!G156","v":65},{"$f":"tabula!H156","v":103},{"$f":"tabula!I156","v":113},{"$f":"tabula!J156","v":42},{"$f":"tabula!K156","v":-18},{"$f":"tabula!L156","v":127},{"$f":"tabula!M156","v":35},{"$f":"tabula!N156","v":35},{"$f":"tabula!O156","v":657},{"$f":"tabula!P156","v":"06 min. 36,938"},{"$f":"tabula!Q156","v":40},{"$f":"tabula!R156","v":"09,923 sek."}]
[null,null,{"$f":"tabula!C157","v":150},{"$f":"tabula!D157","v":"Kalnieši"},{"$f":"tabula!E157","v":87},{"$f":"tabula!F157","v":90},{"$f":"tabula!G157","v":44},{"$f":"tabula!H157","v":92},{"$f":"tabula!I157","v":108},{"$f":"tabula!J157","v":98},{"$f":"tabula!K157","v":-67},{"$f":"tabula!L157","v":74},{"$f":"tabula!M157","v":70},{"$f":"tabula!N157","v":60},{"$f":"tabula!O157","v":656},{"$f":"tabula!P157","v":"04 min. 02,898"},{"$f":"tabula!Q157","v":38},{"$f":"tabula!R157","v":"06,392 sek."}]
[null,null,{"$f":"tabula!C158","v":151},{"$f":"tabula!D158","v":"Freija"},{"$f":"tabula!E158","v":69},{"$f":"tabula!F158","v":116},{"$f":"tabula!G158","v":47},{"$f":"tabula!H158","v":115},{"$f":"tabula!I158","v":113},{"$f":"tabula!J158","v":91},{"$f":"tabula!K158","v":-69},{"$f":"tabula!L158","v":48},{"$f":"tabula!M158","v":42},{"$f":"tabula!N158","v":68},{"$f":"tabula!O158","v":640},{"$f":"tabula!P158","v":"01 min. 42,748"},{"$f":"tabula!Q158","v":34},{"$f":"tabula!R158","v":"03,022 sek."}]
[null,null,{"$f":"tabula!C159","v":152},{"$f":"tabula!D159","v":"DJ Alvito"},{"$f":"tabula!E159","v":69},{"$f":"tabula!F159","v":86},{"$f":"tabula!G159","v":67},{"$f":"tabula!H159","v":79},{"$f":"tabula!I159","v":86},{"$f":"tabula!J159","v":41},{"$f":"tabula!K159","v":-4},{"$f":"tabula!L159","v":96},{"$f":"tabula!M159","v":65},{"$f":"tabula!N159","v":52},{"$f":"tabula!O159","v":637},{"$f":"tabula!P159","v":"04 min. 19,498"},{"$f":"tabula!Q159","v":36},{"$f":"tabula!R159","v":"07,208 sek."}]
[null,null,{"$f":"tabula!C160","v":153},{"$f":"tabula!D160","v":"sixseven"},{"$f":"tabula!E160","v":103},{"$f":"tabula!F160","v":125},{"$f":"tabula!G160","v":104},{"$f":"tabula!H160","v":92},{"$f":"tabula!I160","v":56},{"$f":"tabula!J160","v":37},{"$f":"tabula!K160","v":-53},{"$f":"tabula!L160","v":80},{"$f":"tabula!M160","v":48},{"$f":"tabula!N160","v":19},{"$f":"tabula!O160","v":611},{"$f":"tabula!P160","v":"05 min. 42,873"},{"$f":"tabula!Q160","v":39},{"$f":"tabula!R160","v":"08,792 sek."}]
[null,null,{"$f":"tabula!C161","v":154},{"$f":"tabula!D161","v":"Trīs Muskatieri"},{"$f":"tabula!E161","v":16},{"$f":"tabula!F161","v":84},{"$f":"tabula!G161","v":59},{"$f":"tabula!H161","v":117},{"$f":"tabula!I161","v":101},{"$f":"tabula!J161","v":94},{"$f":"tabula!K161","v":-27},{"$f":"tabula!L161","v":56},{"$f":"tabula!M161","v":66},{"$f":"tabula!N161","v":30},{"$f":"tabula!O161","v":596},{"$f":"tabula!P161","v":"08 min. 37,853"},{"$f":"tabula!Q161","v":42},{"$f":"tabula!R161","v":"12,330 sek."}]
[null,null,{"$f":"tabula!C162","v":155},{"$f":"tabula!D162","v":"Šveiki"},{"$f":"tabula!E162","v":13},{"$f":"tabula!F162","v":116},{"$f":"tabula!G162","v":44},{"$f":"tabula!H162","v":90},{"$f":"tabula!I162","v":122},{"$f":"tabula!J162","v":93},{"$f":"tabula!K162","v":9},{"$f":"tabula!L162","v":48},{"$f":"tabula!M162","v":18},{"$f":"tabula!N162","v":33},{"$f":"tabula!O162","v":586},{"$f":"tabula!P162","v":"07 min. 13,519"},{"$f":"tabula!Q162","v":40},{"$f":"tabula!R162","v":"10,838 sek."}]
[null,null,{"$f":"tabula!C163","v":157},{"$f":"tabula!D163","v":"Priežu iela"},{"$f":"tabula!E163","v":25},{"$f":"tabula!F163","v":103},{"$f":"tabula!G163","v":42},{"$f":"tabula!H163","v":85},{"$f":"tabula!I163","v":42},{"$f":"tabula!J163","v":61},{"$f":"tabula!K163","v":-67},{"$f":"tabula!L163","v":79},{"$f":"tabula!M163","v":63},{"$f":"tabula!N163","v":79},{"$f":"tabula!O163","v":512},{"$f":"tabula!P163","v":"04 min. 25,949"},{"$f":"tabula!Q163","v":32},{"$f":"tabula!R163","v":"08,311 sek."}]
[null,null,{"$f":"tabula!C164","v":158},{"$f":"tabula!D164","v":"Karstās čiksas"},{"$f":"tabula!E164","v":44},{"$f":"tabula!F164","v":102},{"$f":"tabula!G164","v":21},{"$f":"tabula!H164","v":39},{"$f":"tabula!I164","v":72},{"$f":"tabula!J164","v":51},{"$f":"tabula!K164","v":-10},{"$f":"tabula!L164","v":92},{"$f":"tabula!M164","v":37},{"$f":"tabula!N164","v":36},{"$f":"tabula!O164","v":484},{"$f":"tabula!P164","v":"08 min. 56,584"},{"$f":"tabula!Q164","v":36},{"$f":"tabula!R164","v":"14,905 sek."}]
[null,null,{"$f":"tabula!C165","v":159},{"$f":"tabula!D165","v":"četri tomāti un viens gurķis"},{"$f":"tabula!E165","v":86},{"$f":"tabula!F165","v":126},{"$f":"tabula!G165","v":43},{"$f":"tabula!H165","v":113},{"$f":"tabula!I165","v":111},{"$f":"tabula!J165","v":0},{"$f":"tabula!K165","v":0},{"$f":"tabula!L165","v":0},{"$f":"tabula!M165","v":0},{"$f":"tabula!N165","v":0},{"$f":"tabula!O165","v":479},{"$f":"tabula!P165","v":"02 min. 09,894"},{"$f":"tabula!Q165","v":26},{"$f":"tabula!R165","v":"04,996 sek."}]
[null,null,{"$f":"tabula!C166","v":160},{"$f":"tabula!D166","v":"Avenes"},{"$f":"tabula!E166","v":54},{"$f":"tabula!F166","v":105},{"$f":"tabula!G166","v":86},{"$f":"tabula!H166","v":89},{"$f":"tabula!I166","v":78},{"$f":"tabula!J166","v":66},{"$f":"tabula!K166","v":-15},{"$f":"tabula!L166","v":0},{"$f":"tabula!M166","v":0},{"$f":"tabula!N166","v":0},{"$f":"tabula!O166","v":463},{"$f":"tabula!P166","v":"03 min. 52,534"},{"$f":"tabula!Q166","v":28},{"$f":"tabula!R166","v":"08,305 sek."}]
[null,null,{"$f":"tabula!C167","v":161},{"$f":"tabula!D167","v":"Kas???"},{"$f":"tabula!E167","v":0},{"$f":"tabula!F167","v":0},{"$f":"tabula!G167","v":0},{"$f":"tabula!H167","v":0},{"$f":"tabula!I167","v":0},{"$f":"tabula!J167","v":0},{"$f":"tabula!K167","v":0},{"$f":"tabula!L167","v":141},{"$f":"tabula!M167","v":66},{"$f":"tabula!N167","v":77},{"$f":"tabula!O167","v":284},{"$f":"tabula!P167","v":"01 min. 52,403"},{"$f":"tabula!Q167","v":14},{"$f":"tabula!R167","v":"08,029 sek."}]
[null,null,{"$f":"tabula!C168","v":162},{"$f":"tabula!D168","v":"Duplo"},{"$f":"tabula!E168","v":53},{"$f":"tabula!F168","v":0},{"$f":"tabula!G168","v":0},{"$f":"tabula!H168","v":0},{"$f":"tabula!I168","v":0},{"$f":"tabula!J168","v":0},{"$f":"tabula!K168","v":0},{"$f":"tabula!L168","v":0},{"$f":"tabula!M168","v":70},{"$f":"tabula!N168","v":109},{"$f":"tabula!O168","v":232},{"$f":"tabula!P168","v":"01 min. 36,321"},{"$f":"tabula!Q168","v":12},{"$f":"tabula!R168","v":"08,027 sek."}]
[null,null,{"$f":"tabula!C169","v":163},{"$f":"tabula!D169","v":"4 kartupeļi"},{"$f":"tabula!E169","v":0},{"$f":"tabula!F169","v":0},{"$f":"tabula!G169","v":0},{"$f":"tabula!H169","v":0},{"$f":"tabula!I169","v":0},{"$f":"tabula!J169","v":0},{"$f":"tabula!K169","v":-3},{"$f":"tabula!L169","v":129},{"$f":"tabula!M169","v":28},{"$f":"tabula!N169","v":35},{"$f":"tabula!O169","v":189},{"$f":"tabula!P169","v":"02 min. 32,532"},{"$f":"tabula!Q169","v":13},{"$f":"tabula!R169","v":"11,733 sek."}]
[null,null,{"$f":"tabula!C170","v":165},{"$f":"tabula!D170","v":"Bugatti 21023"},{"$f":"tabula!E170","v":11},{"$f":"tabula!F170","v":0},{"$f":"tabula!G170","v":0},{"$f":"tabula!H170","v":0},{"$f":"tabula!I170","v":0},{"$f":"tabula!J170","v":0},{"$f":"tabula!K170","v":0},{"$f":"tabula!L170","v":0},{"$f":"tabula!M170","v":0},{"$f":"tabula!N170","v":0},{"$f":"tabula!O170","v":11},{"$f":"tabula!P170","v":"00 min. 21,363"},{"$f":"tabula!Q170","v":1},{"$f":"tabula!R170","v":"21,363 sek."}]

{"sheet":"raundi","index":4,"n_rows":15,"n_cols":8,"rows_kept":15,"cut":false,"hidden":false,"merged":[[1,1,1,7],[13,1,14,1],[13,2,13,3],[13,4,14,4],[13,6,14,6],[13,7,14,7],[14,2,14,3],[13,5,14,5]]}
[]
[null,{"$f":"CONCATENATE(tabula!C2,\" --> Raundu uzvarētāji\")","v":"\"Ģimenes viktorīna\" (tiešsaistē / vebinārā) | 2025.gada 6.decembris --> Raundu uzvarētāji"}]
[null,"#","Raunda nosaukums","Dalībnieks","Rezultāts","AVG","MAX","% no max"]
[null,1,{"$f":"TRANSPOSE(tabula!E4:N4)","v":"Pavediens: Lielie reptiļi"},"Bimonti",136,{"$f":"TRANSPOSE(tabula!E7:N7)","v":90.3},{"$f":"TRANSPOSE(tabula!E5:N5)","v":150},{"$f":"E4/G4","v":0.90666666666666662}]
[null,2,"Ekspresis","Hercogs",181,115,216,{"$f":"E5/G5","v":0.83796296296296291}]
[null,3,"Supervaroņu pasaule","Biķis",147,97.2,150,0.98]
[null,4,"Mūzikas žanri un popkultūra","Baltvīns",143,116.7,150,0.95333333333333337]
[null,5,"Zinātne","Frīk Adele",142,109.2,150,0.94666666666666666]
[null,6,"Latvija","Zibenīgie Gliemeži",118,70.8,150,0.78666666666666663]
[null,7,"Risks","Sindija DJV",109,28.9,120,0.90833333333333333]
[null,8,"Kas kopīgs?","Matu vēji1",191,127.5,205,0.93170731707317078]
[null,9,"Mākslīgais intelekts","Dancings cats",121,66,150,0.80666666666666664]
[null,10,"Audio","EstiPois",132,67.7,150,0.88]
[null,"-","Uzvarētājs",null,{"$f":"tabula!O8","v":1247},{"$f":"tabula!O7","v":889.3},{"$f":"SUM(G4:G13)","v":1591},{"$f":"E14/G14","v":0.78378378378378377}]
[null,null,{"$f":"tabula!D8","v":"Matu vēji"}]