{"text_format":"1","workbook":"xlsx","n_sheets":2,"sheets":["tabula","raundi"],"not_rendered":{"charts":0,"images":2,"macros":0,"external_links":0,"defined_names":4,"comments":0,"pivot_tables":0},"unopened":[],"bounds":{"document_bytes":16777216,"sheet_cells":100000,"rows_first":2000,"rows_last":500,"rows_between":2000,"halvings":0,"cell_chars":16384,"cell_head_chars":4096},"cells_cut":0,"cells_raw":0,"read":"whole","date_system":"1900"}

{"sheet":"tabula","index":0,"n_rows":87,"n_cols":18,"rows_kept":87,"cut":false,"hidden":false,"merged":[[5,2,5,3],[4,14,5,14],[2,15,5,15],[2,17,5,17],[2,3,3,3],[1,2,1,17],[2,1,4,1],[2,2,4,2],[2,14,3,14],[2,16,4,16]]}
[]
[null,null,"Ģimenes viktorīna (tiešsaistē / vebinārā) | 2026.gada 11.aprīlis"]
[null,"Grupa","#","Dalībnieks | Raunds | Tēma ",1,2,3,4,5,6,7,8,9,10,"KOPĀ","Laiks kopā uz pareizajām atbildēm","Pareizās atbildes (max)","Vid.laiks uz 1 pareizo atb."]
[null,null,null,null,"Pavediens: Logo","Ekspresis","Vizuālais: piktogrammas","Divas atbildes","Galda etiķete","Latvija","Risks: Mazie palīgi","Kas kopīgs?","Liekais pazūd: Mērvienības","Audio"]
[null,null,null,"Max punkti raundā (bez bonusiem) ",150,216,150,180,{"$f":"I6*25","v":150},150,120,205,{"$f":"M6*27","v":162},150,{"$f":"SUM(E5:N5)","v":1633}]
[null,null,"Jautājumi",null,6,12,6,6,6,6,6,8,6,6,null,null,{"$f":"SUM(E6:N6)","v":68}]
[null,null,null,"Vidējie rādītāji",{"$f":"ROUND(AVERAGE(E8:E1373),1)","v":84.8},126.8,91.8,94.7,81.5,73.3,44.1,135.80000000000001,101.8,75.7,910.1,"-",{"$f":"ROUND(AVERAGE(Q8:Q1373),1)","v":52.2},"-"]
[null,3,1,"Dura cell",124,117,117,135,121,122,91,187,143,103,{"$f":"SUM(E8:N8)","v":1260},"08 min. 08,257",66,"07,398 sek."]
[null,1,2,"Sindija DJV",98,174,122,121,104,104,88,182,153,109,{"$f":"SUM(E9:N9)","v":1255},"06 min. 25,777",63,"06,123 sek."]
[null,1,3,"INSPEKTORS IEPŪTNIS",121,133,118,115,128,102,95,181,143,86,{"$f":"SUM(E10:N10)","v":1222},"07 min. 37,868",64,"07,154 sek."]
[null,3,4,"Žņaudzējcūkas",103,115,111,144,120,95,97,185,139,104,{"$f":"SUM(E11:N11)","v":1213},"07 min. 38,792",63,"07,282 sek."]
[null,1,5,"James Cinnabond",125,170,122,116,121,85,69,165,151,65,{"$f":"SUM(E12:N12)","v":1189},"05 min. 39,325",59,"05,751 sek."]
[null,3,6,"ROGAS",113,102,100,133,135,96,69,189,139,111,{"$f":"SUM(E13:N13)","v":1187},"06 min. 49,418",60,"06,824 sek."]
[null,1,7,"Bim Bam",84,170,121,144,104,90,74,166,133,94,{"$f":"SUM(E14:N14)","v":1180},"07 min. 14,923",62,"07,015 sek."]
[null,1,8,"Šukmenistāna",106,163,95,125,92,90,97,159,110,107,{"$f":"SUM(E15:N15)","v":1144},"07 min. 27,550",61,"07,337 sek."]
[null,2,9,"Sakņu iela",91,123,119,132,85,105,81,153,103,108,{"$f":"SUM(E16:N16)","v":1100},"08 min. 10,929",59,"08,309 sek."]
[null,3,10,"LaŠteHaHa",114,142,107,103,96,112,98,121,129,75,{"$f":"SUM(E17:N17)","v":1097},"09 min. 03,232",62,"08,774 sek."]
[null,2,11,"sivēnastes",114,107,112,132,65,98,71,174,132,82,{"$f":"SUM(E18:N18)","v":1087},"09 min. 42,359",60,"09,706 sek."]
[null,2,12,"nezinu",91,134,102,125,90,101,55,179,109,91,{"$f":"SUM(E19:N19)","v":1077},"08 min. 49,754",61,"08,684 sek."]
[null,2,13,"Teikas Čiekuri",93,116,102,102,109,103,80,168,110,84,{"$f":"SUM(E20:N20)","v":1067},"07 min. 30,493",57,"07,903 sek."]
[null,3,14,"ŠANHAJA",93,126,115,142,86,97,68,138,88,105,{"$f":"SUM(E21:N21)","v":1058},"07 min. 51,077",57,"08,265 sek."]
[null,1,15,"Zepelīni",126,117,99,115,102,50,100,139,125,84,{"$f":"SUM(E22:N22)","v":1057},"07 min. 55,685",59,"08,062 sek."]
[null,3,16,"Pa Zoino!",87,181,77,121,93,78,40,169,114,91,{"$f":"SUM(E23:N23)","v":1051},"07 min. 49,723",58,"08,099 sek."]
[null,3,17,"garšo kola",111,133,116,127,133,60,27,155,115,73,{"$f":"SUM(E24:N24)","v":1050},"06 min. 42,537",56,"07,188 sek."]
[null,3,18,"Ko mēs te dar?",106,168,97,138,75,109,61,136,94,63,{"$f":"SUM(E25:N25)","v":1047},"08 min. 11,011",58,"08,474 sek."]
[null,1,19,"STŪRĪŠI",103,122,97,125,70,104,46,150,128,100,{"$f":"SUM(E26:N26)","v":1045},"08 min. 04,094",57,"08,493 sek."]
[null,1,20,"MORO",106,113,80,138,103,77,58,181,108,77,{"$f":"SUM(E27:N27)","v":1041},"07 min. 59,169",57,"08,432 sek."]
[null,3,21,"Vāveres kosmosā",72,154,90,112,44,130,62,184,79,106,{"$f":"SUM(E28:N28)","v":1033},"07 min. 24,190",57,"07,793 sek."]
[null,null,22,"Podzinieks",109,127,94,92,106,65,31,169,123,102,{"$f":"SUM(E29:N29)","v":1018},"06 min. 07,455",53,"06,933 sek."]
[null,null,23,"Riekstkoži",96,143,110,69,126,72,76,129,92,92,{"$f":"SUM(E30:N30)","v":1005},"10 min. 14,198",59,"10,410 sek."]
[null,null,24,"Ķirsīši",75,165,106,100,95,89,38,124,130,80,{"$f":"SUM(E31:N31)","v":1002},"07 min. 02,633",55,"07,684 sek."]
[null,null,25,"ROTAĻAS ZEM ASTES",95,118,90,103,108,103,43,181,99,59,{"$f":"SUM(E32:N32)","v":999},"06 min. 56,450",53,"07,858 sek."]
[null,null,26,"GO59",67,140,108,91,104,74,67,178,83,84,{"$f":"SUM(E33:N33)","v":996},"08 min. 43,569",57,"09,189 sek."]
[null,null,27,"Kreisais Krasts",101,121,117,109,87,37,50,162,107,104,{"$f":"SUM(E34:N34)","v":995},"08 min. 03,146",54,"08,947 sek."]
[null,null,28,"Atpūtnieki",85,121,109,104,97,91,51,154,107,70,{"$f":"SUM(E35:N35)","v":989},"11 min. 22,290",60,"11,372 sek."]
[null,null,29,"LBG",83,150,76,104,102,84,81,160,96,50,{"$f":"SUM(E36:N36)","v":986},"07 min. 50,322",55,"08,551 sek."]
[null,null,30,"Čurkstes",102,141,84,108,87,92,37,144,115,72,{"$f":"SUM(E37:N37)","v":982},"10 min. 20,682",58,"10,701 sek."]
[null,null,31,"PutniņiCūciņas",122,174,94,88,45,27,-2,180,130,105,{"$f":"SUM(E38:N38)","v":963},"04 min. 48,929",51,"05,665 sek."]
[null,null,32,"Stams",93,134,91,108,127,105,23,103,93,79,{"$f":"SUM(E39:N39)","v":956},"07 min. 32,822",53,"07,944 sek."]
[null,null,33,"ČerČer",74,134,100,98,71,84,38,141,124,89,{"$f":"SUM(E40:N40)","v":953},"11 min. 31,297",59,"11,729 sek."]
[null,null,34,"Doktors Albāns",84,144,122,90,68,66,74,153,81,70,{"$f":"SUM(E41:N41)","v":952},"09 min. 51,782",56,"10,568 sek."]
[null,null,35,"KRĪTIŅI",81,98,75,126,80,80,29,153,132,88,{"$f":"SUM(E42:N42)","v":942},"10 min. 21,423",57,"10,902 sek."]
[null,null,36,"Bērzkalnu saime",105,116,67,86,79,100,71,110,122,75,{"$f":"SUM(E43:N43)","v":931},"10 min. 34,867",58,"10,946 sek."]
[null,null,37,"Čižiks un Pižiks",86,127,78,129,88,54,44,159,94,72,{"$f":"SUM(E44:N44)","v":931},"08 min. 50,097",54,"09,817 sek."]
[null,null,38,"Aitu banda",61,150,92,87,98,106,32,170,62,66,{"$f":"SUM(E45:N45)","v":924},"09 min. 10,486",55,"10,009 sek."]
[null,null,39,"Aizkrauklīte",86,141,87,126,92,87,60,108,30,103,{"$f":"SUM(E46:N46)","v":920},"05 min. 34,945",49,"06,836 sek."]
[null,null,40,"Rudzupuķes",89,118,86,60,40,52,67,172,127,108,{"$f":"SUM(E47:N47)","v":919},"10 min. 07,650",55,"11,048 sek."]
[null,null,41,"Badijs spēlē viktorīnu",86,157,100,97,43,123,50,145,37,81,{"$f":"SUM(E48:N48)","v":919},"05 min. 50,952",49,"07,162 sek."]
[null,null,42,"Virsskaņas alus iznīcinātājs",98,152,105,53,104,67,35,158,118,23,{"$f":"SUM(E49:N49)","v":913},"05 min. 40,066",49,"06,960 sek."]
[null,null,43,"Lieliskie Šss",68,167,107,75,116,43,27,150,56,99,{"$f":"SUM(E50:N50)","v":908},"07 min. 17,596",52,"08,415 sek."]
[null,null,44,"Nejaušie ģēniji",93,92,106,123,43,61,63,136,120,70,{"$f":"SUM(E51:N51)","v":907},"06 min. 59,549",49,"08,562 sek."]
[null,null,45,"Grāvju iela",94,139,102,62,82,42,56,130,113,81,{"$f":"SUM(E52:N52)","v":901},"10 min. 14,504",55,"11,173 sek."]
[null,null,46,"MIKO",73,127,101,104,63,61,30,113,117,103,{"$f":"SUM(E53:N53)","v":892},"11 min. 11,050",57,"11,773 sek."]
[null,null,47,"JĀŅTĀRPIŅI",71,103,111,81,84,59,37,139,109,98,{"$f":"SUM(E54:N54)","v":892},"09 min. 50,627",55,"10,739 sek."]
[null,null,48,"Smilšu rukši",87,126,97,89,19,60,73,174,76,87,{"$f":"SUM(E55:N55)","v":888},"08 min. 24,078",51,"09,884 sek."]
[null,null,49,"Ruma Šķiņķis",125,159,87,70,99,24,3,152,120,45,{"$f":"SUM(E56:N56)","v":884},"04 min. 41,709",46,"06,124 sek."]
[null,null,50,"Es taču teicu!",79,106,109,80,73,74,27,148,98,86,{"$f":"SUM(E57:N57)","v":880},"10 min. 21,731",54,"11,514 sek."]
[null,null,51,"Timijs",87,126,87,76,75,76,45,86,119,95,{"$f":"SUM(E58:N58)","v":872},"08 min. 28,882",50,"10,178 sek."]
[null,null,52,"IP",77,82,74,60,112,109,70,93,96,85,{"$f":"SUM(E59:N59)","v":858},"04 min. 52,387",45,"06,509 sek."]
[null,null,53,"Just80%",93,73,52,80,85,72,38,155,112,88,{"$f":"SUM(E60:N60)","v":848},"11 min. 00,702",54,"12,235 sek."]
[null,null,54,"Barsiks",75,158,87,53,65,65,66,111,109,59,{"$f":"SUM(E61:N61)","v":848},"07 min. 25,333",50,"09,007 sek."]
[null,null,55,"J city meets Riga",64,95,74,58,62,87,74,132,141,60,{"$f":"SUM(E62:N62)","v":847},"05 min. 43,956",47,"07,318 sek."]
[null,null,56,"Sīļi",62,125,72,62,49,61,56,172,79,100,{"$f":"SUM(E63:N63)","v":838},"10 min. 14,895",54,"11,387 sek."]
[null,null,57,"Gulbji Gulbenē",40,110,57,105,92,112,52,96,104,61,{"$f":"SUM(E64:N64)","v":829},"09 min. 51,496",52,"11,375 sek."]
[null,null,58,"Spindzelītes",73,136,79,96,64,43,22,123,101,87,{"$f":"SUM(E65:N65)","v":824},"07 min. 10,486",47,"09,271 sek."]
[null,null,59,"Smadzeņu Šašliks",71,100,81,65,99,54,74,85,78,100,{"$f":"SUM(E66:N66)","v":807},"09 min. 38,440",51,"11,342 sek."]
[null,null,60,"ABL",68,139,80,116,41,127,-24,111,76,68,{"$f":"SUM(E67:N67)","v":802},"10 min. 24,359",52,"12,007 sek."]
[null,null,61,"Team Blau",86,113,98,65,45,46,67,134,89,58,{"$f":"SUM(E68:N68)","v":801},"06 min. 19,372",45,"08,430 sek."]
[null,null,62,"Bella",75,157,84,84,71,41,44,76,80,75,{"$f":"SUM(E69:N69)","v":787},"08 min. 11,076",49,"10,022 sek."]
[null,null,63,"JEZE",88,89,83,58,55,45,41,146,120,61,{"$f":"SUM(E70:N70)","v":786},"07 min. 08,923",47,"09,126 sek."]
[null,null,64,"Audzē Dārzu",73,108,69,92,20,64,31,93,121,100,{"$f":"SUM(E71:N71)","v":771},"10 min. 40,334",50,"12,823 sek."]
[null,null,65,"Tosis",83,142,69,49,22,78,33,125,109,59,{"$f":"SUM(E72:N72)","v":769},"09 min. 58,185",51,"11,729 sek."]
[null,null,66,"Spalvainie podnieki",68,104,76,47,66,75,-32,140,136,88,{"$f":"SUM(E73:N73)","v":768},"11 min. 46,481",53,"13,330 sek."]
[null,null,67,"Mundžaki",47,100,76,111,40,82,16,155,96,41,{"$f":"SUM(E74:N74)","v":764},"05 min. 49,004",42,"08,317 sek."]
[null,null,68,"Gekons",85,87,121,90,87,22,50,69,88,41,{"$f":"SUM(E75:N75)","v":740},"06 min. 49,905",43,"09,545 sek."]
[null,null,69,"Gelons",40,120,102,88,68,43,32,110,63,61,{"$f":"SUM(E76:N76)","v":727},"07 min. 04,119",44,"09,631 sek."]
[null,null,70,"Līva",96,117,93,44,83,85,0,86,72,42,{"$f":"SUM(E77:N77)","v":718},"05 min. 44,995",43,"08,024 sek."]
[null,null,71,"Kantoris3",74,132,66,82,99,21,-3,124,84,35,{"$f":"SUM(E78:N78)","v":714},"07 min. 59,967",45,"10,749 sek."]
[null,null,72,"Jenseni",28,123,109,79,66,79,-23,92,115,35,{"$f":"SUM(E79:N79)","v":703},"05 min. 24,007",41,"07,925 sek."]
[null,null,73,"Andris",66,91,80,51,62,66,-23,118,123,59,{"$f":"SUM(E80:N80)","v":693},"03 min. 24,311",38,"05,377 sek."]
[null,null,74,"Barbara",37,117,101,103,80,22,2,71,89,60,{"$f":"SUM(E81:N81)","v":682},"05 min. 24,786",41,"07,922 sek."]
[null,null,75,"Ališa",98,65,67,22,81,76,32,71,98,45,{"$f":"SUM(E82:N82)","v":655},"05 min. 23,400",38,"08,511 sek."]
[null,null,76,"ņega",73,128,75,48,34,77,-29,110,42,59,{"$f":"SUM(E83:N83)","v":617},"06 min. 45,863",40,"10,279 sek."]
[null,null,77,"Gandrīz pareizi",64,122,67,60,77,19,20,83,76,11,{"$f":"SUM(E84:N84)","v":599},"09 min. 08,573",41,"13,364 sek."]
[null,null,78,"Karstās čiksas",73,135,45,71,67,15,7,75,40,52,{"$f":"SUM(E85:N85)","v":580},"09 min. 56,774",43,"13,878 sek."]
[null,null,79,"Liepu iela",71,88,53,94,85,12,-45,62,28,9,{"$f":"SUM(E86:N86)","v":457},"07 min. 40,180",34,"13,535 sek."]
[null,null,80,"Kaste - Este",0,90,34,109,63,0,0,0,0,0,{"$f":"SUM(E87:N87)","v":296},"03 min. 17,143",19,"10,376 sek."]

{"sheet":"raundi","index":1,"n_rows":15,"n_cols":8,"rows_kept":15,"cut":false,"hidden":false,"merged":[[1,1,1,7],[13,1,14,1],[13,2,13,3],[13,4,14,4],[13,6,14,6],[13,7,14,7],[14,2,14,3],[13,5,14,5]]}
[]
[null,{"$f":"CONCATENATE(tabula!C2,\" --> Raundu uzvarētāji\")","v":"Ģimenes viktorīna (tiešsaistē / vebinārā) | 2026.gada 11.aprīlis --> Raundu uzvarētāji"}]
[null,"#","Raunda nosaukums","Dalībnieks","Rezultāts","AVG","MAX","% no max"]
[null,1,{"$f":"TRANSPOSE(tabula!E4:N4)","v":"Pavediens: Logo"},"Zepelīni",126,{"$f":"TRANSPOSE(tabula!E7:N7)","v":84.8},{"$f":"TRANSPOSE(tabula!E5:N5)","v":150},{"$f":"E4/G4","v":0.84}]
[null,2,"Ekspresis","Pa Zoino!",181,126.8,216,{"$f":"E5/G5","v":0.83796296296296291}]
[null,3,"Vizuālais: piktogrammas","James Cinnabond",122,91.8,150,0.81333333333333335]
[null,4,"Divas atbildes","Bim Bam",144,94.7,180,0.8]
[null,5,"Galda etiķete","ROGAS",135,81.5,150,0.9]
[null,6,"Latvija","Vāveres kosmosā",130,73.3,150,0.8666666666666667]
[null,7,"Risks: Mazie palīgi","Zepelīni",100,44.1,120,0.83333333333333337]
[null,8,"Kas kopīgs?","ROGAS",189,135.80000000000001,205,0.92195121951219516]
[null,9,"Liekais pazūd: Mērvienības","Sindija DJV",153,101.8,162,0.94444444444444442]
[null,10,"Audio","ROGAS",111,75.7,150,0.74]
[null,"-","Uzvarētājs",null,{"$f":"tabula!O8","v":1260},{"$f":"tabula!O7","v":910.1},{"$f":"SUM(G4:G13)","v":1633},{"$f":"E14/G14","v":0.77158603796693204}]
[null,null,{"$f":"tabula!D8","v":"Dura cell"}]