{"text_format":"1","workbook":"xlsx","n_sheets":26,"sheets":["F1","iisaFBversija_uzreiz_pecspeles","KinoV_kopv","SpV_KOPV","aktuala (6)","aktuala (7)","SPV_9k","aktuala (8)","aktuala (9)","1grupa","2grupa","3grupa","4grupa","prikols","LV2k1g","LV2k2g","LV2k3g","Lv2k4g","2kkopv","aktuala (2)","aktuala (3)","aktuala (4)","aktuala (5)","arpuskastes","ak_1","EUROLEAGUE_5dec"],"not_rendered":{"charts":0,"images":33,"macros":1,"external_links":0,"defined_names":1,"comments":0,"pivot_tables":0},"unopened":[],"bounds":{"document_bytes":16777216,"sheet_cells":100000,"rows_first":2000,"rows_last":500,"rows_between":2000,"halvings":0,"cell_chars":16384,"cell_head_chars":4096},"cells_cut":0,"cells_raw":0,"read":"whole","date_system":"1900"}

{"sheet":"F1","index":0,"n_rows":22,"n_cols":13,"rows_kept":22,"cut":false,"hidden":false,"merged":[[1,1,3,12]]}
[]
[null,"Sporta viktorīnas speciālizlaidums | F1 viktorīna | 2025.gada 13.augusts"]
[]
[]
[null,"KOMANDAS / RAUNDI",1,2,3,4,"Ķēde",6,7,8,9,"Ana-gramma","KOPĀ"]
[]
[]
[]
[]
[]
[]
[]
[]
[]
[]
[null,{"$f":"#REF!","v":{"$error":"#REF!"}},{"$f":"#REF!","v":{"$error":"#REF!"}},{"$f":"#REF!","v":{"$error":"#REF!"}},{"$f":"#REF!","v":{"$error":"#REF!"}},{"$f":"#REF!","v":{"$error":"#REF!"}},{"$f":"#REF!","v":{"$error":"#REF!"}},{"$f":"#REF!","v":{"$error":"#REF!"}},{"$f":"#REF!","v":{"$error":"#REF!"}},{"$f":"#REF!","v":{"$error":"#REF!"}},{"$f":"#REF!","v":{"$error":"#REF!"}},{"$f":"#REF!","v":{"$error":"#REF!"}},{"$f":"#REF!","v":{"$error":"#REF!"}}]
[null,{"$f":"#REF!","v":{"$error":"#REF!"}},{"$f":"#REF!","v":{"$error":"#REF!"}},{"$f":"#REF!","v":{"$error":"#REF!"}},{"$f":"#REF!","v":{"$error":"#REF!"}},{"$f":"#REF!","v":{"$error":"#REF!"}},{"$f":"#REF!","v":{"$error":"#REF!"}},{"$f":"#REF!","v":{"$error":"#REF!"}},{"$f":"#REF!","v":{"$error":"#REF!"}},{"$f":"#REF!","v":{"$error":"#REF!"}},{"$f":"#REF!","v":{"$error":"#REF!"}},{"$f":"#REF!","v":{"$error":"#REF!"}},{"$f":"#REF!","v":{"$error":"#REF!"}}]
[null,{"$f":"#REF!","v":{"$error":"#REF!"}},{"$f":"#REF!","v":{"$error":"#REF!"}},{"$f":"#REF!","v":{"$error":"#REF!"}},{"$f":"#REF!","v":{"$error":"#REF!"}},{"$f":"#REF!","v":{"$error":"#REF!"}},{"$f":"#REF!","v":{"$error":"#REF!"}},{"$f":"#REF!","v":{"$error":"#REF!"}},{"$f":"#REF!","v":{"$error":"#REF!"}},{"$f":"#REF!","v":{"$error":"#REF!"}},{"$f":"#REF!","v":{"$error":"#REF!"}},{"$f":"#REF!","v":{"$error":"#REF!"}},{"$f":"#REF!","v":{"$error":"#REF!"}}]
[null,{"$f":"#REF!","v":{"$error":"#REF!"}},{"$f":"#REF!","v":{"$error":"#REF!"}},{"$f":"#REF!","v":{"$error":"#REF!"}},{"$f":"#REF!","v":{"$error":"#REF!"}},{"$f":"#REF!","v":{"$error":"#REF!"}},{"$f":"#REF!","v":{"$error":"#REF!"}},{"$f":"#REF!","v":{"$error":"#REF!"}},{"$f":"#REF!","v":{"$error":"#REF!"}},{"$f":"#REF!","v":{"$error":"#REF!"}},{"$f":"#REF!","v":{"$error":"#REF!"}},{"$f":"#REF!","v":{"$error":"#REF!"}},{"$f":"#REF!","v":{"$error":"#REF!"}}]
[null,{"$f":"#REF!","v":{"$error":"#REF!"}},{"$f":"#REF!","v":{"$error":"#REF!"}},{"$f":"#REF!","v":{"$error":"#REF!"}},{"$f":"#REF!","v":{"$error":"#REF!"}},{"$f":"#REF!","v":{"$error":"#REF!"}},{"$f":"#REF!","v":{"$error":"#REF!"}},{"$f":"#REF!","v":{"$error":"#REF!"}},{"$f":"#REF!","v":{"$error":"#REF!"}},{"$f":"#REF!","v":{"$error":"#REF!"}},{"$f":"#REF!","v":{"$error":"#REF!"}},{"$f":"#REF!","v":{"$error":"#REF!"}},{"$f":"#REF!","v":{"$error":"#REF!"}}]
[null,{"$f":"#REF!","v":{"$error":"#REF!"}},{"$f":"#REF!","v":{"$error":"#REF!"}},{"$f":"#REF!","v":{"$error":"#REF!"}},{"$f":"#REF!","v":{"$error":"#REF!"}},{"$f":"#REF!","v":{"$error":"#REF!"}},{"$f":"#REF!","v":{"$error":"#REF!"}},{"$f":"#REF!","v":{"$error":"#REF!"}},{"$f":"#REF!","v":{"$error":"#REF!"}},{"$f":"#REF!","v":{"$error":"#REF!"}},{"$f":"#REF!","v":{"$error":"#REF!"}},{"$f":"#REF!","v":{"$error":"#REF!"}},{"$f":"#REF!","v":{"$error":"#REF!"}}]
[null,{"$f":"#REF!","v":{"$error":"#REF!"}},{"$f":"#REF!","v":{"$error":"#REF!"}},{"$f":"#REF!","v":{"$error":"#REF!"}},{"$f":"#REF!","v":{"$error":"#REF!"}},{"$f":"#REF!","v":{"$error":"#REF!"}},{"$f":"#REF!","v":{"$error":"#REF!"}},{"$f":"#REF!","v":{"$error":"#REF!"}},{"$f":"#REF!","v":{"$error":"#REF!"}},{"$f":"#REF!","v":{"$error":"#REF!"}},{"$f":"#REF!","v":{"$error":"#REF!"}},{"$f":"#REF!","v":{"$error":"#REF!"}},{"$f":"#REF!","v":{"$error":"#REF!"}}]

{"sheet":"iisaFBversija_uzreiz_pecspeles","index":1,"n_rows":32,"n_cols":34,"rows_kept":32,"cut":false,"hidden":true,"merged":[[3,29,3,31],[3,32,3,33],[1,2,2,33],[3,3,3,5],[3,6,3,8],[3,9,3,11],[3,12,3,14],[3,15,3,16],[3,17,3,19],[3,20,3,22],[3,23,3,25],[3,26,3,28]]}
[]
[null,null,{"$f":"'F1'!B2","v":"Sporta viktorīnas speciālizlaidums | F1 viktorīna | 2025.gada 13.augusts"}]
[]
[null,"#","Komandas / Raundi",1,null,null,2,null,null,3,null,null,4,null,null,5,null,6,null,null,7,null,null,8,null,null,9,null,null,10,null,null,"KOPĀ"]
[null,{"$f":"#REF!","v":{"$error":"#REF!"}},{"$f":"#REF!","v":{"$error":"#REF!"}},{"$f":"#REF!","v":{"$error":"#REF!"}},{"$f":"#REF!","v":{"$error":"#REF!"}},{"$f":"#REF!","v":{"$error":"#REF!"}},{"$f":"#REF!","v":{"$error":"#REF!"}},{"$f":"#REF!","v":{"$error":"#REF!"}},{"$f":"#REF!","v":{"$error":"#REF!"}},{"$f":"#REF!","v":{"$error":"#REF!"}},{"$f":"#REF!","v":{"$error":"#REF!"}},{"$f":"#REF!","v":{"$error":"#REF!"}},{"$f":"#REF!","v":{"$error":"#REF!"}},{"$f":"#REF!","v":{"$error":"#REF!"}},{"$f":"#REF!","v":{"$error":"#REF!"}},{"$f":"#REF!","v":{"$error":"#REF!"}},{"$f":"#REF!","v":{"$error":"#REF!"}},{"$f":"#REF!","v":{"$error":"#REF!"}},{"$f":"#REF!","v":{"$error":"#REF!"}},{"$f":"#REF!","v":{"$error":"#REF!"}},{"$f":"#REF!","v":{"$error":"#REF!"}},{"$f":"#REF!","v":{"$error":"#REF!"}},{"$f":"#REF!","v":{"$error":"#REF!"}},{"$f":"#REF!","v":{"$error":"#REF!"}},{"$f":"#REF!","v":{"$error":"#REF!"}},{"$f":"#REF!","v":{"$error":"#REF!"}},{"$f":"#REF!","v":{"$error":"#REF!"}},{"$f":"#REF!","v":{"$error":"#REF!"}},{"$f":"#REF!","v":{"$error":"#REF!"}},{"$f":"#REF!","v":{"$error":"#REF!"}},{"$f":"#REF!","v":{"$error":"#REF!"}},{"$f":"#REF!","v":{"$error":"#REF!"}},{"$f":"#REF!","v":{"$error":"#REF!"}},{"$f":"#REF!","v":{"$error":"#REF!"}}]
[null,{"$f":"#REF!","v":{"$error":"#REF!"}},{"$f":"#REF!","v":{"$error":"#REF!"}},{"$f":"#REF!","v":{"$error":"#REF!"}},{"$f":"#REF!","v":{"$error":"#REF!"}},{"$f":"#REF!","v":{"$error":"#REF!"}},{"$f":"#REF!","v":{"$error":"#REF!"}},{"$f":"#REF!","v":{"$error":"#REF!"}},{"$f":"#REF!","v":{"$error":"#REF!"}},{"$f":"#REF!","v":{"$error":"#REF!"}},{"$f":"#REF!","v":{"$error":"#REF!"}},{"$f":"#REF!","v":{"$error":"#REF!"}},{"$f":"#REF!","v":{"$error":"#REF!"}},{"$f":"#REF!","v":{"$error":"#REF!"}},{"$f":"#REF!","v":{"$error":"#REF!"}},{"$f":"#REF!","v":{"$error":"#REF!"}},{"$f":"#REF!","v":{"$error":"#REF!"}},{"$f":"#REF!","v":{"$error":"#REF!"}},{"$f":"#REF!","v":{"$error":"#REF!"}},{"$f":"#REF!","v":{"$error":"#REF!"}},{"$f":"#REF!","v":{"$error":"#REF!"}},{"$f":"#REF!","v":{"$error":"#REF!"}},{"$f":"#REF!","v":{"$error":"#REF!"}},{"$f":"#REF!","v":{"$error":"#REF!"}},{"$f":"#REF!","v":{"$error":"#REF!"}},{"$f":"#REF!","v":{"$error":"#REF!"}},{"$f":"#REF!","v":{"$error":"#REF!"}},{"$f":"#REF!","v":{"$error":"#REF!"}},{"$f":"#REF!","v":{"$error":"#REF!"}},{"$f":"#REF!","v":{"$error":"#REF!"}},{"$f":"#REF!","v":{"$error":"#REF!"}},{"$f":"#REF!","v":{"$error":"#REF!"}},{"$f":"#REF!","v":{"$error":"#REF!"}},{"$f":"#REF!","v":{"$error":"#REF!"}}]
[null,{"$f":"#REF!","v":{"$error":"#REF!"}},{"$f":"#REF!","v":{"$error":"#REF!"}},{"$f":"#REF!","v":{"$error":"#REF!"}},{"$f":"#REF!","v":{"$error":"#REF!"}},{"$f":"#REF!","v":{"$error":"#REF!"}},{"$f":"#REF!","v":{"$error":"#REF!"}},{"$f":"#REF!","v":{"$error":"#REF!"}},{"$f":"#REF!","v":{"$error":"#REF!"}},{"$f":"#REF!","v":{"$error":"#REF!"}},{"$f":"#REF!","v":{"$error":"#REF!"}},{"$f":"#REF!","v":{"$error":"#REF!"}},{"$f":"#REF!","v":{"$error":"#REF!"}},{"$f":"#REF!","v":{"$error":"#REF!"}},{"$f":"#REF!","v":{"$error":"#REF!"}},{"$f":"#REF!","v":{"$error":"#REF!"}},{"$f":"#REF!","v":{"$error":"#REF!"}},{"$f":"#REF!","v":{"$error":"#REF!"}},{"$f":"#REF!","v":{"$error":"#REF!"}},{"$f":"#REF!","v":{"$error":"#REF!"}},{"$f":"#REF!","v":{"$error":"#REF!"}},{"$f":"#REF!","v":{"$error":"#REF!"}},{"$f":"#REF!","v":{"$error":"#REF!"}},{"$f":"#REF!","v":{"$error":"#REF!"}},{"$f":"#REF!","v":{"$error":"#REF!"}},{"$f":"#REF!","v":{"$error":"#REF!"}},{"$f":"#REF!","v":{"$error":"#REF!"}},{"$f":"#REF!","v":{"$error":"#REF!"}},{"$f":"#REF!","v":{"$error":"#REF!"}},{"$f":"#REF!","v":{"$error":"#REF!"}},{"$f":"#REF!","v":{"$error":"#REF!"}},{"$f":"#REF!","v":{"$error":"#REF!"}},{"$f":"#REF!","v":{"$error":"#REF!"}},{"$f":"#REF!","v":{"$error":"#REF!"}}]
[null,{"$f":"#REF!","v":{"$error":"#REF!"}},{"$f":"#REF!","v":{"$error":"#REF!"}},{"$f":"#REF!","v":{"$error":"#REF!"}},{"$f":"#REF!","v":{"$error":"#REF!"}},{"$f":"#REF!","v":{"$error":"#REF!"}},{"$f":"#REF!","v":{"$error":"#REF!"}},{"$f":"#REF!","v":{"$error":"#REF!"}},{"$f":"#REF!","v":{"$error":"#REF!"}},{"$f":"#REF!","v":{"$error":"#REF!"}},{"$f":"#REF!","v":{"$error":"#REF!"}},{"$f":"#REF!","v":{"$error":"#REF!"}},{"$f":"#REF!","v":{"$error":"#REF!"}},{"$f":"#REF!","v":{"$error":"#REF!"}},{"$f":"#REF!","v":{"$error":"#REF!"}},{"$f":"#REF!","v":{"$error":"#REF!"}},{"$f":"#REF!","v":{"$error":"#REF!"}},{"$f":"#REF!","v":{"$error":"#REF!"}},{"$f":"#REF!","v":{"$error":"#REF!"}},{"$f":"#REF!","v":{"$error":"#REF!"}},{"$f":"#REF!","v":{"$error":"#REF!"}},{"$f":"#REF!","v":{"$error":"#REF!"}},{"$f":"#REF!","v":{"$error":"#REF!"}},{"$f":"#REF!","v":{"$error":"#REF!"}},{"$f":"#REF!","v":{"$error":"#REF!"}},{"$f":"#REF!","v":{"$error":"#REF!"}},{"$f":"#REF!","v":{"$error":"#REF!"}},{"$f":"#REF!","v":{"$error":"#REF!"}},{"$f":"#REF!","v":{"$error":"#REF!"}},{"$f":"#REF!","v":{"$error":"#REF!"}},{"$f":"#REF!","v":{"$error":"#REF!"}},{"$f":"#REF!","v":{"$error":"#REF!"}},{"$f":"#REF!","v":{"$error":"#REF!"}},{"$f":"#REF!","v":{"$error":"#REF!"}}]
[null,{"$f":"#REF!","v":{"$error":"#REF!"}},{"$f":"#REF!","v":{"$error":"#REF!"}},{"$f":"#REF!","v":{"$error":"#REF!"}},{"$f":"#REF!","v":{"$error":"#REF!"}},{"$f":"#REF!","v":{"$error":"#REF!"}},{"$f":"#REF!","v":{"$error":"#REF!"}},{"$f":"#REF!","v":{"$error":"#REF!"}},{"$f":"#REF!","v":{"$error":"#REF!"}},{"$f":"#REF!","v":{"$error":"#REF!"}},{"$f":"#REF!","v":{"$error":"#REF!"}},{"$f":"#REF!","v":{"$error":"#REF!"}},{"$f":"#REF!","v":{"$error":"#REF!"}},{"$f":"#REF!","v":{"$error":"#REF!"}},{"$f":"#REF!","v":{"$error":"#REF!"}},{"$f":"#REF!","v":{"$error":"#REF!"}},{"$f":"#REF!","v":{"$error":"#REF!"}},{"$f":"#REF!","v":{"$error":"#REF!"}},{"$f":"#REF!","v":{"$error":"#REF!"}},{"$f":"#REF!","v":{"$error":"#REF!"}},{"$f":"#REF!","v":{"$error":"#REF!"}},{"$f":"#REF!","v":{"$error":"#REF!"}},{"$f":"#REF!","v":{"$error":"#REF!"}},{"$f":"#REF!","v":{"$error":"#REF!"}},{"$f":"#REF!","v":{"$error":"#REF!"}},{"$f":"#REF!","v":{"$error":"#REF!"}},{"$f":"#REF!","v":{"$error":"#REF!"}},{"$f":"#REF!","v":{"$error":"#REF!"}},{"$f":"#REF!","v":{"$error":"#REF!"}},{"$f":"#REF!","v":{"$error":"#REF!"}},{"$f":"#REF!","v":{"$error":"#REF!"}},{"$f":"#REF!","v":{"$error":"#REF!"}},{"$f":"#REF!","v":{"$error":"#REF!"}},{"$f":"#REF!","v":{"$error":"#REF!"}}]
[null,{"$f":"#REF!","v":{"$error":"#REF!"}},{"$f":"#REF!","v":{"$error":"#REF!"}},{"$f":"#REF!","v":{"$error":"#REF!"}},{"$f":"#REF!","v":{"$error":"#REF!"}},{"$f":"#REF!","v":{"$error":"#REF!"}},{"$f":"#REF!","v":{"$error":"#REF!"}},{"$f":"#REF!","v":{"$error":"#REF!"}},{"$f":"#REF!","v":{"$error":"#REF!"}},{"$f":"#REF!","v":{"$error":"#REF!"}},{"$f":"#REF!","v":{"$error":"#REF!"}},{"$f":"#REF!","v":{"$error":"#REF!"}},{"$f":"#REF!","v":{"$error":"#REF!"}},{"$f":"#REF!","v":{"$error":"#REF!"}},{"$f":"#REF!","v":{"$error":"#REF!"}},{"$f":"#REF!","v":{"$error":"#REF!"}},{"$f":"#REF!","v":{"$error":"#REF!"}},{"$f":"#REF!","v":{"$error":"#REF!"}},{"$f":"#REF!","v":{"$error":"#REF!"}},{"$f":"#REF!","v":{"$error":"#REF!"}},{"$f":"#REF!","v":{"$error":"#REF!"}},{"$f":"#REF!","v":{"$error":"#REF!"}},{"$f":"#REF!","v":{"$error":"#REF!"}},{"$f":"#REF!","v":{"$error":"#REF!"}},{"$f":"#REF!","v":{"$error":"#REF!"}},{"$f":"#REF!","v":{"$error":"#REF!"}},{"$f":"#REF!","v":{"$error":"#REF!"}},{"$f":"#REF!","v":{"$error":"#REF!"}},{"$f":"#REF!","v":{"$error":"#REF!"}},{"$f":"#REF!","v":{"$error":"#REF!"}},{"$f":"#REF!","v":{"$error":"#REF!"}},{"$f":"#REF!","v":{"$error":"#REF!"}},{"$f":"#REF!","v":{"$error":"#REF!"}},{"$f":"#REF!","v":{"$error":"#REF!"}}]
[null,{"$f":"#REF!","v":{"$error":"#REF!"}},{"$f":"#REF!","v":{"$error":"#REF!"}},{"$f":"#REF!","v":{"$error":"#REF!"}},{"$f":"#REF!","v":{"$error":"#REF!"}},{"$f":"#REF!","v":{"$error":"#REF!"}},{"$f":"#REF!","v":{"$error":"#REF!"}},{"$f":"#REF!","v":{"$error":"#REF!"}},{"$f":"#REF!","v":{"$error":"#REF!"}},{"$f":"#REF!","v":{"$error":"#REF!"}},{"$f":"#REF!","v":{"$error":"#REF!"}},{"$f":"#REF!","v":{"$error":"#REF!"}},{"$f":"#REF!","v":{"$error":"#REF!"}},{"$f":"#REF!","v":{"$error":"#REF!"}},{"$f":"#REF!","v":{"$error":"#REF!"}},{"$f":"#REF!","v":{"$error":"#REF!"}},{"$f":"#REF!","v":{"$error":"#REF!"}},{"$f":"#REF!","v":{"$error":"#REF!"}},{"$f":"#REF!","v":{"$error":"#REF!"}},{"$f":"#REF!","v":{"$error":"#REF!"}},{"$f":"#REF!","v":{"$error":"#REF!"}},{"$f":"#REF!","v":{"$error":"#REF!"}},{"$f":"#REF!","v":{"$error":"#REF!"}},{"$f":"#REF!","v":{"$error":"#REF!"}},{"$f":"#REF!","v":{"$error":"#REF!"}},{"$f":"#REF!","v":{"$error":"#REF!"}},{"$f":"#REF!","v":{"$error":"#REF!"}},{"$f":"#REF!","v":{"$error":"#REF!"}},{"$f":"#REF!","v":{"$error":"#REF!"}},{"$f":"#REF!","v":{"$error":"#REF!"}},{"$f":"#REF!","v":{"$error":"#REF!"}},{"$f":"#REF!","v":{"$error":"#REF!"}},{"$f":"#REF!","v":{"$error":"#REF!"}},{"$f":"#REF!","v":{"$error":"#REF!"}}]
[null,{"$f":"#REF!","v":{"$error":"#REF!"}},{"$f":"#REF!","v":{"$error":"#REF!"}},{"$f":"#REF!","v":{"$error":"#REF!"}},{"$f":"#REF!","v":{"$error":"#REF!"}},{"$f":"#REF!","v":{"$error":"#REF!"}},{"$f":"#REF!","v":{"$error":"#REF!"}},{"$f":"#REF!","v":{"$error":"#REF!"}},{"$f":"#REF!","v":{"$error":"#REF!"}},{"$f":"#REF!","v":{"$error":"#REF!"}},{"$f":"#REF!","v":{"$error":"#REF!"}},{"$f":"#REF!","v":{"$error":"#REF!"}},{"$f":"#REF!","v":{"$error":"#REF!"}},{"$f":"#REF!","v":{"$error":"#REF!"}},{"$f":"#REF!","v":{"$error":"#REF!"}},{"$f":"#REF!","v":{"$error":"#REF!"}},{"$f":"#REF!","v":{"$error":"#REF!"}},{"$f":"#REF!","v":{"$error":"#REF!"}},{"$f":"#REF!","v":{"$error":"#REF!"}},{"$f":"#REF!","v":{"$error":"#REF!"}},{"$f":"#REF!","v":{"$error":"#REF!"}},{"$f":"#REF!","v":{"$error":"#REF!"}},{"$f":"#REF!","v":{"$error":"#REF!"}},{"$f":"#REF!","v":{"$error":"#REF!"}},{"$f":"#REF!","v":{"$error":"#REF!"}},{"$f":"#REF!","v":{"$error":"#REF!"}},{"$f":"#REF!","v":{"$error":"#REF!"}},{"$f":"#REF!","v":{"$error":"#REF!"}},{"$f":"#REF!","v":{"$error":"#REF!"}},{"$f":"#REF!","v":{"$error":"#REF!"}},{"$f":"#REF!","v":{"$error":"#REF!"}},{"$f":"#REF!","v":{"$error":"#REF!"}},{"$f":"#REF!","v":{"$error":"#REF!"}},{"$f":"#REF!","v":{"$error":"#REF!"}}]
[null,{"$f":"#REF!","v":{"$error":"#REF!"}},{"$f":"#REF!","v":{"$error":"#REF!"}},{"$f":"#REF!","v":{"$error":"#REF!"}},{"$f":"#REF!","v":{"$error":"#REF!"}},{"$f":"#REF!","v":{"$error":"#REF!"}},{"$f":"#REF!","v":{"$error":"#REF!"}},{"$f":"#REF!","v":{"$error":"#REF!"}},{"$f":"#REF!","v":{"$error":"#REF!"}},{"$f":"#REF!","v":{"$error":"#REF!"}},{"$f":"#REF!","v":{"$error":"#REF!"}},{"$f":"#REF!","v":{"$error":"#REF!"}},{"$f":"#REF!","v":{"$error":"#REF!"}},{"$f":"#REF!","v":{"$error":"#REF!"}},{"$f":"#REF!","v":{"$error":"#REF!"}},{"$f":"#REF!","v":{"$error":"#REF!"}},{"$f":"#REF!","v":{"$error":"#REF!"}},{"$f":"#REF!","v":{"$error":"#REF!"}},{"$f":"#REF!","v":{"$error":"#REF!"}},{"$f":"#REF!","v":{"$error":"#REF!"}},{"$f":"#REF!","v":{"$error":"#REF!"}},{"$f":"#REF!","v":{"$error":"#REF!"}},{"$f":"#REF!","v":{"$error":"#REF!"}},{"$f":"#REF!","v":{"$error":"#REF!"}},{"$f":"#REF!","v":{"$error":"#REF!"}},{"$f":"#REF!","v":{"$error":"#REF!"}},{"$f":"#REF!","v":{"$error":"#REF!"}},{"$f":"#REF!","v":{"$error":"#REF!"}},{"$f":"#REF!","v":{"$error":"#REF!"}},{"$f":"#REF!","v":{"$error":"#REF!"}},{"$f":"#REF!","v":{"$error":"#REF!"}},{"$f":"#REF!","v":{"$error":"#REF!"}},{"$f":"#REF!","v":{"$error":"#REF!"}},{"$f":"#REF!","v":{"$error":"#REF!"}}]
[null,{"$f":"#REF!","v":{"$error":"#REF!"}},{"$f":"#REF!","v":{"$error":"#REF!"}},{"$f":"#REF!","v":{"$error":"#REF!"}},{"$f":"#REF!","v":{"$error":"#REF!"}},{"$f":"#REF!","v":{"$error":"#REF!"}},{"$f":"#REF!","v":{"$error":"#REF!"}},{"$f":"#REF!","v":{"$error":"#REF!"}},{"$f":"#REF!","v":{"$error":"#REF!"}},{"$f":"#REF!","v":{"$error":"#REF!"}},{"$f":"#REF!","v":{"$error":"#REF!"}},{"$f":"#REF!","v":{"$error":"#REF!"}},{"$f":"#REF!","v":{"$error":"#REF!"}},{"$f":"#REF!","v":{"$error":"#REF!"}},{"$f":"#REF!","v":{"$error":"#REF!"}},{"$f":"#REF!","v":{"$error":"#REF!"}},{"$f":"#REF!","v":{"$error":"#REF!"}},{"$f":"#REF!","v":{"$error":"#REF!"}},{"$f":"#REF!","v":{"$error":"#REF!"}},{"$f":"#REF!","v":{"$error":"#REF!"}},{"$f":"#REF!","v":{"$error":"#REF!"}},{"$f":"#REF!","v":{"$error":"#REF!"}},{"$f":"#REF!","v":{"$error":"#REF!"}},{"$f":"#REF!","v":{"$error":"#REF!"}},{"$f":"#REF!","v":{"$error":"#REF!"}},{"$f":"#REF!","v":{"$error":"#REF!"}},{"$f":"#REF!","v":{"$error":"#REF!"}},{"$f":"#REF!","v":{"$error":"#REF!"}},{"$f":"#REF!","v":{"$error":"#REF!"}},{"$f":"#REF!","v":{"$error":"#REF!"}},{"$f":"#REF!","v":{"$error":"#REF!"}},{"$f":"#REF!","v":{"$error":"#REF!"}},{"$f":"#REF!","v":{"$error":"#REF!"}},{"$f":"#REF!","v":{"$error":"#REF!"}}]
[null,{"$f":"#REF!","v":{"$error":"#REF!"}},{"$f":"#REF!","v":{"$error":"#REF!"}},{"$f":"#REF!","v":{"$error":"#REF!"}},{"$f":"#REF!","v":{"$error":"#REF!"}},{"$f":"#REF!","v":{"$error":"#REF!"}},{"$f":"#REF!","v":{"$error":"#REF!"}},{"$f":"#REF!","v":{"$error":"#REF!"}},{"$f":"#REF!","v":{"$error":"#REF!"}},{"$f":"#REF!","v":{"$error":"#REF!"}},{"$f":"#REF!","v":{"$error":"#REF!"}},{"$f":"#REF!","v":{"$error":"#REF!"}},{"$f":"#REF!","v":{"$error":"#REF!"}},{"$f":"#REF!","v":{"$error":"#REF!"}},{"$f":"#REF!","v":{"$error":"#REF!"}},{"$f":"#REF!","v":{"$error":"#REF!"}},{"$f":"#REF!","v":{"$error":"#REF!"}},{"$f":"#REF!","v":{"$error":"#REF!"}},{"$f":"#REF!","v":{"$error":"#REF!"}},{"$f":"#REF!","v":{"$error":"#REF!"}},{"$f":"#REF!","v":{"$error":"#REF!"}},{"$f":"#REF!","v":{"$error":"#REF!"}},{"$f":"#REF!","v":{"$error":"#REF!"}},{"$f":"#REF!","v":{"$error":"#REF!"}},{"$f":"#REF!","v":{"$error":"#REF!"}},{"$f":"#REF!","v":{"$error":"#REF!"}},{"$f":"#REF!","v":{"$error":"#REF!"}},{"$f":"#REF!","v":{"$error":"#REF!"}},{"$f":"#REF!","v":{"$error":"#REF!"}},{"$f":"#REF!","v":{"$error":"#REF!"}},{"$f":"#REF!","v":{"$error":"#REF!"}},{"$f":"#REF!","v":{"$error":"#REF!"}},{"$f":"#REF!","v":{"$error":"#REF!"}},{"$f":"#REF!","v":{"$error":"#REF!"}}]
[null,{"$f":"#REF!","v":{"$error":"#REF!"}},{"$f":"#REF!","v":{"$error":"#REF!"}},{"$f":"#REF!","v":{"$error":"#REF!"}},{"$f":"#REF!","v":{"$error":"#REF!"}},{"$f":"#REF!","v":{"$error":"#REF!"}},{"$f":"#REF!","v":{"$error":"#REF!"}},{"$f":"#REF!","v":{"$error":"#REF!"}},{"$f":"#REF!","v":{"$error":"#REF!"}},{"$f":"#REF!","v":{"$error":"#REF!"}},{"$f":"#REF!","v":{"$error":"#REF!"}},{"$f":"#REF!","v":{"$error":"#REF!"}},{"$f":"#REF!","v":{"$error":"#REF!"}},{"$f":"#REF!","v":{"$error":"#REF!"}},{"$f":"#REF!","v":{"$error":"#REF!"}},{"$f":"#REF!","v":{"$error":"#REF!"}},{"$f":"#REF!","v":{"$error":"#REF!"}},{"$f":"#REF!","v":{"$error":"#REF!"}},{"$f":"#REF!","v":{"$error":"#REF!"}},{"$f":"#REF!","v":{"$error":"#REF!"}},{"$f":"#REF!","v":{"$error":"#REF!"}},{"$f":"#REF!","v":{"$error":"#REF!"}},{"$f":"#REF!","v":{"$error":"#REF!"}},{"$f":"#REF!","v":{"$error":"#REF!"}},{"$f":"#REF!","v":{"$error":"#REF!"}},{"$f":"#REF!","v":{"$error":"#REF!"}},{"$f":"#REF!","v":{"$error":"#REF!"}},{"$f":"#REF!","v":{"$error":"#REF!"}},{"$f":"#REF!","v":{"$error":"#REF!"}},{"$f":"#REF!","v":{"$error":"#REF!"}},{"$f":"#REF!","v":{"$error":"#REF!"}},{"$f":"#REF!","v":{"$error":"#REF!"}},{"$f":"#REF!","v":{"$error":"#REF!"}},{"$f":"#REF!","v":{"$error":"#REF!"}}]
[null,{"$f":"#REF!","v":{"$error":"#REF!"}},{"$f":"#REF!","v":{"$error":"#REF!"}},{"$f":"#REF!","v":{"$error":"#REF!"}},{"$f":"#REF!","v":{"$error":"#REF!"}},{"$f":"#REF!","v":{"$error":"#REF!"}},{"$f":"#REF!","v":{"$error":"#REF!"}},{"$f":"#REF!","v":{"$error":"#REF!"}},{"$f":"#REF!","v":{"$error":"#REF!"}},{"$f":"#REF!","v":{"$error":"#REF!"}},{"$f":"#REF!","v":{"$error":"#REF!"}},{"$f":"#REF!","v":{"$error":"#REF!"}},{"$f":"#REF!","v":{"$error":"#REF!"}},{"$f":"#REF!","v":{"$error":"#REF!"}},{"$f":"#REF!","v":{"$error":"#REF!"}},{"$f":"#REF!","v":{"$error":"#REF!"}},{"$f":"#REF!","v":{"$error":"#REF!"}},{"$f":"#REF!","v":{"$error":"#REF!"}},{"$f":"#REF!","v":{"$error":"#REF!"}},{"$f":"#REF!","v":{"$error":"#REF!"}},{"$f":"#REF!","v":{"$error":"#REF!"}},{"$f":"#REF!","v":{"$error":"#REF!"}},{"$f":"#REF!","v":{"$error":"#REF!"}},{"$f":"#REF!","v":{"$error":"#REF!"}},{"$f":"#REF!","v":{"$error":"#REF!"}},{"$f":"#REF!","v":{"$error":"#REF!"}},{"$f":"#REF!","v":{"$error":"#REF!"}},{"$f":"#REF!","v":{"$error":"#REF!"}},{"$f":"#REF!","v":{"$error":"#REF!"}},{"$f":"#REF!","v":{"$error":"#REF!"}},{"$f":"#REF!","v":{"$error":"#REF!"}},{"$f":"#REF!","v":{"$error":"#REF!"}},{"$f":"#REF!","v":{"$error":"#REF!"}},{"$f":"#REF!","v":{"$error":"#REF!"}}]
[null,{"$f":"#REF!","v":{"$error":"#REF!"}},{"$f":"#REF!","v":{"$error":"#REF!"}},{"$f":"#REF!","v":{"$error":"#REF!"}},{"$f":"#REF!","v":{"$error":"#REF!"}},{"$f":"#REF!","v":{"$error":"#REF!"}},{"$f":"#REF!","v":{"$error":"#REF!"}},{"$f":"#REF!","v":{"$error":"#REF!"}},{"$f":"#REF!","v":{"$error":"#REF!"}},{"$f":"#REF!","v":{"$error":"#REF!"}},{"$f":"#REF!","v":{"$error":"#REF!"}},{"$f":"#REF!","v":{"$error":"#REF!"}},{"$f":"#REF!","v":{"$error":"#REF!"}},{"$f":"#REF!","v":{"$error":"#REF!"}},{"$f":"#REF!","v":{"$error":"#REF!"}},{"$f":"#REF!","v":{"$error":"#REF!"}},{"$f":"#REF!","v":{"$error":"#REF!"}},{"$f":"#REF!","v":{"$error":"#REF!"}},{"$f":"#REF!","v":{"$error":"#REF!"}},{"$f":"#REF!","v":{"$error":"#REF!"}},{"$f":"#REF!","v":{"$error":"#REF!"}},{"$f":"#REF!","v":{"$error":"#REF!"}},{"$f":"#REF!","v":{"$error":"#REF!"}},{"$f":"#REF!","v":{"$error":"#REF!"}},{"$f":"#REF!","v":{"$error":"#REF!"}},{"$f":"#REF!","v":{"$error":"#REF!"}},{"$f":"#REF!","v":{"$error":"#REF!"}},{"$f":"#REF!","v":{"$error":"#REF!"}},{"$f":"#REF!","v":{"$error":"#REF!"}},{"$f":"#REF!","v":{"$error":"#REF!"}},{"$f":"#REF!","v":{"$error":"#REF!"}},{"$f":"#REF!","v":{"$error":"#REF!"}},{"$f":"#REF!","v":{"$error":"#REF!"}},{"$f":"#REF!","v":{"$error":"#REF!"}}]
[null,{"$f":"#REF!","v":{"$error":"#REF!"}},{"$f":"#REF!","v":{"$error":"#REF!"}},{"$f":"#REF!","v":{"$error":"#REF!"}},{"$f":"#REF!","v":{"$error":"#REF!"}},{"$f":"#REF!","v":{"$error":"#REF!"}},{"$f":"#REF!","v":{"$error":"#REF!"}},{"$f":"#REF!","v":{"$error":"#REF!"}},{"$f":"#REF!","v":{"$error":"#REF!"}},{"$f":"#REF!","v":{"$error":"#REF!"}},{"$f":"#REF!","v":{"$error":"#REF!"}},{"$f":"#REF!","v":{"$error":"#REF!"}},{"$f":"#REF!","v":{"$error":"#REF!"}},{"$f":"#REF!","v":{"$error":"#REF!"}},{"$f":"#REF!","v":{"$error":"#REF!"}},{"$f":"#REF!","v":{"$error":"#REF!"}},{"$f":"#REF!","v":{"$error":"#REF!"}},{"$f":"#REF!","v":{"$error":"#REF!"}},{"$f":"#REF!","v":{"$error":"#REF!"}},{"$f":"#REF!","v":{"$error":"#REF!"}},{"$f":"#REF!","v":{"$error":"#REF!"}},{"$f":"#REF!","v":{"$error":"#REF!"}},{"$f":"#REF!","v":{"$error":"#REF!"}},{"$f":"#REF!","v":{"$error":"#REF!"}},{"$f":"#REF!","v":{"$error":"#REF!"}},{"$f":"#REF!","v":{"$error":"#REF!"}},{"$f":"#REF!","v":{"$error":"#REF!"}},{"$f":"#REF!","v":{"$error":"#REF!"}},{"$f":"#REF!","v":{"$error":"#REF!"}},{"$f":"#REF!","v":{"$error":"#REF!"}},{"$f":"#REF!","v":{"$error":"#REF!"}},{"$f":"#REF!","v":{"$error":"#REF!"}},{"$f":"#REF!","v":{"$error":"#REF!"}},{"$f":"#REF!","v":{"$error":"#REF!"}}]
[null,{"$f":"#REF!","v":{"$error":"#REF!"}},{"$f":"#REF!","v":{"$error":"#REF!"}},{"$f":"#REF!","v":{"$error":"#REF!"}},{"$f":"#REF!","v":{"$error":"#REF!"}},{"$f":"#REF!","v":{"$error":"#REF!"}},{"$f":"#REF!","v":{"$error":"#REF!"}},{"$f":"#REF!","v":{"$error":"#REF!"}},{"$f":"#REF!","v":{"$error":"#REF!"}},{"$f":"#REF!","v":{"$error":"#REF!"}},{"$f":"#REF!","v":{"$error":"#REF!"}},{"$f":"#REF!","v":{"$error":"#REF!"}},{"$f":"#REF!","v":{"$error":"#REF!"}},{"$f":"#REF!","v":{"$error":"#REF!"}},{"$f":"#REF!","v":{"$error":"#REF!"}},{"$f":"#REF!","v":{"$error":"#REF!"}},{"$f":"#REF!","v":{"$error":"#REF!"}},{"$f":"#REF!","v":{"$error":"#REF!"}},{"$f":"#REF!","v":{"$error":"#REF!"}},{"$f":"#REF!","v":{"$error":"#REF!"}},{"$f":"#REF!","v":{"$error":"#REF!"}},{"$f":"#REF!","v":{"$error":"#REF!"}},{"$f":"#REF!","v":{"$error":"#REF!"}},{"$f":"#REF!","v":{"$error":"#REF!"}},{"$f":"#REF!","v":{"$error":"#REF!"}},{"$f":"#REF!","v":{"$error":"#REF!"}},{"$f":"#REF!","v":{"$error":"#REF!"}},{"$f":"#REF!","v":{"$error":"#REF!"}},{"$f":"#REF!","v":{"$error":"#REF!"}},{"$f":"#REF!","v":{"$error":"#REF!"}},{"$f":"#REF!","v":{"$error":"#REF!"}},{"$f":"#REF!","v":{"$error":"#REF!"}},{"$f":"#REF!","v":{"$error":"#REF!"}},{"$f":"#REF!","v":{"$error":"#REF!"}}]
[null,{"$f":"#REF!","v":{"$error":"#REF!"}},{"$f":"#REF!","v":{"$error":"#REF!"}},{"$f":"#REF!","v":{"$error":"#REF!"}},{"$f":"#REF!","v":{"$error":"#REF!"}},{"$f":"#REF!","v":{"$error":"#REF!"}},{"$f":"#REF!","v":{"$error":"#REF!"}},{"$f":"#REF!","v":{"$error":"#REF!"}},{"$f":"#REF!","v":{"$error":"#REF!"}},{"$f":"#REF!","v":{"$error":"#REF!"}},{"$f":"#REF!","v":{"$error":"#REF!"}},{"$f":"#REF!","v":{"$error":"#REF!"}},{"$f":"#REF!","v":{"$error":"#REF!"}},{"$f":"#REF!","v":{"$error":"#REF!"}},{"$f":"#REF!","v":{"$error":"#REF!"}},{"$f":"#REF!","v":{"$error":"#REF!"}},{"$f":"#REF!","v":{"$error":"#REF!"}},{"$f":"#REF!","v":{"$error":"#REF!"}},{"$f":"#REF!","v":{"$error":"#REF!"}},{"$f":"#REF!","v":{"$error":"#REF!"}},{"$f":"#REF!","v":{"$error":"#REF!"}},{"$f":"#REF!","v":{"$error":"#REF!"}},{"$f":"#REF!","v":{"$error":"#REF!"}},{"$f":"#REF!","v":{"$error":"#REF!"}},{"$f":"#REF!","v":{"$error":"#REF!"}},{"$f":"#REF!","v":{"$error":"#REF!"}},{"$f":"#REF!","v":{"$error":"#REF!"}},{"$f":"#REF!","v":{"$error":"#REF!"}},{"$f":"#REF!","v":{"$error":"#REF!"}},{"$f":"#REF!","v":{"$error":"#REF!"}},{"$f":"#REF!","v":{"$error":"#REF!"}},{"$f":"#REF!","v":{"$error":"#REF!"}},{"$f":"#REF!","v":{"$error":"#REF!"}},{"$f":"#REF!","v":{"$error":"#REF!"}}]
[null,{"$f":"#REF!","v":{"$error":"#REF!"}},{"$f":"#REF!","v":{"$error":"#REF!"}},{"$f":"#REF!","v":{"$error":"#REF!"}},{"$f":"#REF!","v":{"$error":"#REF!"}},{"$f":"#REF!","v":{"$error":"#REF!"}},{"$f":"#REF!","v":{"$error":"#REF!"}},{"$f":"#REF!","v":{"$error":"#REF!"}},{"$f":"#REF!","v":{"$error":"#REF!"}},{"$f":"#REF!","v":{"$error":"#REF!"}},{"$f":"#REF!","v":{"$error":"#REF!"}},{"$f":"#REF!","v":{"$error":"#REF!"}},{"$f":"#REF!","v":{"$error":"#REF!"}},{"$f":"#REF!","v":{"$error":"#REF!"}},{"$f":"#REF!","v":{"$error":"#REF!"}},{"$f":"#REF!","v":{"$error":"#REF!"}},{"$f":"#REF!","v":{"$error":"#REF!"}},{"$f":"#REF!","v":{"$error":"#REF!"}},{"$f":"#REF!","v":{"$error":"#REF!"}},{"$f":"#REF!","v":{"$error":"#REF!"}},{"$f":"#REF!","v":{"$error":"#REF!"}},{"$f":"#REF!","v":{"$error":"#REF!"}},{"$f":"#REF!","v":{"$error":"#REF!"}},{"$f":"#REF!","v":{"$error":"#REF!"}},{"$f":"#REF!","v":{"$error":"#REF!"}},{"$f":"#REF!","v":{"$error":"#REF!"}},{"$f":"#REF!","v":{"$error":"#REF!"}},{"$f":"#REF!","v":{"$error":"#REF!"}},{"$f":"#REF!","v":{"$error":"#REF!"}},{"$f":"#REF!","v":{"$error":"#REF!"}},{"$f":"#REF!","v":{"$error":"#REF!"}},{"$f":"#REF!","v":{"$error":"#REF!"}},{"$f":"#REF!","v":{"$error":"#REF!"}},{"$f":"#REF!","v":{"$error":"#REF!"}}]
[null,{"$f":"#REF!","v":{"$error":"#REF!"}},{"$f":"#REF!","v":{"$error":"#REF!"}},{"$f":"#REF!","v":{"$error":"#REF!"}},{"$f":"#REF!","v":{"$error":"#REF!"}},{"$f":"#REF!","v":{"$error":"#REF!"}},{"$f":"#REF!","v":{"$error":"#REF!"}},{"$f":"#REF!","v":{"$error":"#REF!"}},{"$f":"#REF!","v":{"$error":"#REF!"}},{"$f":"#REF!","v":{"$error":"#REF!"}},{"$f":"#REF!","v":{"$error":"#REF!"}},{"$f":"#REF!","v":{"$error":"#REF!"}},{"$f":"#REF!","v":{"$error":"#REF!"}},{"$f":"#REF!","v":{"$error":"#REF!"}},{"$f":"#REF!","v":{"$error":"#REF!"}},{"$f":"#REF!","v":{"$error":"#REF!"}},{"$f":"#REF!","v":{"$error":"#REF!"}},{"$f":"#REF!","v":{"$error":"#REF!"}},{"$f":"#REF!","v":{"$error":"#REF!"}},{"$f":"#REF!","v":{"$error":"#REF!"}},{"$f":"#REF!","v":{"$error":"#REF!"}},{"$f":"#REF!","v":{"$error":"#REF!"}},{"$f":"#REF!","v":{"$error":"#REF!"}},{"$f":"#REF!","v":{"$error":"#REF!"}},{"$f":"#REF!","v":{"$error":"#REF!"}},{"$f":"#REF!","v":{"$error":"#REF!"}},{"$f":"#REF!","v":{"$error":"#REF!"}},{"$f":"#REF!","v":{"$error":"#REF!"}},{"$f":"#REF!","v":{"$error":"#REF!"}},{"$f":"#REF!","v":{"$error":"#REF!"}},{"$f":"#REF!","v":{"$error":"#REF!"}},{"$f":"#REF!","v":{"$error":"#REF!"}},{"$f":"#REF!","v":{"$error":"#REF!"}},{"$f":"#REF!","v":{"$error":"#REF!"}}]
[null,{"$f":"#REF!","v":{"$error":"#REF!"}},{"$f":"#REF!","v":{"$error":"#REF!"}},{"$f":"#REF!","v":{"$error":"#REF!"}},{"$f":"#REF!","v":{"$error":"#REF!"}},{"$f":"#REF!","v":{"$error":"#REF!"}},{"$f":"#REF!","v":{"$error":"#REF!"}},{"$f":"#REF!","v":{"$error":"#REF!"}},{"$f":"#REF!","v":{"$error":"#REF!"}},{"$f":"#REF!","v":{"$error":"#REF!"}},{"$f":"#REF!","v":{"$error":"#REF!"}},{"$f":"#REF!","v":{"$error":"#REF!"}},{"$f":"#REF!","v":{"$error":"#REF!"}},{"$f":"#REF!","v":{"$error":"#REF!"}},{"$f":"#REF!","v":{"$error":"#REF!"}},{"$f":"#REF!","v":{"$error":"#REF!"}},{"$f":"#REF!","v":{"$error":"#REF!"}},{"$f":"#REF!","v":{"$error":"#REF!"}},{"$f":"#REF!","v":{"$error":"#REF!"}},{"$f":"#REF!","v":{"$error":"#REF!"}},{"$f":"#REF!","v":{"$error":"#REF!"}},{"$f":"#REF!","v":{"$error":"#REF!"}},{"$f":"#REF!","v":{"$error":"#REF!"}},{"$f":"#REF!","v":{"$error":"#REF!"}},{"$f":"#REF!","v":{"$error":"#REF!"}},{"$f":"#REF!","v":{"$error":"#REF!"}},{"$f":"#REF!","v":{"$error":"#REF!"}},{"$f":"#REF!","v":{"$error":"#REF!"}},{"$f":"#REF!","v":{"$error":"#REF!"}},{"$f":"#REF!","v":{"$error":"#REF!"}},{"$f":"#REF!","v":{"$error":"#REF!"}},{"$f":"#REF!","v":{"$error":"#REF!"}},{"$f":"#REF!","v":{"$error":"#REF!"}},{"$f":"#REF!","v":{"$error":"#REF!"}}]
[null,{"$f":"#REF!","v":{"$error":"#REF!"}},{"$f":"#REF!","v":{"$error":"#REF!"}},{"$f":"#REF!","v":{"$error":"#REF!"}},{"$f":"#REF!","v":{"$error":"#REF!"}},{"$f":"#REF!","v":{"$error":"#REF!"}},{"$f":"#REF!","v":{"$error":"#REF!"}},{"$f":"#REF!","v":{"$error":"#REF!"}},{"$f":"#REF!","v":{"$error":"#REF!"}},{"$f":"#REF!","v":{"$error":"#REF!"}},{"$f":"#REF!","v":{"$error":"#REF!"}},{"$f":"#REF!","v":{"$error":"#REF!"}},{"$f":"#REF!","v":{"$error":"#REF!"}},{"$f":"#REF!","v":{"$error":"#REF!"}},{"$f":"#REF!","v":{"$error":"#REF!"}},{"$f":"#REF!","v":{"$error":"#REF!"}},{"$f":"#REF!","v":{"$error":"#REF!"}},{"$f":"#REF!","v":{"$error":"#REF!"}},{"$f":"#REF!","v":{"$error":"#REF!"}},{"$f":"#REF!","v":{"$error":"#REF!"}},{"$f":"#REF!","v":{"$error":"#REF!"}},{"$f":"#REF!","v":{"$error":"#REF!"}},{"$f":"#REF!","v":{"$error":"#REF!"}},{"$f":"#REF!","v":{"$error":"#REF!"}},{"$f":"#REF!","v":{"$error":"#REF!"}},{"$f":"#REF!","v":{"$error":"#REF!"}},{"$f":"#REF!","v":{"$error":"#REF!"}},{"$f":"#REF!","v":{"$error":"#REF!"}},{"$f":"#REF!","v":{"$error":"#REF!"}},{"$f":"#REF!","v":{"$error":"#REF!"}},{"$f":"#REF!","v":{"$error":"#REF!"}},{"$f":"#REF!","v":{"$error":"#REF!"}},{"$f":"#REF!","v":{"$error":"#REF!"}},{"$f":"#REF!","v":{"$error":"#REF!"}}]
[null,22,{"$f":"#REF!","v":{"$error":"#REF!"}},{"$f":"#REF!","v":{"$error":"#REF!"}},{"$f":"#REF!","v":{"$error":"#REF!"}},{"$f":"#REF!","v":{"$error":"#REF!"}},{"$f":"#REF!","v":{"$error":"#REF!"}},{"$f":"#REF!","v":{"$error":"#REF!"}},{"$f":"#REF!","v":{"$error":"#REF!"}},{"$f":"#REF!","v":{"$error":"#REF!"}},{"$f":"#REF!","v":{"$error":"#REF!"}},{"$f":"#REF!","v":{"$error":"#REF!"}},{"$f":"#REF!","v":{"$error":"#REF!"}},{"$f":"#REF!","v":{"$error":"#REF!"}},{"$f":"#REF!","v":{"$error":"#REF!"}},{"$f":"#REF!","v":{"$error":"#REF!"}},{"$f":"#REF!","v":{"$error":"#REF!"}},{"$f":"#REF!","v":{"$error":"#REF!"}},{"$f":"#REF!","v":{"$error":"#REF!"}},{"$f":"#REF!","v":{"$error":"#REF!"}},{"$f":"#REF!","v":{"$error":"#REF!"}},{"$f":"#REF!","v":{"$error":"#REF!"}},{"$f":"#REF!","v":{"$error":"#REF!"}},{"$f":"#REF!","v":{"$error":"#REF!"}},{"$f":"#REF!","v":{"$error":"#REF!"}},{"$f":"#REF!","v":{"$error":"#REF!"}},{"$f":"#REF!","v":{"$error":"#REF!"}},{"$f":"#REF!","v":{"$error":"#REF!"}},{"$f":"#REF!","v":{"$error":"#REF!"}},{"$f":"#REF!","v":{"$error":"#REF!"}},{"$f":"#REF!","v":{"$error":"#REF!"}},{"$f":"#REF!","v":{"$error":"#REF!"}},{"$f":"#REF!","v":{"$error":"#REF!"}},{"$f":"#REF!","v":{"$error":"#REF!"}}]
[null,23,{"$f":"#REF!","v":{"$error":"#REF!"}},{"$f":"#REF!","v":{"$error":"#REF!"}},{"$f":"#REF!","v":{"$error":"#REF!"}},{"$f":"#REF!","v":{"$error":"#REF!"}},{"$f":"#REF!","v":{"$error":"#REF!"}},{"$f":"#REF!","v":{"$error":"#REF!"}},{"$f":"#REF!","v":{"$error":"#REF!"}},{"$f":"#REF!","v":{"$error":"#REF!"}},{"$f":"#REF!","v":{"$error":"#REF!"}},{"$f":"#REF!","v":{"$error":"#REF!"}},{"$f":"#REF!","v":{"$error":"#REF!"}},{"$f":"#REF!","v":{"$error":"#REF!"}},{"$f":"#REF!","v":{"$error":"#REF!"}},{"$f":"#REF!","v":{"$error":"#REF!"}},{"$f":"#REF!","v":{"$error":"#REF!"}},{"$f":"#REF!","v":{"$error":"#REF!"}},{"$f":"#REF!","v":{"$error":"#REF!"}},{"$f":"#REF!","v":{"$error":"#REF!"}},{"$f":"#REF!","v":{"$error":"#REF!"}},{"$f":"#REF!","v":{"$error":"#REF!"}},{"$f":"#REF!","v":{"$error":"#REF!"}},{"$f":"#REF!","v":{"$error":"#REF!"}},{"$f":"#REF!","v":{"$error":"#REF!"}},{"$f":"#REF!","v":{"$error":"#REF!"}},{"$f":"#REF!","v":{"$error":"#REF!"}},{"$f":"#REF!","v":{"$error":"#REF!"}},{"$f":"#REF!","v":{"$error":"#REF!"}},{"$f":"#REF!","v":{"$error":"#REF!"}},{"$f":"#REF!","v":{"$error":"#REF!"}},{"$f":"#REF!","v":{"$error":"#REF!"}},{"$f":"#REF!","v":{"$error":"#REF!"}},{"$f":"#REF!","v":{"$error":"#REF!"}}]
[]
[null,"LIELDRAUGS                                                                     NORISES VIETA:"]
[]
[]
[null,"ATBALSTĪTĀJI"]

{"sheet":"KinoV_kopv","index":2,"n_rows":31,"n_cols":28,"rows_kept":31,"cut":false,"hidden":true,"merged":[[1,4,3,24],[4,5,4,6],[4,7,4,8],[4,9,4,10],[4,13,4,14],[4,23,4,24],[4,11,4,12],[4,15,4,16],[4,17,4,18],[4,19,4,20],[4,21,4,22]]}
[]
[null,null,null,null,"\"Kino viktorīna\" | REGULĀRĀS SEZONAS KOPVĒRTĒJUMS"]
[]
[]
[null,"#","#","+/-","Komandas / Tematiskās viktorīnas","Asa sižeta filmas",null,"Fantāzija un zinātniskās fantastika",null,"Latviešu filmas",null,"Ziemassvētki",null,"Romantiskās filmas un drāmas",null,"Animācijas filmas un seriāli",null,"Šausmu filmas + supervaroņu filmas",null,"21.gadsimta seriāli",null,"Detektīvi, kriminālfilmas un seriāli",null,"KOPĀ\n (Pareizās atbildes / Punkti)"]
[null,1,1,{"$f":"B6-C6","v":0},"Baltijas jūras izsmelšanas b.",33,520,57,890,57,890,51,800,57,875,51,800,50,765,52,815,52,775,{"$f":"F6+H6+J6+N6+L6+P6+R6+T6+V6-0.5*MAX(F6,H6,J6,N6,L6,P6,R6,T6,V6)-0.5*MIN(F6,H6,J6,N6,L6,P6,R6,T6,V6)","v":415},{"$f":"G6+I6+K6+O6+M6+Q6+S6+U6+W6-0.5*MAX(G6,I6,K6,O6,M6,Q6,S6,U6,W6)-0.5*MIN(G6,I6,K6,O6,M6,Q6,S6,U6,W6)","v":6425},null,{"$f":"F6+H6+J6+N6+L6+P6+R6+T6","v":408},{"$f":"G6+I6+K6+O6+M6+Q6+S6+U6","v":6355}]
[null,2,2,0,"Netaisnības līga",58,900,56,895,46,680,42.5,670,45,695,46,720,54,845,46,725,59,895,401.75,6240,null,{"$f":"F7+H7+J7+N7+L7+P7+R7+T7","v":393.5},{"$f":"G7+I7+K7+O7+M7+Q7+S7+U7","v":6130}]
[null,3,3,0,"Īsts Klintvuds",47,765,56,885,51,815,47.5,677.5,52,795,44,670,45,730,48,755,54,825,394.5,6140,null,390.5,6092.5]
[null,4,4,0,"GoGoFresh",42,665,52,825,49,775,40.5,642.5,56,870,45,695,54,855,45,715,46,700,381.25,5986.25,null,383.5,6042.5]
[null,5,5,0,"Netaisnības līgas taisnā tiesa",53,835,45,720,53,825,39.5,642.5,42,655,46,720,46,725,47.5,757.5,53,805,378.75,5946.25,null,372,5880]
[null,6,6,0,"Animāļi",48,760,48,775,45,700,37.5,592.5,44,670,48,735,58,905,43,685,43,670,366.75,5743.75,null,371.5,5822.5]
[null,7,7,0,"You cant sith with us",47,725,49,780,0,0,41.5,642.5,55,855,35,540,51,800,45,720,50,790,346,5425,null,323.5,5062.5]
[null,8,8,0,"The not so great expectations",32,490,51,810,33,485,38.5,605,41,615,50,770,48,755,35,565,39,605,326,5052.5,null,328.5,5095]
[null,10,9,1,"Cūkdelfīna sapnis",52,815,47,715,0,0,36,565,41,635,29,465,52,825,38,625,49,760,318,4992.5,null,295,4645]
[null,9,10,-1,"Close enough",41,635,42,665,0,0,39.5,617.5,49,725,41,630,44,680,44,680,43,680,319,4950,null,300.5,4632.5]
[null,12,11,1,"Katalīna",0,0,50,785,0,0,0,0,53,795,53,830,53,830,48.5,760,47,730,278,4315,null,257.5,4000]
[null,11,12,-1,"A Team has no name",26,410,44,680,0,0,35,525,33,505,41,650,38,585,39.5,632.5,23,350,257.5,3997.5,null,256.5,3987.5]
[null,13,13,0,"Kino kults",55,855,53,840,0,0,47.5,732.5,49,735,0,0,0,0,0,0,0,0,177,2735,null,204.5,3162.5]
[null,14,14,0,"DeJaVu",0,0,0,0,57,895,0,0,36,560,0,0,0,0,0,0,0,0,64.5,1007.5,null,93,1455]
[null,15,15,0,"Āreče",0,0,53,830,0,0,0,0,0,0,0,0,0,0,0,0,0,0,26.5,415,null,53,830]
[null,16,16,0,"Baltais žigulis",0,0,0,0,53,830,0,0,0,0,0,0,0,0,0,0,0,0,26.5,415,null,53,830]
[null,17,17,0,"RANDOMs",0,0,50,785,0,0,0,0,0,0,0,0,0,0,0,0,0,0,25,392.5,null,50,785]
[null,18,18,0,"Žīdam ir taisnība",0,0,0,0,0,0,0,0,0,0,0,0,49,755,0,0,0,0,24.5,377.5,null,49,755]
[null,19,19,0,"Brāķis bez mežakuiļa",0,0,0,0,46,735,0,0,0,0,0,0,0,0,0,0,0,0,23,367.5,null,46,735]
[null,20,20,"-","Gyroscope",0,0,0,0,0,0,0,0,0,0,0,0,0,0,33.5,540,0,0,16.75,270,null,33.5,540]
[null,21,21,"-","Vidusskolas salidojums",0,0,0,0,0,0,0,0,0,0,0,0,0,0,33.5,522.5,0,0,16.75,261.25,null,33.5,522.5]
[null,22,22,{"$f":"B27-C27","v":0},"Mileniāļu piekūns",0,0,0,0,0,0,0,0,0,0,32,510,0,0,0,0,0,0,16,255,null,32,510]
[null,23,23,{"$f":"B28-C28","v":0},"Goodfellas",0,0,0,0,0,0,30.5,465,0,0,0,0,0,0,0,0,0,0,15.25,232.5,null,30.5,465]
[]
[]
[null,null,null,null,"LIELDRAUGS                                                             ATBALSTĪTĀJI"]

{"sheet":"SpV_KOPV","index":3,"n_rows":36,"n_cols":28,"rows_kept":36,"cut":false,"hidden":true,"merged":[[3,5,3,6],[3,7,3,8],[3,23,3,24],[1,3,2,24],[3,9,3,10],[3,11,3,12],[3,13,3,14],[3,15,3,16],[3,17,3,18],[3,19,3,20],[3,21,3,22]]}
[]
[null,null,null,"REGULĀRĀS SEZONAS KOPVĒRTĒJUMS"]
[]
[null,"#","#","Izmaiņas","Komandas / Raundi","1.kārta",null,"2.kārta",null,"3.kārta",null,"4.kārta",null,"5.kārta",null,"6.kārta",null,"7.kārta",null,"8.kārta",null,"9.kārta",null,"KOPĀ"]
[null,1,1,{"$f":"-(B5-C5)","v":0},"Zigfrīds Muktupāvels",52,785,54.5,815,49,760,52,795,57,885,54,830,55.5,860,53,800,53,805,{"$f":"F5+H5+J5+L5+N5+P5+R5+T5+V5-0.5*MAX(F5,H5,J5,L5,N5,P5,R5,T5,T5)-0.5*MIN(F5,H5,J5,L5,N5,P5,R5,T5,T5)","v":427},{"$f":"G5+I5+K5+M5+O5+Q5+S5+U5+W5-0.5*MAX(G5,I5,K5,M5,O5,Q5,S5,U5,U5)-0.5*MIN(G5,I5,K5,M5,O5,Q5,S5,U5,U5)","v":6512.5},null,{"$f":"SUM(F5,H5,J5,L5,N5,P5,R5,T5,V5)","v":480},{"$f":"SUM(G5,I5,K5,M5,O5,Q5,S5,U5,W5)","v":7335}]
[null,2,2,0,"Japānas beisbola izlase",48,730,57.5,882.5,49.5,762.5,52,800,55,845,54,830,48.5,730,49,775,49,780,409.75,6328.75,null,{"$f":"SUM(F6,H6,J6,L6,N6,P6,R6,T6,V6)","v":462.5},{"$f":"SUM(G6,I6,K6,M6,O6,Q6,S6,U6,W6)","v":7135}]
[null,3,3,0,"Alus zaldāti",48,730,53,810,48,760,48,730,50.5,770,52,805,50.5,785,50.5,782.5,51,770,401,6172.5,null,451.5,6942.5]
[null,4,4,0,"Diskusiju klubiņš",40,625,55,847.5,50,780,53,830,53,820,45.5,707.5,51,790,44.5,685,43.5,672.5,388,6021.25,null,435.5,6757.5]
[null,5,5,0,"Zinātāji",46,685,41,657.5,51,815,50,775,46,720,46.5,712.5,51,780,52,810,46.5,695,383.5,5913.75,null,430,6650]
[null,6,6,0,"Fireball",52,785,47.5,727.5,53,825,52,800,48,740,43.5,657.5,42,640,49.5,742.5,45,695,385,5880,null,432.5,6612.5]
[null,7,7,0,"Katlakalns / KKK",50,765,49.5,765,46,725,45,710,49,750,42.5,652.5,44,685,47,705,50,765,376.75,5813.75,null,423,6522.5]
[null,8,8,0,"Jeržābeks",47,705,49,745,52.5,815,49,770,41,640,41,610,47,720,48,740,50,775,377.75,5807.5,null,424.5,6520]
[null,9,9,0,"kOzis",50,765,45.5,705,45,695,42,650,52,795,49,745,47,720,43.5,665,46.5,715,373.5,5732.5,null,420.5,6455]
[null,10,10,0,"Dīvānueksperti.lv",49,735,54,815,49,760,47,715,42,670,41.5,637.5,40.5,610,50,775,45.5,687.5,371.25,5692.5,null,418.5,6405]
[null,11,13,2,"Rozā krekli un mokasīni",46,695,43.5,672.5,42,640,49,735,47,725,45,695,48.5,750,49,725,45,702.5,369.5,5645,null,415,6340]
[null,12,11,-1,"Baltais gailis",47,730,49,770,48,740,47,740,45,670,44,675,43,685,45,700,41.5,640,363.5,5630,null,409.5,6350]
[null,13,14,1,"Džamolidins Abdužaparovs",49,745,45.5,690,46,715,48,735,43,675,42.5,662.5,43,675,47.5,737.5,44.5,697.5,363.25,5628.75,null,409,6332.5]
[null,14,15,1,"Karaliskais kronis",46,710,51,767.5,33,500,46,710,43.5,665,40,615,50.5,785,52.5,795,44,690,363.75,5590,null,406.5,6237.5]
[null,15,12,-3,"Stosi",43,640,55,840,35,545,54,835,48,735,43,695,42,640,46,735,36,580,357,5552.5,null,402,6245]
[null,16,17,1,"0%Apskaidrība",37,555,49,737.5,45,675,46,700,42,635,37.5,585,47,695,41.5,640,47.5,737.5,349.5,5313.75,null,392.5,5960]
[null,17,16,-1,"Arigo Toro",42,635,44,675,43,650,45,680,47,725,40.5,625,48.5,752.5,42.5,652.5,36,565,344,5271.25,null,388.5,5960]
[null,18,18,0,"BallDontLie",36,535,39,605,43,665,45,695,46,705,39,580,47,725,43.5,682.5,44.5,677.5,341.5,5240,null,383,5870]
[null,19,19,0,"A komanda",45,690,40.5,620,49,745,41,620,42,665,38.5,600,35.5,525,43,655,41.5,615,333.75,5100,null,376,5735]
[null,20,20,0,"Lai Top",33,505,43.5,660,37,590,41,615,38,595,34,500,33.5,542.5,33.5,512.5,34.5,532.5,289.75,4472.5,null,328,5052.5]
[null,21,21,0,"Melnais zirdziņš",0,0,28.5,422.5,38,590,44,680,42,675,33,515,40,610,42.5,645,35.5,535,281.5,4332.5,null,303.5,4672.5]
[null,22,22,0,"Turks un polis",33,505,30,447.5,32,495,36,570,42,655,30.5,460,0,0,36.5,562.5,0,0,219,3367.5,null,240,3695]
[null,23,23,0,"Amatieru pietura",38,605,38.5,587.5,36,570,35,555,40.5,602.5,40,625,0,0,0,0,0,0,207.75,3232.5,null,228,3545]
[null,24,24,0,"Ātrie",23.5,370,24,380,30,465,29,450,34,540,26.5,420,27.5,412.5,23.5,365,0,0,189.25,2950,null,218,3402.5]
[null,25,25,0,"Maurīcijs",35,515,40,602.5,0,0,34,530,40,615,39,590,0,0,0,0,0,0,168,2545,null,188,2852.5]
[null,26,26,0,"Enkurs rauj ezerā",36,555,40,615,40,610,0,0,0,0,0,0,0,0,43.5,672.5,0,0,137.75,2116.25,null,159.5,2452.5]
[null,27,27,0,"Melnstrādnieki",0,0,50.5,762.5,0,0,48,760,51,775,0,0,0,0,0,0,0,0,124,1910,null,149.5,2297.5]
[null,28,28,0,"Lācēni",34.5,537.5,28.5,452.5,41,650,0,0,0,0,0,0,0,0,0,0,0,0,83.5,1315,null,104,1640]
[null,29,29,0,"Tev tas liekas NORMĀLI?",0,0,0,0,38.5,590,36,560,0,0,0,0,0,0,0,0,0,0,55.25,855,null,74.5,1150]
[]
[]
[null,null,null,"LIELDRAUGS                                           ATBALSTĪTĀJI"]

{"sheet":"aktuala (6)","index":4,"n_rows":25,"n_cols":34,"rows_kept":25,"cut":false,"hidden":true,"merged":[[3,29,3,31],[3,32,3,33],[1,2,2,33],[3,3,3,5],[3,6,3,8],[3,9,3,11],[3,12,3,14],[3,15,3,16],[3,17,3,19],[3,20,3,22],[3,23,3,25],[3,26,3,28]]}
[]
[null,null,{"$f":"'F1'!B2","v":"Sporta viktorīnas speciālizlaidums | F1 viktorīna | 2025.gada 13.augusts"}]
[]
[null,"#","Komandas / Raundi",1,null,null,2,null,null,3,null,null,4,null,null,5,null,6,null,null,7,null,null,8,null,null,9,null,null,10,null,null,"KOPĀ"]
[null,1,"Fireball",6,15,90,3,10,30,5,15,75,6,20,120,7,105,4,15,60,6,20,120,3,15,45,5,10,50,7,1,130,53,825]
[null,2,"Jeržābeks",6,15,90,2,10,20,5,15,75,6,20,120,8,120,5,15,75,5,10,50,4.5,20,90,4,15,60,6,1,115,52.5,815]
[null,3,"Japānas beisbola izlase",6,20,120,4,15,60,4,10,40,6,15,90,7,105,4,20,80,4,10,40,4.5,15,67.5,5,15,75,4,1,85,49.5,762.5]
[null,4,"Zigfrīds Muktupāvels",5,20,100,5,15,75,4,10,40,6,15,90,8,120,2,10,20,6,20,120,2,15,30,6,15,90,5,0,75,49,760]
[null,5,"A komanda",4,10,40,5,20,100,5,15,75,5,15,75,8,120,4,15,60,6,20,120,3,15,45,5,10,50,4,0,60,49,745]
[null,6,"Baltais gailis",6,15,90,3,10,30,4,15,60,6,20,120,8,120,4,15,60,5,15,75,4,10,40,5,20,100,3,0,45,48,740]
[null,7,"kOzis",4,10,40,3,20,60,5,15,75,5,15,75,8,120,4,15,60,6,20,120,3,10,30,1,15,15,5,1,100,45,695]
[null,8,"BallDontLie",3,15,45,3,10,30,5,15,75,5,20,100,8,120,2,15,30,6,20,120,4,10,40,2,15,30,5,0,75,43,665]
[null,9,"Arigo Toro",4,20,80,4,15,60,4,10,40,4,15,60,8,120,2,15,30,6,20,120,2,15,30,5,10,50,4,0,60,43,650]
[null,10,"Stosi",5,15,75,3,15,45,3,10,30,6,20,120,0,0,2,15,30,5,20,100,4,10,40,4,15,60,3,0,45,35,545]
[null,11,"Turks un polis",4,15,60,3,10,30,3,15,45,5,20,100,7,105,2,20,40,5,15,75,1,10,10,1,15,15,1,0,15,32,495]
[null,12,"Ātrie",2,15,30,3,10,30,4,20,80,1.5,15,22.5,5,75,2,10,20,4,20,80,2.5,15,37.5,5,15,75,1,0,15,30,465]
[null,13,{"$f":"#REF!","v":{"$error":"#REF!"}},null,{"$f":"VLOOKUP(C17,#REF!,2,FALSE)","v":{"$error":"#REF!"}},{"$f":"D17*E17","v":{"$error":"#REF!"}},null,{"$f":"VLOOKUP(C17,#REF!,3,FALSE)","v":{"$error":"#REF!"}},{"$f":"G17*H17","v":{"$error":"#REF!"}},null,{"$f":"VLOOKUP(C17,#REF!,4,FALSE)","v":{"$error":"#REF!"}},{"$f":"J17*K17","v":{"$error":"#REF!"}},null,{"$f":"VLOOKUP(C17,#REF!,5,FALSE)","v":{"$error":"#REF!"}},{"$f":"M17*N17","v":{"$error":"#REF!"}},null,{"$f":"P17*15","v":0},null,{"$f":"VLOOKUP(C17,#REF!,2,FALSE)","v":{"$error":"#REF!"}},{"$f":"R17*S17","v":{"$error":"#REF!"}},null,{"$f":"VLOOKUP(C17,#REF!,3,FALSE)","v":{"$error":"#REF!"}},{"$f":"U17*V17","v":{"$error":"#REF!"}},null,{"$f":"VLOOKUP(C17,#REF!,4,FALSE)","v":{"$error":"#REF!"}},{"$f":"X17*Y17","v":{"$error":"#REF!"}},null,{"$f":"VLOOKUP(C17,#REF!,5,FALSE)","v":{"$error":"#REF!"}},{"$f":"AA17*AB17","v":{"$error":"#REF!"}},null,null,{"$f":"AD17*15+AE17*25","v":0},{"$f":"D17+G17+J17+M17+R17+U17+X17+AA17+AD17+AE17+P17","v":0},{"$f":"F17+I17+L17+O17+Q17+T17+W17+Z17+AC17+AF17","v":{"$error":"#REF!"}}]
[null,14,{"$f":"#REF!","v":{"$error":"#REF!"}},null,{"$f":"VLOOKUP(C18,#REF!,2,FALSE)","v":{"$error":"#REF!"}},{"$error":"#REF!"},null,{"$f":"VLOOKUP(C18,#REF!,3,FALSE)","v":{"$error":"#REF!"}},{"$error":"#REF!"},null,{"$f":"VLOOKUP(C18,#REF!,4,FALSE)","v":{"$error":"#REF!"}},{"$error":"#REF!"},null,{"$f":"VLOOKUP(C18,#REF!,5,FALSE)","v":{"$error":"#REF!"}},{"$error":"#REF!"},null,0,null,{"$f":"VLOOKUP(C18,#REF!,2,FALSE)","v":{"$error":"#REF!"}},{"$error":"#REF!"},null,{"$f":"VLOOKUP(C18,#REF!,3,FALSE)","v":{"$error":"#REF!"}},{"$error":"#REF!"},null,{"$f":"VLOOKUP(C18,#REF!,4,FALSE)","v":{"$error":"#REF!"}},{"$error":"#REF!"},null,{"$f":"VLOOKUP(C18,#REF!,5,FALSE)","v":{"$error":"#REF!"}},{"$error":"#REF!"},null,null,0,0,{"$error":"#REF!"}]
[null,15,{"$f":"#REF!","v":{"$error":"#REF!"}},null,{"$f":"VLOOKUP(C19,#REF!,2,FALSE)","v":{"$error":"#REF!"}},{"$error":"#REF!"},null,{"$f":"VLOOKUP(C19,#REF!,3,FALSE)","v":{"$error":"#REF!"}},{"$error":"#REF!"},null,{"$f":"VLOOKUP(C19,#REF!,4,FALSE)","v":{"$error":"#REF!"}},{"$error":"#REF!"},null,{"$f":"VLOOKUP(C19,#REF!,5,FALSE)","v":{"$error":"#REF!"}},{"$error":"#REF!"},null,0,null,{"$f":"VLOOKUP(C19,#REF!,2,FALSE)","v":{"$error":"#REF!"}},{"$error":"#REF!"},null,{"$f":"VLOOKUP(C19,#REF!,3,FALSE)","v":{"$error":"#REF!"}},{"$error":"#REF!"},null,{"$f":"VLOOKUP(C19,#REF!,4,FALSE)","v":{"$error":"#REF!"}},{"$error":"#REF!"},null,{"$f":"VLOOKUP(C19,#REF!,5,FALSE)","v":{"$error":"#REF!"}},{"$error":"#REF!"},null,null,0,0,{"$error":"#REF!"}]
[null,16,{"$f":"#REF!","v":{"$error":"#REF!"}},null,{"$f":"VLOOKUP(C20,#REF!,2,FALSE)","v":{"$error":"#REF!"}},{"$error":"#REF!"},null,{"$f":"VLOOKUP(C20,#REF!,3,FALSE)","v":{"$error":"#REF!"}},{"$error":"#REF!"},null,{"$f":"VLOOKUP(C20,#REF!,4,FALSE)","v":{"$error":"#REF!"}},{"$error":"#REF!"},null,{"$f":"VLOOKUP(C20,#REF!,5,FALSE)","v":{"$error":"#REF!"}},{"$error":"#REF!"},null,0,null,{"$f":"VLOOKUP(C20,#REF!,2,FALSE)","v":{"$error":"#REF!"}},{"$error":"#REF!"},null,{"$f":"VLOOKUP(C20,#REF!,3,FALSE)","v":{"$error":"#REF!"}},{"$error":"#REF!"},null,{"$f":"VLOOKUP(C20,#REF!,4,FALSE)","v":{"$error":"#REF!"}},{"$error":"#REF!"},null,{"$f":"VLOOKUP(C20,#REF!,5,FALSE)","v":{"$error":"#REF!"}},{"$error":"#REF!"},null,null,0,0,{"$error":"#REF!"}]
[null,17,{"$f":"#REF!","v":{"$error":"#REF!"}},null,{"$f":"VLOOKUP(C21,#REF!,2,FALSE)","v":{"$error":"#REF!"}},{"$error":"#REF!"},null,{"$f":"VLOOKUP(C21,#REF!,3,FALSE)","v":{"$error":"#REF!"}},{"$error":"#REF!"},null,{"$f":"VLOOKUP(C21,#REF!,4,FALSE)","v":{"$error":"#REF!"}},{"$error":"#REF!"},null,{"$f":"VLOOKUP(C21,#REF!,5,FALSE)","v":{"$error":"#REF!"}},{"$error":"#REF!"},null,0,null,{"$f":"VLOOKUP(C21,#REF!,2,FALSE)","v":{"$error":"#REF!"}},{"$error":"#REF!"},null,{"$f":"VLOOKUP(C21,#REF!,3,FALSE)","v":{"$error":"#REF!"}},{"$error":"#REF!"},null,{"$f":"VLOOKUP(C21,#REF!,4,FALSE)","v":{"$error":"#REF!"}},{"$error":"#REF!"},null,{"$f":"VLOOKUP(C21,#REF!,5,FALSE)","v":{"$error":"#REF!"}},{"$error":"#REF!"},null,null,0,0,{"$error":"#REF!"}]
[null,18,{"$f":"#REF!","v":{"$error":"#REF!"}},null,{"$f":"VLOOKUP(C22,#REF!,2,FALSE)","v":{"$error":"#REF!"}},{"$error":"#REF!"},null,{"$f":"VLOOKUP(C22,#REF!,3,FALSE)","v":{"$error":"#REF!"}},{"$error":"#REF!"},null,{"$f":"VLOOKUP(C22,#REF!,4,FALSE)","v":{"$error":"#REF!"}},{"$error":"#REF!"},null,{"$f":"VLOOKUP(C22,#REF!,5,FALSE)","v":{"$error":"#REF!"}},{"$error":"#REF!"},null,0,null,{"$f":"VLOOKUP(C22,#REF!,2,FALSE)","v":{"$error":"#REF!"}},{"$error":"#REF!"},null,{"$f":"VLOOKUP(C22,#REF!,3,FALSE)","v":{"$error":"#REF!"}},{"$error":"#REF!"},null,{"$f":"VLOOKUP(C22,#REF!,4,FALSE)","v":{"$error":"#REF!"}},{"$error":"#REF!"},null,{"$f":"VLOOKUP(C22,#REF!,5,FALSE)","v":{"$error":"#REF!"}},{"$error":"#REF!"},null,null,0,0,{"$error":"#REF!"}]
[null,19,{"$f":"#REF!","v":{"$error":"#REF!"}},null,{"$f":"VLOOKUP(C23,#REF!,2,FALSE)","v":{"$error":"#REF!"}},{"$error":"#REF!"},null,{"$f":"VLOOKUP(C23,#REF!,3,FALSE)","v":{"$error":"#REF!"}},{"$error":"#REF!"},null,{"$f":"VLOOKUP(C23,#REF!,4,FALSE)","v":{"$error":"#REF!"}},{"$error":"#REF!"},null,{"$f":"VLOOKUP(C23,#REF!,5,FALSE)","v":{"$error":"#REF!"}},{"$error":"#REF!"},null,0,null,{"$f":"VLOOKUP(C23,#REF!,2,FALSE)","v":{"$error":"#REF!"}},{"$error":"#REF!"},null,{"$f":"VLOOKUP(C23,#REF!,3,FALSE)","v":{"$error":"#REF!"}},{"$error":"#REF!"},null,{"$f":"VLOOKUP(C23,#REF!,4,FALSE)","v":{"$error":"#REF!"}},{"$error":"#REF!"},null,{"$f":"VLOOKUP(C23,#REF!,5,FALSE)","v":{"$error":"#REF!"}},{"$error":"#REF!"},null,null,0,0,{"$error":"#REF!"}]
[null,20,{"$f":"#REF!","v":{"$error":"#REF!"}},null,{"$f":"VLOOKUP(C24,#REF!,2,FALSE)","v":{"$error":"#REF!"}},{"$error":"#REF!"},null,{"$f":"VLOOKUP(C24,#REF!,3,FALSE)","v":{"$error":"#REF!"}},{"$error":"#REF!"},null,{"$f":"VLOOKUP(C24,#REF!,4,FALSE)","v":{"$error":"#REF!"}},{"$error":"#REF!"},null,{"$f":"VLOOKUP(C24,#REF!,5,FALSE)","v":{"$error":"#REF!"}},{"$error":"#REF!"},null,0,null,{"$f":"VLOOKUP(C24,#REF!,2,FALSE)","v":{"$error":"#REF!"}},{"$error":"#REF!"},null,{"$f":"VLOOKUP(C24,#REF!,3,FALSE)","v":{"$error":"#REF!"}},{"$error":"#REF!"},null,{"$f":"VLOOKUP(C24,#REF!,4,FALSE)","v":{"$error":"#REF!"}},{"$error":"#REF!"},null,{"$f":"VLOOKUP(C24,#REF!,5,FALSE)","v":{"$error":"#REF!"}},{"$error":"#REF!"},null,null,0,0,{"$error":"#REF!"}]
[null,21,{"$f":"#REF!","v":{"$error":"#REF!"}},null,{"$f":"VLOOKUP(C25,#REF!,2,FALSE)","v":{"$error":"#REF!"}},{"$error":"#REF!"},null,{"$f":"VLOOKUP(C25,#REF!,3,FALSE)","v":{"$error":"#REF!"}},{"$error":"#REF!"},null,{"$f":"VLOOKUP(C25,#REF!,4,FALSE)","v":{"$error":"#REF!"}},{"$error":"#REF!"},null,{"$f":"VLOOKUP(C25,#REF!,5,FALSE)","v":{"$error":"#REF!"}},{"$error":"#REF!"},null,0,null,{"$f":"VLOOKUP(C25,#REF!,2,FALSE)","v":{"$error":"#REF!"}},{"$error":"#REF!"},null,{"$f":"VLOOKUP(C25,#REF!,3,FALSE)","v":{"$error":"#REF!"}},{"$error":"#REF!"},null,{"$f":"VLOOKUP(C25,#REF!,4,FALSE)","v":{"$error":"#REF!"}},{"$error":"#REF!"},null,{"$f":"VLOOKUP(C25,#REF!,5,FALSE)","v":{"$error":"#REF!"}},{"$error":"#REF!"},null,null,0,0,{"$error":"#REF!"}]

{"sheet":"aktuala (7)","index":5,"n_rows":25,"n_cols":34,"rows_kept":25,"cut":false,"hidden":true,"merged":[[3,29,3,31],[3,32,3,33],[1,2,2,33],[3,3,3,5],[3,6,3,8],[3,9,3,11],[3,12,3,14],[3,15,3,16],[3,17,3,19],[3,20,3,22],[3,23,3,25],[3,26,3,28]]}
[]
[null,null,{"$f":"'F1'!B2","v":"Sporta viktorīnas speciālizlaidums | F1 viktorīna | 2025.gada 13.augusts"}]
[]
[null,"#","Komandas / Raundi",1,null,null,2,null,null,3,null,null,4,null,null,5,null,6,null,null,7,null,null,8,null,null,9,null,null,10,null,null,"KOPĀ"]
[null,1,"Zinātāji",4,15,60,2,10,20,4,15,60,6,20,120,8,120,2,10,20,6,20,120,6,15,90,6,15,90,6,1,115,51,815]
[null,2,"Diskusiju klubiņš",6,15,90,3,10,30,5,15,75,6,20,120,7,105,3,10,30,5,15,75,6,15,90,4,20,80,4,1,85,50,780]
[null,3,"Dīvānueksperti.lv",6,15,90,4,10,40,6,15,90,6,20,120,5,75,2,10,20,6,15,90,4,15,60,3,20,60,6,1,115,49,760]
[null,4,"Alus zaldāti",4,15,60,2,10,20,5,15,75,6,20,120,8,120,3,15,45,6,20,120,4,15,60,4,10,40,5,1,100,48,760]
[null,5,"Katlakalns / KKK",5,15,75,3,10,30,4,15,60,5,20,100,7,105,3,10,30,6,20,120,3,15,45,4,15,60,5,1,100,46,725]
[null,6,"Džamolidins Abdužaparovs",5,15,75,4,10,40,3,15,45,6,20,120,8,120,3,15,45,4,15,60,3,10,30,6,20,120,4,0,60,46,715]
[null,7,"0%Apskaidrība",6,15,90,4,15,60,3,10,30,5,20,100,8,120,3,20,60,5,10,50,5,15,75,4,15,60,2,0,30,45,675]
[null,8,"Lācēni",3,15,45,4,15,60,2,10,20,5,20,100,6,90,1,15,15,6,20,120,4,10,40,4,15,60,5,1,100,41,650]
[null,9,"Rozā krekli un mokasīni",4,20,80,5,10,50,3,15,45,6,15,90,8,120,2,15,30,5,20,100,2,10,20,3,15,45,4,0,60,42,640]
[null,10,"Enkurs rauj ezerā",5,15,75,4,20,80,4,10,40,5,15,75,4,60,3,15,45,6,20,120,1,15,15,4,10,40,4,0,60,40,610]
[null,11,"Tev tas liekas NORMĀLI?",4,20,80,4,10,40,3,15,45,4,15,60,8,120,3,15,45,5.5,20,110,2,15,30,3,10,30,2,0,30,38.5,590]
[null,12,"Melnais zirdziņš",3,15,45,3,15,45,3,10,30,5,20,100,7,105,2,15,30,5,20,100,3,10,30,3,15,45,4,0,60,38,590]
[null,13,"Lai Top",3,15,45,3,10,30,6,20,120,4,15,60,6,90,2,10,20,6,20,120,1,15,15,4,15,60,2,0,30,37,590]
[null,14,"Amatieru pietura",4,20,80,3,15,45,2,10,20,4,15,60,7,105,3,15,45,6,20,120,2,10,20,2,15,30,3,0,45,36,570]
[null,15,"Karaliskais kronis",4,15,60,3,10,30,3,15,45,5,20,100,0,0,2,20,40,6,15,90,4,15,60,3,10,30,3,0,45,33,500]
[null,16,{"$f":"#REF!","v":{"$error":"#REF!"}},null,{"$f":"VLOOKUP(C20,#REF!,2,FALSE)","v":{"$error":"#REF!"}},{"$f":"D20*E20","v":{"$error":"#REF!"}},null,{"$f":"VLOOKUP(C20,#REF!,3,FALSE)","v":{"$error":"#REF!"}},{"$f":"G20*H20","v":{"$error":"#REF!"}},null,{"$f":"VLOOKUP(C20,#REF!,4,FALSE)","v":{"$error":"#REF!"}},{"$f":"J20*K20","v":{"$error":"#REF!"}},null,{"$f":"VLOOKUP(C20,#REF!,5,FALSE)","v":{"$error":"#REF!"}},{"$f":"M20*N20","v":{"$error":"#REF!"}},null,{"$f":"P20*15","v":0},null,{"$f":"VLOOKUP(C20,#REF!,2,FALSE)","v":{"$error":"#REF!"}},{"$f":"R20*S20","v":{"$error":"#REF!"}},null,{"$f":"VLOOKUP(C20,#REF!,3,FALSE)","v":{"$error":"#REF!"}},{"$f":"U20*V20","v":{"$error":"#REF!"}},null,{"$f":"VLOOKUP(C20,#REF!,4,FALSE)","v":{"$error":"#REF!"}},{"$f":"X20*Y20","v":{"$error":"#REF!"}},null,{"$f":"VLOOKUP(C20,#REF!,5,FALSE)","v":{"$error":"#REF!"}},{"$f":"AA20*AB20","v":{"$error":"#REF!"}},null,null,{"$f":"AD20*15+AE20*25","v":0},{"$f":"D20+G20+J20+M20+R20+U20+X20+AA20+AD20+AE20+P20","v":0},{"$f":"F20+I20+L20+O20+Q20+T20+W20+Z20+AC20+AF20","v":{"$error":"#REF!"}}]
[null,17,{"$f":"#REF!","v":{"$error":"#REF!"}},null,{"$f":"VLOOKUP(C21,#REF!,2,FALSE)","v":{"$error":"#REF!"}},{"$error":"#REF!"},null,{"$f":"VLOOKUP(C21,#REF!,3,FALSE)","v":{"$error":"#REF!"}},{"$error":"#REF!"},null,{"$f":"VLOOKUP(C21,#REF!,4,FALSE)","v":{"$error":"#REF!"}},{"$error":"#REF!"},null,{"$f":"VLOOKUP(C21,#REF!,5,FALSE)","v":{"$error":"#REF!"}},{"$error":"#REF!"},null,0,null,{"$f":"VLOOKUP(C21,#REF!,2,FALSE)","v":{"$error":"#REF!"}},{"$error":"#REF!"},null,{"$f":"VLOOKUP(C21,#REF!,3,FALSE)","v":{"$error":"#REF!"}},{"$error":"#REF!"},null,{"$f":"VLOOKUP(C21,#REF!,4,FALSE)","v":{"$error":"#REF!"}},{"$error":"#REF!"},null,{"$f":"VLOOKUP(C21,#REF!,5,FALSE)","v":{"$error":"#REF!"}},{"$error":"#REF!"},null,null,0,0,{"$error":"#REF!"}]
[null,18,{"$f":"#REF!","v":{"$error":"#REF!"}},null,{"$f":"VLOOKUP(C22,#REF!,2,FALSE)","v":{"$error":"#REF!"}},{"$error":"#REF!"},null,{"$f":"VLOOKUP(C22,#REF!,3,FALSE)","v":{"$error":"#REF!"}},{"$error":"#REF!"},null,{"$f":"VLOOKUP(C22,#REF!,4,FALSE)","v":{"$error":"#REF!"}},{"$error":"#REF!"},null,{"$f":"VLOOKUP(C22,#REF!,5,FALSE)","v":{"$error":"#REF!"}},{"$error":"#REF!"},null,0,null,{"$f":"VLOOKUP(C22,#REF!,2,FALSE)","v":{"$error":"#REF!"}},{"$error":"#REF!"},null,{"$f":"VLOOKUP(C22,#REF!,3,FALSE)","v":{"$error":"#REF!"}},{"$error":"#REF!"},null,{"$f":"VLOOKUP(C22,#REF!,4,FALSE)","v":{"$error":"#REF!"}},{"$error":"#REF!"},null,{"$f":"VLOOKUP(C22,#REF!,5,FALSE)","v":{"$error":"#REF!"}},{"$error":"#REF!"},null,null,0,0,{"$error":"#REF!"}]
[null,19,{"$f":"#REF!","v":{"$error":"#REF!"}},null,{"$f":"VLOOKUP(C23,#REF!,2,FALSE)","v":{"$error":"#REF!"}},{"$error":"#REF!"},null,{"$f":"VLOOKUP(C23,#REF!,3,FALSE)","v":{"$error":"#REF!"}},{"$error":"#REF!"},null,{"$f":"VLOOKUP(C23,#REF!,4,FALSE)","v":{"$error":"#REF!"}},{"$error":"#REF!"},null,{"$f":"VLOOKUP(C23,#REF!,5,FALSE)","v":{"$error":"#REF!"}},{"$error":"#REF!"},null,0,null,{"$f":"VLOOKUP(C23,#REF!,2,FALSE)","v":{"$error":"#REF!"}},{"$error":"#REF!"},null,{"$f":"VLOOKUP(C23,#REF!,3,FALSE)","v":{"$error":"#REF!"}},{"$error":"#REF!"},null,{"$f":"VLOOKUP(C23,#REF!,4,FALSE)","v":{"$error":"#REF!"}},{"$error":"#REF!"},null,{"$f":"VLOOKUP(C23,#REF!,5,FALSE)","v":{"$error":"#REF!"}},{"$error":"#REF!"},null,null,0,0,{"$error":"#REF!"}]
[null,20,{"$f":"#REF!","v":{"$error":"#REF!"}},null,{"$f":"VLOOKUP(C24,#REF!,2,FALSE)","v":{"$error":"#REF!"}},{"$error":"#REF!"},null,{"$f":"VLOOKUP(C24,#REF!,3,FALSE)","v":{"$error":"#REF!"}},{"$error":"#REF!"},null,{"$f":"VLOOKUP(C24,#REF!,4,FALSE)","v":{"$error":"#REF!"}},{"$error":"#REF!"},null,{"$f":"VLOOKUP(C24,#REF!,5,FALSE)","v":{"$error":"#REF!"}},{"$error":"#REF!"},null,0,null,{"$f":"VLOOKUP(C24,#REF!,2,FALSE)","v":{"$error":"#REF!"}},{"$error":"#REF!"},null,{"$f":"VLOOKUP(C24,#REF!,3,FALSE)","v":{"$error":"#REF!"}},{"$error":"#REF!"},null,{"$f":"VLOOKUP(C24,#REF!,4,FALSE)","v":{"$error":"#REF!"}},{"$error":"#REF!"},null,{"$f":"VLOOKUP(C24,#REF!,5,FALSE)","v":{"$error":"#REF!"}},{"$error":"#REF!"},null,null,0,0,{"$error":"#REF!"}]
[null,21,{"$f":"#REF!","v":{"$error":"#REF!"}},null,{"$f":"VLOOKUP(C25,#REF!,2,FALSE)","v":{"$error":"#REF!"}},{"$error":"#REF!"},null,{"$f":"VLOOKUP(C25,#REF!,3,FALSE)","v":{"$error":"#REF!"}},{"$error":"#REF!"},null,{"$f":"VLOOKUP(C25,#REF!,4,FALSE)","v":{"$error":"#REF!"}},{"$error":"#REF!"},null,{"$f":"VLOOKUP(C25,#REF!,5,FALSE)","v":{"$error":"#REF!"}},{"$error":"#REF!"},null,0,null,{"$f":"VLOOKUP(C25,#REF!,2,FALSE)","v":{"$error":"#REF!"}},{"$error":"#REF!"},null,{"$f":"VLOOKUP(C25,#REF!,3,FALSE)","v":{"$error":"#REF!"}},{"$error":"#REF!"},null,{"$f":"VLOOKUP(C25,#REF!,4,FALSE)","v":{"$error":"#REF!"}},{"$error":"#REF!"},null,{"$f":"VLOOKUP(C25,#REF!,5,FALSE)","v":{"$error":"#REF!"}},{"$error":"#REF!"},null,null,0,0,{"$error":"#REF!"}]

{"sheet":"SPV_9k","index":6,"n_rows":28,"n_cols":35,"rows_kept":28,"cut":false,"hidden":true,"merged":[[3,30,3,32],[3,33,3,34],[1,3,2,34],[3,4,3,6],[3,7,3,9],[3,10,3,12],[3,13,3,15],[3,16,3,17],[3,18,3,20],[3,21,3,23],[3,24,3,26],[3,27,3,29]]}
[]
[null,null,null,"\"Sporta viktorīna\" | 9.kārta: 19. un 22.maijs | REZULTĀTI"]
[]
[null,"#","#  grupā","Komandas / Raundi","#99 dažādos sporta veidos",null,null,"Latvija rīko sacensības",null,null,"Video",null,null,"Profesionālām mājsaimniecēm",null,null,"Ķēde",null,"Basketbola cilvēki ar vismaz 3 tituliem",null,null,"Sporta karalis",null,null,"Hokeja klubu nosaukumi",null,null,"Valstis uz T burta",null,null,"Kas kopīgs?",null,null,"KOPĀ"]
[null,1,1,"Zigfrīds Muktupāvels",4,15,60,6,20,120,5,10,50,5,15,75,8,120,4,10,40,5,15,75,5,20,100,5,15,75,6,0,90,53,805]
[null,2,{"$f":"#REF!","v":{"$error":"#REF!"}},{"$f":"#REF!","v":{"$error":"#REF!"}},{"$f":"#REF!","v":{"$error":"#REF!"}},{"$f":"#REF!","v":{"$error":"#REF!"}},{"$f":"#REF!","v":{"$error":"#REF!"}},{"$f":"#REF!","v":{"$error":"#REF!"}},{"$f":"#REF!","v":{"$error":"#REF!"}},{"$f":"#REF!","v":{"$error":"#REF!"}},{"$f":"#REF!","v":{"$error":"#REF!"}},{"$f":"#REF!","v":{"$error":"#REF!"}},{"$f":"#REF!","v":{"$error":"#REF!"}},{"$f":"#REF!","v":{"$error":"#REF!"}},{"$f":"#REF!","v":{"$error":"#REF!"}},{"$f":"#REF!","v":{"$error":"#REF!"}},{"$f":"#REF!","v":{"$error":"#REF!"}},{"$f":"#REF!","v":{"$error":"#REF!"}},{"$f":"#REF!","v":{"$error":"#REF!"}},{"$f":"#REF!","v":{"$error":"#REF!"}},{"$f":"#REF!","v":{"$error":"#REF!"}},{"$f":"#REF!","v":{"$error":"#REF!"}},{"$f":"#REF!","v":{"$error":"#REF!"}},{"$f":"#REF!","v":{"$error":"#REF!"}},{"$f":"#REF!","v":{"$error":"#REF!"}},{"$f":"#REF!","v":{"$error":"#REF!"}},{"$f":"#REF!","v":{"$error":"#REF!"}},{"$f":"#REF!","v":{"$error":"#REF!"}},{"$f":"#REF!","v":{"$error":"#REF!"}},{"$f":"#REF!","v":{"$error":"#REF!"}},{"$f":"#REF!","v":{"$error":"#REF!"}},{"$f":"#REF!","v":{"$error":"#REF!"}},{"$f":"#REF!","v":{"$error":"#REF!"}},{"$f":"#REF!","v":{"$error":"#REF!"}},{"$f":"#REF!","v":{"$error":"#REF!"}}]
[null,3,2,"Jeržābeks",1,15,15,4,10,40,6,20,120,4,15,60,8,120,4,10,40,5,20,100,4,15,60,6,15,90,7,1,130,50,775]
[null,4,3,"Alus zaldāti",3,10,30,5,15,75,4,15,60,5,20,100,8,120,4,20,80,5,10,50,6,15,90,6,15,90,5,0,75,51,770]
[null,5,{"$f":"#REF!","v":{"$error":"#REF!"}},{"$f":"#REF!","v":{"$error":"#REF!"}},{"$f":"#REF!","v":{"$error":"#REF!"}},{"$f":"#REF!","v":{"$error":"#REF!"}},{"$f":"#REF!","v":{"$error":"#REF!"}},{"$f":"#REF!","v":{"$error":"#REF!"}},{"$f":"#REF!","v":{"$error":"#REF!"}},{"$f":"#REF!","v":{"$error":"#REF!"}},{"$f":"#REF!","v":{"$error":"#REF!"}},{"$f":"#REF!","v":{"$error":"#REF!"}},{"$f":"#REF!","v":{"$error":"#REF!"}},{"$f":"#REF!","v":{"$error":"#REF!"}},{"$f":"#REF!","v":{"$error":"#REF!"}},{"$f":"#REF!","v":{"$error":"#REF!"}},{"$f":"#REF!","v":{"$error":"#REF!"}},{"$f":"#REF!","v":{"$error":"#REF!"}},{"$f":"#REF!","v":{"$error":"#REF!"}},{"$f":"#REF!","v":{"$error":"#REF!"}},{"$f":"#REF!","v":{"$error":"#REF!"}},{"$f":"#REF!","v":{"$error":"#REF!"}},{"$f":"#REF!","v":{"$error":"#REF!"}},{"$f":"#REF!","v":{"$error":"#REF!"}},{"$f":"#REF!","v":{"$error":"#REF!"}},{"$f":"#REF!","v":{"$error":"#REF!"}},{"$f":"#REF!","v":{"$error":"#REF!"}},{"$f":"#REF!","v":{"$error":"#REF!"}},{"$f":"#REF!","v":{"$error":"#REF!"}},{"$f":"#REF!","v":{"$error":"#REF!"}},{"$f":"#REF!","v":{"$error":"#REF!"}},{"$f":"#REF!","v":{"$error":"#REF!"}},{"$f":"#REF!","v":{"$error":"#REF!"}},{"$f":"#REF!","v":{"$error":"#REF!"}},{"$f":"#REF!","v":{"$error":"#REF!"}}]
[null,6,4,"0%Apskaidrība",3,10,30,3.5,15,52.5,4,15,60,5,20,100,8,120,3,10,30,6,20,120,5,15,75,5,15,75,5,0,75,47.5,737.5]
[null,7,5,"kOzis",3,15,45,2,10,20,4,15,60,5.5,20,110,7,105,5,20,100,4,15,60,5,10,50,5,15,75,6,0,90,46.5,715]
[null,8,6,"Rozā krekli un mokasīni",4,15,60,5.5,15,82.5,3,10,30,4.5,20,90,2,30,6,20,120,4,10,40,5,15,75,5,15,75,5,1,100,45,702.5]
[null,9,7,"Džamolidins Abdužaparovs",2,10,20,4.5,15,67.5,4,15,60,5,20,100,8,120,3,10,30,3,15,45,4,15,60,4,20,80,6,1,115,44.5,697.5]
[null,10,8,"Zinātāji",6,15,90,4.5,10,45,2,15,30,5,20,100,8,120,2,15,30,5,15,75,5,10,50,4,20,80,5,0,75,46.5,695]
[null,11,9,"Fireball",3,10,30,4,15,60,3,15,45,5,20,100,4,60,5,20,100,6,15,90,5,10,50,3,15,45,6,1,115,45,695]
[null,12,10,"Karaliskais kronis",1,15,15,3,15,45,3,10,30,6,20,120,7,105,3,10,30,5,15,75,6,20,120,6,15,90,4,0,60,44,690]
[null,13,11,"Dīvānueksperti.lv",4,10,40,3.5,15,52.5,4,15,60,5,20,100,7,105,4,20,80,4,10,40,5,15,75,4,15,60,5,0,75,45.5,687.5]
[null,14,{"$f":"#REF!","v":{"$error":"#REF!"}},{"$f":"#REF!","v":{"$error":"#REF!"}},{"$f":"#REF!","v":{"$error":"#REF!"}},{"$f":"#REF!","v":{"$error":"#REF!"}},{"$f":"#REF!","v":{"$error":"#REF!"}},{"$f":"#REF!","v":{"$error":"#REF!"}},{"$f":"#REF!","v":{"$error":"#REF!"}},{"$f":"#REF!","v":{"$error":"#REF!"}},{"$f":"#REF!","v":{"$error":"#REF!"}},{"$f":"#REF!","v":{"$error":"#REF!"}},{"$f":"#REF!","v":{"$error":"#REF!"}},{"$f":"#REF!","v":{"$error":"#REF!"}},{"$f":"#REF!","v":{"$error":"#REF!"}},{"$f":"#REF!","v":{"$error":"#REF!"}},{"$f":"#REF!","v":{"$error":"#REF!"}},{"$f":"#REF!","v":{"$error":"#REF!"}},{"$f":"#REF!","v":{"$error":"#REF!"}},{"$f":"#REF!","v":{"$error":"#REF!"}},{"$f":"#REF!","v":{"$error":"#REF!"}},{"$f":"#REF!","v":{"$error":"#REF!"}},{"$f":"#REF!","v":{"$error":"#REF!"}},{"$f":"#REF!","v":{"$error":"#REF!"}},{"$f":"#REF!","v":{"$error":"#REF!"}},{"$f":"#REF!","v":{"$error":"#REF!"}},{"$f":"#REF!","v":{"$error":"#REF!"}},{"$f":"#REF!","v":{"$error":"#REF!"}},{"$f":"#REF!","v":{"$error":"#REF!"}},{"$f":"#REF!","v":{"$error":"#REF!"}},{"$f":"#REF!","v":{"$error":"#REF!"}},{"$f":"#REF!","v":{"$error":"#REF!"}},{"$f":"#REF!","v":{"$error":"#REF!"}},{"$f":"#REF!","v":{"$error":"#REF!"}},{"$f":"#REF!","v":{"$error":"#REF!"}}]
[null,15,{"$f":"#REF!","v":{"$error":"#REF!"}},{"$f":"#REF!","v":{"$error":"#REF!"}},{"$f":"#REF!","v":{"$error":"#REF!"}},{"$f":"#REF!","v":{"$error":"#REF!"}},{"$f":"#REF!","v":{"$error":"#REF!"}},{"$f":"#REF!","v":{"$error":"#REF!"}},{"$f":"#REF!","v":{"$error":"#REF!"}},{"$f":"#REF!","v":{"$error":"#REF!"}},{"$f":"#REF!","v":{"$error":"#REF!"}},{"$f":"#REF!","v":{"$error":"#REF!"}},{"$f":"#REF!","v":{"$error":"#REF!"}},{"$f":"#REF!","v":{"$error":"#REF!"}},{"$f":"#REF!","v":{"$error":"#REF!"}},{"$f":"#REF!","v":{"$error":"#REF!"}},{"$f":"#REF!","v":{"$error":"#REF!"}},{"$f":"#REF!","v":{"$error":"#REF!"}},{"$f":"#REF!","v":{"$error":"#REF!"}},{"$f":"#REF!","v":{"$error":"#REF!"}},{"$f":"#REF!","v":{"$error":"#REF!"}},{"$f":"#REF!","v":{"$error":"#REF!"}},{"$f":"#REF!","v":{"$error":"#REF!"}},{"$f":"#REF!","v":{"$error":"#REF!"}},{"$f":"#REF!","v":{"$error":"#REF!"}},{"$f":"#REF!","v":{"$error":"#REF!"}},{"$f":"#REF!","v":{"$error":"#REF!"}},{"$f":"#REF!","v":{"$error":"#REF!"}},{"$f":"#REF!","v":{"$error":"#REF!"}},{"$f":"#REF!","v":{"$error":"#REF!"}},{"$f":"#REF!","v":{"$error":"#REF!"}},{"$f":"#REF!","v":{"$error":"#REF!"}},{"$f":"#REF!","v":{"$error":"#REF!"}},{"$f":"#REF!","v":{"$error":"#REF!"}},{"$f":"#REF!","v":{"$error":"#REF!"}}]
[null,16,{"$f":"#REF!","v":{"$error":"#REF!"}},{"$f":"#REF!","v":{"$error":"#REF!"}},{"$f":"#REF!","v":{"$error":"#REF!"}},{"$f":"#REF!","v":{"$error":"#REF!"}},{"$f":"#REF!","v":{"$error":"#REF!"}},{"$f":"#REF!","v":{"$error":"#REF!"}},{"$f":"#REF!","v":{"$error":"#REF!"}},{"$f":"#REF!","v":{"$error":"#REF!"}},{"$f":"#REF!","v":{"$error":"#REF!"}},{"$f":"#REF!","v":{"$error":"#REF!"}},{"$f":"#REF!","v":{"$error":"#REF!"}},{"$f":"#REF!","v":{"$error":"#REF!"}},{"$f":"#REF!","v":{"$error":"#REF!"}},{"$f":"#REF!","v":{"$error":"#REF!"}},{"$f":"#REF!","v":{"$error":"#REF!"}},{"$f":"#REF!","v":{"$error":"#REF!"}},{"$f":"#REF!","v":{"$error":"#REF!"}},{"$f":"#REF!","v":{"$error":"#REF!"}},{"$f":"#REF!","v":{"$error":"#REF!"}},{"$f":"#REF!","v":{"$error":"#REF!"}},{"$f":"#REF!","v":{"$error":"#REF!"}},{"$f":"#REF!","v":{"$error":"#REF!"}},{"$f":"#REF!","v":{"$error":"#REF!"}},{"$f":"#REF!","v":{"$error":"#REF!"}},{"$f":"#REF!","v":{"$error":"#REF!"}},{"$f":"#REF!","v":{"$error":"#REF!"}},{"$f":"#REF!","v":{"$error":"#REF!"}},{"$f":"#REF!","v":{"$error":"#REF!"}},{"$f":"#REF!","v":{"$error":"#REF!"}},{"$f":"#REF!","v":{"$error":"#REF!"}},{"$f":"#REF!","v":{"$error":"#REF!"}},{"$f":"#REF!","v":{"$error":"#REF!"}},{"$f":"#REF!","v":{"$error":"#REF!"}}]
[null,17,12,"A komanda",4,10,40,5,15,75,2,15,30,3.5,20,70,4,60,3,15,45,4,15,60,5,20,100,6,10,60,5,0,75,41.5,615]
[null,18,13,"Stosi",0,15,0,3,15,45,2,10,20,6,20,120,7,105,2,15,30,2,10,20,4,15,60,6,20,120,4,0,60,36,580]
[null,19,{"$f":"#REF!","v":{"$error":"#REF!"}},{"$f":"#REF!","v":{"$error":"#REF!"}},{"$f":"#REF!","v":{"$error":"#REF!"}},{"$f":"#REF!","v":{"$error":"#REF!"}},{"$f":"#REF!","v":{"$error":"#REF!"}},{"$f":"#REF!","v":{"$error":"#REF!"}},{"$f":"#REF!","v":{"$error":"#REF!"}},{"$f":"#REF!","v":{"$error":"#REF!"}},{"$f":"#REF!","v":{"$error":"#REF!"}},{"$f":"#REF!","v":{"$error":"#REF!"}},{"$f":"#REF!","v":{"$error":"#REF!"}},{"$f":"#REF!","v":{"$error":"#REF!"}},{"$f":"#REF!","v":{"$error":"#REF!"}},{"$f":"#REF!","v":{"$error":"#REF!"}},{"$f":"#REF!","v":{"$error":"#REF!"}},{"$f":"#REF!","v":{"$error":"#REF!"}},{"$f":"#REF!","v":{"$error":"#REF!"}},{"$f":"#REF!","v":{"$error":"#REF!"}},{"$f":"#REF!","v":{"$error":"#REF!"}},{"$f":"#REF!","v":{"$error":"#REF!"}},{"$f":"#REF!","v":{"$error":"#REF!"}},{"$f":"#REF!","v":{"$error":"#REF!"}},{"$f":"#REF!","v":{"$error":"#REF!"}},{"$f":"#REF!","v":{"$error":"#REF!"}},{"$f":"#REF!","v":{"$error":"#REF!"}},{"$f":"#REF!","v":{"$error":"#REF!"}},{"$f":"#REF!","v":{"$error":"#REF!"}},{"$f":"#REF!","v":{"$error":"#REF!"}},{"$f":"#REF!","v":{"$error":"#REF!"}},{"$f":"#REF!","v":{"$error":"#REF!"}},{"$f":"#REF!","v":{"$error":"#REF!"}},{"$f":"#REF!","v":{"$error":"#REF!"}},{"$f":"#REF!","v":{"$error":"#REF!"}}]
[null,20,14,"Dzīvo vienreiz",1,10,10,3.5,15,52.5,4,20,80,3,15,45,6,90,6,20,120,2,15,30,3,10,30,3,15,45,4,0,60,35.5,562.5]
[null,21,15,"Melnais zirdziņš",2,10,20,4,15,60,2,15,30,3.5,20,70,6,90,3,15,45,4,20,80,3,15,45,5,10,50,3,0,45,35.5,535]
[null,22,16,"Lai Top",2,10,20,3.5,15,52.5,4,20,80,5,15,75,4,60,2,15,30,3,15,45,4,20,80,3,10,30,4,0,60,34.5,532.5]
[]
[null,null,null,"LIELDRAUGS                                             ATBALSTĪTĀJI"]

{"sheet":"aktuala (8)","index":7,"n_rows":27,"n_cols":34,"rows_kept":27,"cut":false,"hidden":true,"merged":[[3,29,3,31],[3,32,3,33],[1,2,2,33],[3,3,3,5],[3,6,3,8],[3,9,3,11],[3,12,3,14],[3,15,3,16],[3,17,3,19],[3,20,3,22],[3,23,3,25],[3,26,3,28]]}
[]
[null,null,{"$f":"'F1'!B2","v":"Sporta viktorīnas speciālizlaidums | F1 viktorīna | 2025.gada 13.augusts"}]
[]
[null,"#","Komandas / Raundi",1,null,null,2,null,null,3,null,null,4,null,null,"Ķēde",null,6,null,null,7,null,null,8,null,null,9,null,null,10,null,null,"KOPĀ"]
[null,1,"Zigfrīds Muktupāvels",5,15,75,6,15,90,3,10,30,5,20,100,8,120,6,20,120,4,15,60,4,10,40,5,15,75,5,1,100,52,810]
[null,2,"Diskusiju klubiņš",4,10,40,5,15,75,6,15,90,5,20,100,5,75,5,10,50,6,15,90,4,15,60,4,20,80,6,1,115,51,775]
[null,3,"Alus zaldāti",4,10,40,4,15,60,5,15,75,4,20,80,8,120,4,15,60,6,20,120,5,10,50,4,15,60,4,0,60,48,725]
[null,4,"Dīvānueksperti.lv",4,10,40,4,15,60,5,15,75,4,20,80,8,120,3,15,45,5,10,50,2,15,30,5,20,100,6,1,115,47,715]
[null,5,"Katlakalns / KKK",3,10,30,5,20,100,4,15,60,4,15,60,6,90,3,10,30,4,15,60,5,20,100,5,15,75,5,1,100,45,705]
[null,6,"Fireball",4,15,60,5,15,75,4,10,40,5,20,100,6,90,3,10,30,4,20,80,3,15,45,5,15,75,4,1,85,44,680]
[null,7,"Stosi",3,10,30,4,15,60,4,15,60,5,20,100,8,120,2,15,30,4,15,60,4,10,40,5,20,100,3,1,70,43,670]
[null,8,"0%Apskaidrība",4,10,40,3,15,45,5,15,75,4,20,80,6,90,4.5,20,90,6,15,90,5,10,50,4,15,60,3,0,45,44.5,665]
[null,9,"Melnais zirdziņš",4,15,60,4,15,60,3,10,30,4,20,80,4,60,4,20,80,5,15,75,4,10,40,6,15,90,3,0,45,41,620]
[null,10,"kOzis",4,10,40,5,20,100,3,15,45,4,15,60,6,90,2,10,20,5,20,100,3,15,45,3,15,45,4,0,60,39,605]
[null,11,"Amatieru pietura",3,15,45,4,20,80,4,10,40,4,15,60,4,60,5,10,50,6,15,90,2,15,30,4,20,80,4,0,60,40,595]
[null,12,"Turks un polis",4,10,40,4,15,60,5,15,75,5,20,100,2,30,4,15,60,3,20,60,3,15,45,3,10,30,3,0,45,36,545]
[null,13,{"$f":"#REF!","v":{"$error":"#REF!"}},null,{"$f":"VLOOKUP(C17,#REF!,2,FALSE)","v":{"$error":"#REF!"}},{"$f":"D17*E17","v":{"$error":"#REF!"}},null,{"$f":"VLOOKUP(C17,#REF!,3,FALSE)","v":{"$error":"#REF!"}},{"$f":"G17*H17","v":{"$error":"#REF!"}},null,{"$f":"VLOOKUP(C17,#REF!,4,FALSE)","v":{"$error":"#REF!"}},{"$f":"J17*K17","v":{"$error":"#REF!"}},null,{"$f":"VLOOKUP(C17,#REF!,5,FALSE)","v":{"$error":"#REF!"}},{"$f":"M17*N17","v":{"$error":"#REF!"}},null,{"$f":"P17*15","v":0},null,{"$f":"VLOOKUP(C17,#REF!,2,FALSE)","v":{"$error":"#REF!"}},{"$f":"R17*S17","v":{"$error":"#REF!"}},null,{"$f":"VLOOKUP(C17,#REF!,3,FALSE)","v":{"$error":"#REF!"}},{"$f":"U17*V17","v":{"$error":"#REF!"}},null,{"$f":"VLOOKUP(C17,#REF!,4,FALSE)","v":{"$error":"#REF!"}},{"$f":"X17*Y17","v":{"$error":"#REF!"}},null,{"$f":"VLOOKUP(C17,#REF!,5,FALSE)","v":{"$error":"#REF!"}},{"$f":"AA17*AB17","v":{"$error":"#REF!"}},null,null,{"$f":"AD17*15+AE17*25","v":0},{"$f":"D17+G17+J17+M17+R17+U17+X17+AA17+AD17+AE17+P17","v":0},{"$f":"F17+I17+L17+O17+Q17+T17+W17+Z17+AC17+AF17","v":{"$error":"#REF!"}}]
[null,14,{"$f":"#REF!","v":{"$error":"#REF!"}},null,{"$f":"VLOOKUP(C18,#REF!,2,FALSE)","v":{"$error":"#REF!"}},{"$error":"#REF!"},null,{"$f":"VLOOKUP(C18,#REF!,3,FALSE)","v":{"$error":"#REF!"}},{"$error":"#REF!"},null,{"$f":"VLOOKUP(C18,#REF!,4,FALSE)","v":{"$error":"#REF!"}},{"$error":"#REF!"},null,{"$f":"VLOOKUP(C18,#REF!,5,FALSE)","v":{"$error":"#REF!"}},{"$error":"#REF!"},null,0,null,{"$f":"VLOOKUP(C18,#REF!,2,FALSE)","v":{"$error":"#REF!"}},{"$error":"#REF!"},null,{"$f":"VLOOKUP(C18,#REF!,3,FALSE)","v":{"$error":"#REF!"}},{"$error":"#REF!"},null,{"$f":"VLOOKUP(C18,#REF!,4,FALSE)","v":{"$error":"#REF!"}},{"$error":"#REF!"},null,{"$f":"VLOOKUP(C18,#REF!,5,FALSE)","v":{"$error":"#REF!"}},{"$error":"#REF!"},null,null,0,0,{"$error":"#REF!"}]
[null,15,{"$f":"#REF!","v":{"$error":"#REF!"}},null,{"$f":"VLOOKUP(C19,#REF!,2,FALSE)","v":{"$error":"#REF!"}},{"$error":"#REF!"},null,{"$f":"VLOOKUP(C19,#REF!,3,FALSE)","v":{"$error":"#REF!"}},{"$error":"#REF!"},null,{"$f":"VLOOKUP(C19,#REF!,4,FALSE)","v":{"$error":"#REF!"}},{"$error":"#REF!"},null,{"$f":"VLOOKUP(C19,#REF!,5,FALSE)","v":{"$error":"#REF!"}},{"$error":"#REF!"},null,0,null,{"$f":"VLOOKUP(C19,#REF!,2,FALSE)","v":{"$error":"#REF!"}},{"$error":"#REF!"},null,{"$f":"VLOOKUP(C19,#REF!,3,FALSE)","v":{"$error":"#REF!"}},{"$error":"#REF!"},null,{"$f":"VLOOKUP(C19,#REF!,4,FALSE)","v":{"$error":"#REF!"}},{"$error":"#REF!"},null,{"$f":"VLOOKUP(C19,#REF!,5,FALSE)","v":{"$error":"#REF!"}},{"$error":"#REF!"},null,null,0,0,{"$error":"#REF!"}]
[null,16,{"$f":"#REF!","v":{"$error":"#REF!"}},null,{"$f":"VLOOKUP(C20,#REF!,2,FALSE)","v":{"$error":"#REF!"}},{"$error":"#REF!"},null,{"$f":"VLOOKUP(C20,#REF!,3,FALSE)","v":{"$error":"#REF!"}},{"$error":"#REF!"},null,{"$f":"VLOOKUP(C20,#REF!,4,FALSE)","v":{"$error":"#REF!"}},{"$error":"#REF!"},null,{"$f":"VLOOKUP(C20,#REF!,5,FALSE)","v":{"$error":"#REF!"}},{"$error":"#REF!"},null,0,null,{"$f":"VLOOKUP(C20,#REF!,2,FALSE)","v":{"$error":"#REF!"}},{"$error":"#REF!"},null,{"$f":"VLOOKUP(C20,#REF!,3,FALSE)","v":{"$error":"#REF!"}},{"$error":"#REF!"},null,{"$f":"VLOOKUP(C20,#REF!,4,FALSE)","v":{"$error":"#REF!"}},{"$error":"#REF!"},null,{"$f":"VLOOKUP(C20,#REF!,5,FALSE)","v":{"$error":"#REF!"}},{"$error":"#REF!"},null,null,0,0,{"$error":"#REF!"}]
[null,17,{"$f":"#REF!","v":{"$error":"#REF!"}},null,{"$f":"VLOOKUP(C21,#REF!,2,FALSE)","v":{"$error":"#REF!"}},{"$error":"#REF!"},null,{"$f":"VLOOKUP(C21,#REF!,3,FALSE)","v":{"$error":"#REF!"}},{"$error":"#REF!"},null,{"$f":"VLOOKUP(C21,#REF!,4,FALSE)","v":{"$error":"#REF!"}},{"$error":"#REF!"},null,{"$f":"VLOOKUP(C21,#REF!,5,FALSE)","v":{"$error":"#REF!"}},{"$error":"#REF!"},null,0,null,{"$f":"VLOOKUP(C21,#REF!,2,FALSE)","v":{"$error":"#REF!"}},{"$error":"#REF!"},null,{"$f":"VLOOKUP(C21,#REF!,3,FALSE)","v":{"$error":"#REF!"}},{"$error":"#REF!"},null,{"$f":"VLOOKUP(C21,#REF!,4,FALSE)","v":{"$error":"#REF!"}},{"$error":"#REF!"},null,{"$f":"VLOOKUP(C21,#REF!,5,FALSE)","v":{"$error":"#REF!"}},{"$error":"#REF!"},null,null,0,0,{"$error":"#REF!"}]
[null,18,{"$f":"#REF!","v":{"$error":"#REF!"}},null,{"$f":"VLOOKUP(C22,#REF!,2,FALSE)","v":{"$error":"#REF!"}},{"$error":"#REF!"},null,{"$f":"VLOOKUP(C22,#REF!,3,FALSE)","v":{"$error":"#REF!"}},{"$error":"#REF!"},null,{"$f":"VLOOKUP(C22,#REF!,4,FALSE)","v":{"$error":"#REF!"}},{"$error":"#REF!"},null,{"$f":"VLOOKUP(C22,#REF!,5,FALSE)","v":{"$error":"#REF!"}},{"$error":"#REF!"},null,0,null,{"$f":"VLOOKUP(C22,#REF!,2,FALSE)","v":{"$error":"#REF!"}},{"$error":"#REF!"},null,{"$f":"VLOOKUP(C22,#REF!,3,FALSE)","v":{"$error":"#REF!"}},{"$error":"#REF!"},null,{"$f":"VLOOKUP(C22,#REF!,4,FALSE)","v":{"$error":"#REF!"}},{"$error":"#REF!"},null,{"$f":"VLOOKUP(C22,#REF!,5,FALSE)","v":{"$error":"#REF!"}},{"$error":"#REF!"},null,null,0,0,{"$error":"#REF!"}]
[null,19,{"$f":"#REF!","v":{"$error":"#REF!"}},null,{"$f":"VLOOKUP(C23,#REF!,2,FALSE)","v":{"$error":"#REF!"}},{"$error":"#REF!"},null,{"$f":"VLOOKUP(C23,#REF!,3,FALSE)","v":{"$error":"#REF!"}},{"$error":"#REF!"},null,{"$f":"VLOOKUP(C23,#REF!,4,FALSE)","v":{"$error":"#REF!"}},{"$error":"#REF!"},null,{"$f":"VLOOKUP(C23,#REF!,5,FALSE)","v":{"$error":"#REF!"}},{"$error":"#REF!"},null,0,null,{"$f":"VLOOKUP(C23,#REF!,2,FALSE)","v":{"$error":"#REF!"}},{"$error":"#REF!"},null,{"$f":"VLOOKUP(C23,#REF!,3,FALSE)","v":{"$error":"#REF!"}},{"$error":"#REF!"},null,{"$f":"VLOOKUP(C23,#REF!,4,FALSE)","v":{"$error":"#REF!"}},{"$error":"#REF!"},null,{"$f":"VLOOKUP(C23,#REF!,5,FALSE)","v":{"$error":"#REF!"}},{"$error":"#REF!"},null,null,0,0,{"$error":"#REF!"}]
[null,20,{"$f":"#REF!","v":{"$error":"#REF!"}},null,{"$f":"VLOOKUP(C24,#REF!,2,FALSE)","v":{"$error":"#REF!"}},{"$error":"#REF!"},null,{"$f":"VLOOKUP(C24,#REF!,3,FALSE)","v":{"$error":"#REF!"}},{"$error":"#REF!"},null,{"$f":"VLOOKUP(C24,#REF!,4,FALSE)","v":{"$error":"#REF!"}},{"$error":"#REF!"},null,{"$f":"VLOOKUP(C24,#REF!,5,FALSE)","v":{"$error":"#REF!"}},{"$error":"#REF!"},null,0,null,{"$f":"VLOOKUP(C24,#REF!,2,FALSE)","v":{"$error":"#REF!"}},{"$error":"#REF!"},null,{"$f":"VLOOKUP(C24,#REF!,3,FALSE)","v":{"$error":"#REF!"}},{"$error":"#REF!"},null,{"$f":"VLOOKUP(C24,#REF!,4,FALSE)","v":{"$error":"#REF!"}},{"$error":"#REF!"},null,{"$f":"VLOOKUP(C24,#REF!,5,FALSE)","v":{"$error":"#REF!"}},{"$error":"#REF!"},null,null,0,0,{"$error":"#REF!"}]
[null,21,{"$f":"#REF!","v":{"$error":"#REF!"}},null,{"$f":"VLOOKUP(C25,#REF!,2,FALSE)","v":{"$error":"#REF!"}},{"$error":"#REF!"},null,{"$f":"VLOOKUP(C25,#REF!,3,FALSE)","v":{"$error":"#REF!"}},{"$error":"#REF!"},null,{"$f":"VLOOKUP(C25,#REF!,4,FALSE)","v":{"$error":"#REF!"}},{"$error":"#REF!"},null,{"$f":"VLOOKUP(C25,#REF!,5,FALSE)","v":{"$error":"#REF!"}},{"$error":"#REF!"},null,0,null,{"$f":"VLOOKUP(C25,#REF!,2,FALSE)","v":{"$error":"#REF!"}},{"$error":"#REF!"},null,{"$f":"VLOOKUP(C25,#REF!,3,FALSE)","v":{"$error":"#REF!"}},{"$error":"#REF!"},null,{"$f":"VLOOKUP(C25,#REF!,4,FALSE)","v":{"$error":"#REF!"}},{"$error":"#REF!"},null,{"$f":"VLOOKUP(C25,#REF!,5,FALSE)","v":{"$error":"#REF!"}},{"$error":"#REF!"},null,null,0,0,{"$error":"#REF!"}]
[null,null,{"$f":"#REF!","v":{"$error":"#REF!"}}]
[null,null,{"$f":"#REF!","v":{"$error":"#REF!"}}]

{"sheet":"aktuala (9)","index":8,"n_rows":27,"n_cols":34,"rows_kept":27,"cut":false,"hidden":true,"merged":[[3,29,3,31],[3,32,3,33],[1,2,2,33],[3,3,3,5],[3,6,3,8],[3,9,3,11],[3,12,3,14],[3,15,3,16],[3,17,3,19],[3,20,3,22],[3,23,3,25],[3,26,3,28]]}
[]
[null,null,{"$f":"'F1'!B2","v":"Sporta viktorīnas speciālizlaidums | F1 viktorīna | 2025.gada 13.augusts"}]
[]
[null,"#","Komandas / Raundi",1,null,null,2,null,null,3,null,null,4,null,null,"Ķēde",null,6,null,null,7,null,null,8,null,null,9,null,null,10,null,null,"KOPĀ"]
[null,1,"Japānas beisbola izlase",4,10,40,2,15,30,5,15,75,4,20,80,8,120,4,15,60,5,20,100,5,10,50,6,15,90,5,1,100,49,745]
[null,2,"Karaliskais kronis",4,10,40,5,15,75,4,15,60,4,20,80,5,75,5,20,100,6,15,90,4,10,40,3,15,45,5,1,100,46,705]
[null,3,"Jeržābeks",4,15,60,4,10,40,4,20,80,6,15,90,7,105,2.5,15,37.5,4,15,60,4,10,40,3,20,60,7,1,130,46.5,702.5]
[null,4,"Baltais gailis",4,10,40,2,15,30,6,15,90,6,20,120,8,120,3,15,45,2,10,20,4,15,60,5,20,100,5,0,75,45,700]
[null,5,"Džamolidins Abdužaparovs",4,10,40,3,15,45,3,15,45,6,20,120,8,120,3,10,30,5,15,75,4,15,60,5,20,100,3,0,45,44,680]
[null,6,"Rozā krekli un mokasīni",5,15,75,3,15,45,2,10,20,5,20,100,6,90,5,20,100,5,15,75,4,10,40,3,15,45,3,0,45,41,635]
[null,7,"A komanda",3,15,45,4,15,60,4,10,40,4,20,80,2,30,6,20,120,5,15,75,5,10,50,5,15,75,3,0,45,41,620]
[null,8,"Justin Brownlee",3,15,45,5,20,100,4,15,60,4,10,40,6,90,4,15,60,5,20,100,2,10,20,4,15,60,1,0,15,38,590]
[null,9,"Zinātāji",4,10,40,5,20,100,3,15,45,3,15,45,0,0,2,15,30,6,10,60,3,20,60,5,15,75,5,0,75,36,530]
[null,10,"Maurīcijs",4,15,60,3,20,60,3,10,30,4,15,60,0,0,3.5,15,52.5,4,15,60,3,10,30,2,20,40,5,1,100,32.5,492.5]
[null,11,"BallDontLie",4,10,40,3,20,60,4,15,60,2,15,30,5,75,2,15,30,3,20,60,2,10,20,2,15,30,3,0,45,30,450]
[null,12,"Kārļa karaļvalsts",3,10,30,3,15,45,3,15,45,4,20,80,2,30,2.5,15,37.5,2,20,40,2,15,30,2,10,20,0,0,0,23.5,357.5]
[null,13,{"$f":"#REF!","v":{"$error":"#REF!"}},null,{"$f":"VLOOKUP(C17,#REF!,2,FALSE)","v":{"$error":"#REF!"}},{"$f":"D17*E17","v":{"$error":"#REF!"}},null,{"$f":"VLOOKUP(C17,#REF!,3,FALSE)","v":{"$error":"#REF!"}},{"$f":"G17*H17","v":{"$error":"#REF!"}},null,{"$f":"VLOOKUP(C17,#REF!,4,FALSE)","v":{"$error":"#REF!"}},{"$f":"J17*K17","v":{"$error":"#REF!"}},null,{"$f":"VLOOKUP(C17,#REF!,5,FALSE)","v":{"$error":"#REF!"}},{"$f":"M17*N17","v":{"$error":"#REF!"}},null,{"$f":"P17*15","v":0},null,{"$f":"VLOOKUP(C17,#REF!,2,FALSE)","v":{"$error":"#REF!"}},{"$f":"R17*S17","v":{"$error":"#REF!"}},null,{"$f":"VLOOKUP(C17,#REF!,3,FALSE)","v":{"$error":"#REF!"}},{"$f":"U17*V17","v":{"$error":"#REF!"}},null,{"$f":"VLOOKUP(C17,#REF!,4,FALSE)","v":{"$error":"#REF!"}},{"$f":"X17*Y17","v":{"$error":"#REF!"}},null,{"$f":"VLOOKUP(C17,#REF!,5,FALSE)","v":{"$error":"#REF!"}},{"$f":"AA17*AB17","v":{"$error":"#REF!"}},null,null,{"$f":"AD17*15+AE17*25","v":0},{"$f":"D17+G17+J17+M17+R17+U17+X17+AA17+AD17+AE17+P17","v":0},{"$f":"F17+I17+L17+O17+Q17+T17+W17+Z17+AC17+AF17","v":{"$error":"#REF!"}}]
[null,14,{"$f":"#REF!","v":{"$error":"#REF!"}},null,{"$f":"VLOOKUP(C18,#REF!,2,FALSE)","v":{"$error":"#REF!"}},{"$error":"#REF!"},null,{"$f":"VLOOKUP(C18,#REF!,3,FALSE)","v":{"$error":"#REF!"}},{"$error":"#REF!"},null,{"$f":"VLOOKUP(C18,#REF!,4,FALSE)","v":{"$error":"#REF!"}},{"$error":"#REF!"},null,{"$f":"VLOOKUP(C18,#REF!,5,FALSE)","v":{"$error":"#REF!"}},{"$error":"#REF!"},null,0,null,{"$f":"VLOOKUP(C18,#REF!,2,FALSE)","v":{"$error":"#REF!"}},{"$error":"#REF!"},null,{"$f":"VLOOKUP(C18,#REF!,3,FALSE)","v":{"$error":"#REF!"}},{"$error":"#REF!"},null,{"$f":"VLOOKUP(C18,#REF!,4,FALSE)","v":{"$error":"#REF!"}},{"$error":"#REF!"},null,{"$f":"VLOOKUP(C18,#REF!,5,FALSE)","v":{"$error":"#REF!"}},{"$error":"#REF!"},null,null,0,0,{"$error":"#REF!"}]
[null,15,{"$f":"#REF!","v":{"$error":"#REF!"}},null,{"$f":"VLOOKUP(C19,#REF!,2,FALSE)","v":{"$error":"#REF!"}},{"$error":"#REF!"},null,{"$f":"VLOOKUP(C19,#REF!,3,FALSE)","v":{"$error":"#REF!"}},{"$error":"#REF!"},null,{"$f":"VLOOKUP(C19,#REF!,4,FALSE)","v":{"$error":"#REF!"}},{"$error":"#REF!"},null,{"$f":"VLOOKUP(C19,#REF!,5,FALSE)","v":{"$error":"#REF!"}},{"$error":"#REF!"},null,0,null,{"$f":"VLOOKUP(C19,#REF!,2,FALSE)","v":{"$error":"#REF!"}},{"$error":"#REF!"},null,{"$f":"VLOOKUP(C19,#REF!,3,FALSE)","v":{"$error":"#REF!"}},{"$error":"#REF!"},null,{"$f":"VLOOKUP(C19,#REF!,4,FALSE)","v":{"$error":"#REF!"}},{"$error":"#REF!"},null,{"$f":"VLOOKUP(C19,#REF!,5,FALSE)","v":{"$error":"#REF!"}},{"$error":"#REF!"},null,null,0,0,{"$error":"#REF!"}]
[null,16,{"$f":"#REF!","v":{"$error":"#REF!"}},null,{"$f":"VLOOKUP(C20,#REF!,2,FALSE)","v":{"$error":"#REF!"}},{"$error":"#REF!"},null,{"$f":"VLOOKUP(C20,#REF!,3,FALSE)","v":{"$error":"#REF!"}},{"$error":"#REF!"},null,{"$f":"VLOOKUP(C20,#REF!,4,FALSE)","v":{"$error":"#REF!"}},{"$error":"#REF!"},null,{"$f":"VLOOKUP(C20,#REF!,5,FALSE)","v":{"$error":"#REF!"}},{"$error":"#REF!"},null,0,null,{"$f":"VLOOKUP(C20,#REF!,2,FALSE)","v":{"$error":"#REF!"}},{"$error":"#REF!"},null,{"$f":"VLOOKUP(C20,#REF!,3,FALSE)","v":{"$error":"#REF!"}},{"$error":"#REF!"},null,{"$f":"VLOOKUP(C20,#REF!,4,FALSE)","v":{"$error":"#REF!"}},{"$error":"#REF!"},null,{"$f":"VLOOKUP(C20,#REF!,5,FALSE)","v":{"$error":"#REF!"}},{"$error":"#REF!"},null,null,0,0,{"$error":"#REF!"}]
[null,17,{"$f":"#REF!","v":{"$error":"#REF!"}},null,{"$f":"VLOOKUP(C21,#REF!,2,FALSE)","v":{"$error":"#REF!"}},{"$error":"#REF!"},null,{"$f":"VLOOKUP(C21,#REF!,3,FALSE)","v":{"$error":"#REF!"}},{"$error":"#REF!"},null,{"$f":"VLOOKUP(C21,#REF!,4,FALSE)","v":{"$error":"#REF!"}},{"$error":"#REF!"},null,{"$f":"VLOOKUP(C21,#REF!,5,FALSE)","v":{"$error":"#REF!"}},{"$error":"#REF!"},null,0,null,{"$f":"VLOOKUP(C21,#REF!,2,FALSE)","v":{"$error":"#REF!"}},{"$error":"#REF!"},null,{"$f":"VLOOKUP(C21,#REF!,3,FALSE)","v":{"$error":"#REF!"}},{"$error":"#REF!"},null,{"$f":"VLOOKUP(C21,#REF!,4,FALSE)","v":{"$error":"#REF!"}},{"$error":"#REF!"},null,{"$f":"VLOOKUP(C21,#REF!,5,FALSE)","v":{"$error":"#REF!"}},{"$error":"#REF!"},null,null,0,0,{"$error":"#REF!"}]
[null,18,{"$f":"#REF!","v":{"$error":"#REF!"}},null,{"$f":"VLOOKUP(C22,#REF!,2,FALSE)","v":{"$error":"#REF!"}},{"$error":"#REF!"},null,{"$f":"VLOOKUP(C22,#REF!,3,FALSE)","v":{"$error":"#REF!"}},{"$error":"#REF!"},null,{"$f":"VLOOKUP(C22,#REF!,4,FALSE)","v":{"$error":"#REF!"}},{"$error":"#REF!"},null,{"$f":"VLOOKUP(C22,#REF!,5,FALSE)","v":{"$error":"#REF!"}},{"$error":"#REF!"},null,0,null,{"$f":"VLOOKUP(C22,#REF!,2,FALSE)","v":{"$error":"#REF!"}},{"$error":"#REF!"},null,{"$f":"VLOOKUP(C22,#REF!,3,FALSE)","v":{"$error":"#REF!"}},{"$error":"#REF!"},null,{"$f":"VLOOKUP(C22,#REF!,4,FALSE)","v":{"$error":"#REF!"}},{"$error":"#REF!"},null,{"$f":"VLOOKUP(C22,#REF!,5,FALSE)","v":{"$error":"#REF!"}},{"$error":"#REF!"},null,null,0,0,{"$error":"#REF!"}]
[null,19,{"$f":"#REF!","v":{"$error":"#REF!"}},null,{"$f":"VLOOKUP(C23,#REF!,2,FALSE)","v":{"$error":"#REF!"}},{"$error":"#REF!"},null,{"$f":"VLOOKUP(C23,#REF!,3,FALSE)","v":{"$error":"#REF!"}},{"$error":"#REF!"},null,{"$f":"VLOOKUP(C23,#REF!,4,FALSE)","v":{"$error":"#REF!"}},{"$error":"#REF!"},null,{"$f":"VLOOKUP(C23,#REF!,5,FALSE)","v":{"$error":"#REF!"}},{"$error":"#REF!"},null,0,null,{"$f":"VLOOKUP(C23,#REF!,2,FALSE)","v":{"$error":"#REF!"}},{"$error":"#REF!"},null,{"$f":"VLOOKUP(C23,#REF!,3,FALSE)","v":{"$error":"#REF!"}},{"$error":"#REF!"},null,{"$f":"VLOOKUP(C23,#REF!,4,FALSE)","v":{"$error":"#REF!"}},{"$error":"#REF!"},null,{"$f":"VLOOKUP(C23,#REF!,5,FALSE)","v":{"$error":"#REF!"}},{"$error":"#REF!"},null,null,0,0,{"$error":"#REF!"}]
[null,20,{"$f":"#REF!","v":{"$error":"#REF!"}},null,{"$f":"VLOOKUP(C24,#REF!,2,FALSE)","v":{"$error":"#REF!"}},{"$error":"#REF!"},null,{"$f":"VLOOKUP(C24,#REF!,3,FALSE)","v":{"$error":"#REF!"}},{"$error":"#REF!"},null,{"$f":"VLOOKUP(C24,#REF!,4,FALSE)","v":{"$error":"#REF!"}},{"$error":"#REF!"},null,{"$f":"VLOOKUP(C24,#REF!,5,FALSE)","v":{"$error":"#REF!"}},{"$error":"#REF!"},null,0,null,{"$f":"VLOOKUP(C24,#REF!,2,FALSE)","v":{"$error":"#REF!"}},{"$error":"#REF!"},null,{"$f":"VLOOKUP(C24,#REF!,3,FALSE)","v":{"$error":"#REF!"}},{"$error":"#REF!"},null,{"$f":"VLOOKUP(C24,#REF!,4,FALSE)","v":{"$error":"#REF!"}},{"$error":"#REF!"},null,{"$f":"VLOOKUP(C24,#REF!,5,FALSE)","v":{"$error":"#REF!"}},{"$error":"#REF!"},null,null,0,0,{"$error":"#REF!"}]
[null,21,{"$f":"#REF!","v":{"$error":"#REF!"}},null,{"$f":"VLOOKUP(C25,#REF!,2,FALSE)","v":{"$error":"#REF!"}},{"$error":"#REF!"},null,{"$f":"VLOOKUP(C25,#REF!,3,FALSE)","v":{"$error":"#REF!"}},{"$error":"#REF!"},null,{"$f":"VLOOKUP(C25,#REF!,4,FALSE)","v":{"$error":"#REF!"}},{"$error":"#REF!"},null,{"$f":"VLOOKUP(C25,#REF!,5,FALSE)","v":{"$error":"#REF!"}},{"$error":"#REF!"},null,0,null,{"$f":"VLOOKUP(C25,#REF!,2,FALSE)","v":{"$error":"#REF!"}},{"$error":"#REF!"},null,{"$f":"VLOOKUP(C25,#REF!,3,FALSE)","v":{"$error":"#REF!"}},{"$error":"#REF!"},null,{"$f":"VLOOKUP(C25,#REF!,4,FALSE)","v":{"$error":"#REF!"}},{"$error":"#REF!"},null,{"$f":"VLOOKUP(C25,#REF!,5,FALSE)","v":{"$error":"#REF!"}},{"$error":"#REF!"},null,null,0,0,{"$error":"#REF!"}]
[null,null,{"$f":"#REF!","v":{"$error":"#REF!"}}]
[null,null,{"$f":"#REF!","v":{"$error":"#REF!"}}]

{"sheet":"1grupa","index":9,"n_rows":25,"n_cols":34,"rows_kept":25,"cut":false,"hidden":true,"merged":[[3,29,3,31],[3,32,3,33],[1,2,2,33],[3,3,3,5],[3,6,3,8],[3,9,3,11],[3,12,3,14],[3,15,3,16],[3,17,3,19],[3,20,3,22],[3,23,3,25],[3,26,3,28]]}
[]
[null,null,{"$f":"'F1'!B2","v":"Sporta viktorīnas speciālizlaidums | F1 viktorīna | 2025.gada 13.augusts"}]
[]
[null,"#","Komandas / Raundi",1,null,null,2,null,null,3,null,null,4,null,null,"Ķēde",null,6,null,null,7,null,null,8,null,null,9,null,null,10,null,null,"KOPĀ"]
[null,1,"Gorbunovi",6,15,90,5,10,50,5,15,75,6,20,120,8,120,5,10,50,6,20,120,4,15,60,6,15,90,7,1,130,59,905]
[null,2,"Lapsas",6,15,90,4,10,40,6,20,120,5,15,75,8,120,4,15,60,6,20,120,4,15,60,5,10,50,7,1,130,56,865]
[null,3,"Fireball",5,15,75,5,15,75,4,10,40,5,20,100,8,120,3,10,30,6,20,120,5,15,75,6,15,90,7,1,130,55,855]
[null,4,"Alus zaldāti",6,15,90,2,10,20,5,15,75,5,20,100,8,120,3,10,30,6,20,120,4,15,60,5,15,75,7,1,130,52,820]
[null,5,"Apskaidrība",6,15,90,5,15,75,5,10,50,5,20,100,7,105,3,20,60,6,15,90,4,15,60,5,10,50,7,1,130,54,810]
[null,6,"Nasing spešal",6,20,120,6,15,90,4,10,40,5,15,75,8,120,3,15,45,4,20,80,3,10,30,6,15,90,6,1,115,52,805]
[null,7,"Rozā krekli un mokasīni",6,10,60,6,20,120,5,15,75,4,15,60,7,105,3,15,45,6,10,60,3,15,45,5,20,100,7,1,130,53,800]
[null,8,"Prāta eklektika",4,15,60,6,15,90,6,20,120,5,10,50,6,90,2,15,30,6,20,120,4,15,60,4,10,40,6,1,115,50,775]
[null,9,"Bez Agritas",6,20,120,5,15,75,4,10,40,2,15,30,8,120,2,10,20,4,15,60,5,20,100,5,15,75,6.5,1,122.5,48.5,762.5]
[null,10,"Ansamblis X",5,15,75,4,10,40,5,15,75,5,20,100,5,75,3,15,45,5,10,50,4,15,60,6,20,120,5,1,100,48,740]
[null,11,"Baltijas jūras izsmelšanas b.",4,10,40,5,20,100,4,15,60,5,15,75,6,90,2,20,40,6,10,60,4,15,60,6,15,90,6,1,115,49,730]
[null,12,"Te tikai Dieviņš palīdzēs",5,15,75,4,15,60,4,10,40,4,20,80,8,120,3,20,60,4,15,60,3,15,45,4,10,40,7,1,130,47,710]
[null,13,"Mežpils miglā",6,20,120,5,15,75,5,15,75,3,10,30,0,0,5,20,100,6,15,90,4,15,60,4,10,40,6,1,115,45,705]
[null,14,"Vinaņars Pūkašvilli",3,10,30,3,15,45,4,15,60,4,20,80,8,120,2,15,30,6,20,120,4,15,60,5,10,50,5,1,100,45,695]
[null,15,"Sfinksa",6,20,120,3,10,30,5,15,75,5,15,75,2,30,1,10,10,6,20,120,3,15,45,5,15,75,5,1,100,42,680]
[null,16,"Kukuržņi",5,15,75,5,20,100,2,10,20,3,15,45,2,30,2,10,20,4,15,60,4,15,60,5,20,100,6,1,115,39,625]
[null,17,"Mind Machines",4,15,60,4,20,80,3,10,30,4,15,60,5,75,1,15,15,3,10,30,3,15,45,4,20,80,7,1,130,39,605]
[null,18,"Marvels",3,10,30,2,15,30,3,15,45,3,20,60,5,75,3,20,60,3,15,45,3,15,45,3,10,30,6,1,115,35,535]
[null,19,"Negatīvs eksponenciāls",2,15,30,4,20,80,0,10,0,4,15,60,1,15,1,15,15,3,10,30,1,20,20,3,15,45,5.5,1,107.5,25.5,402.5]
[null,20,{"$f":"#REF!","v":{"$error":"#REF!"}},null,{"$f":"VLOOKUP(C24,#REF!,2,FALSE)","v":{"$error":"#REF!"}},{"$f":"D24*E24","v":{"$error":"#REF!"}},null,{"$f":"VLOOKUP(C24,#REF!,3,FALSE)","v":{"$error":"#REF!"}},{"$f":"G24*H24","v":{"$error":"#REF!"}},null,{"$f":"VLOOKUP(C24,#REF!,4,FALSE)","v":{"$error":"#REF!"}},{"$f":"J24*K24","v":{"$error":"#REF!"}},null,{"$f":"VLOOKUP(C24,#REF!,5,FALSE)","v":{"$error":"#REF!"}},{"$f":"M24*N24","v":{"$error":"#REF!"}},null,{"$f":"P24*15","v":0},null,{"$f":"VLOOKUP(C24,#REF!,2,FALSE)","v":{"$error":"#REF!"}},{"$f":"R24*S24","v":{"$error":"#REF!"}},null,{"$f":"VLOOKUP(C24,#REF!,3,FALSE)","v":{"$error":"#REF!"}},{"$f":"U24*V24","v":{"$error":"#REF!"}},null,{"$f":"VLOOKUP(C24,#REF!,4,FALSE)","v":{"$error":"#REF!"}},{"$f":"X24*Y24","v":{"$error":"#REF!"}},null,{"$f":"VLOOKUP(C24,#REF!,5,FALSE)","v":{"$error":"#REF!"}},{"$f":"AA24*AB24","v":{"$error":"#REF!"}},null,null,{"$f":"AD24*15+AE24*25","v":0},{"$f":"D24+G24+J24+M24+R24+U24+X24+AA24+AD24+AE24+P24","v":0},{"$f":"F24+I24+L24+O24+Q24+T24+W24+Z24+AC24+AF24","v":{"$error":"#REF!"}}]
[null,21,{"$f":"#REF!","v":{"$error":"#REF!"}},null,{"$f":"VLOOKUP(C25,#REF!,2,FALSE)","v":{"$error":"#REF!"}},{"$error":"#REF!"},null,{"$f":"VLOOKUP(C25,#REF!,3,FALSE)","v":{"$error":"#REF!"}},{"$error":"#REF!"},null,{"$f":"VLOOKUP(C25,#REF!,4,FALSE)","v":{"$error":"#REF!"}},{"$error":"#REF!"},null,{"$f":"VLOOKUP(C25,#REF!,5,FALSE)","v":{"$error":"#REF!"}},{"$error":"#REF!"},null,0,null,{"$f":"VLOOKUP(C25,#REF!,2,FALSE)","v":{"$error":"#REF!"}},{"$error":"#REF!"},null,{"$f":"VLOOKUP(C25,#REF!,3,FALSE)","v":{"$error":"#REF!"}},{"$error":"#REF!"},null,{"$f":"VLOOKUP(C25,#REF!,4,FALSE)","v":{"$error":"#REF!"}},{"$error":"#REF!"},null,{"$f":"VLOOKUP(C25,#REF!,5,FALSE)","v":{"$error":"#REF!"}},{"$error":"#REF!"},null,null,0,0,{"$error":"#REF!"}]

{"sheet":"2grupa","index":10,"n_rows":25,"n_cols":34,"rows_kept":25,"cut":false,"hidden":true,"merged":[[3,29,3,31],[3,32,3,33],[1,2,2,33],[3,3,3,5],[3,6,3,8],[3,9,3,11],[3,12,3,14],[3,15,3,16],[3,17,3,19],[3,20,3,22],[3,23,3,25],[3,26,3,28]]}
[]
[null,null,{"$f":"'F1'!B2","v":"Sporta viktorīnas speciālizlaidums | F1 viktorīna | 2025.gada 13.augusts"}]
[]
[null,"#","Komandas / Raundi",1,null,null,2,null,null,3,null,null,4,null,null,"Ķēde",null,6,null,null,7,null,null,8,null,null,9,null,null,10,null,null,"KOPĀ"]
[null,1,"Štepselētāju atgriešanās",6,15,90,4,10,40,5,15,75,6,20,120,8,120,4,10,40,6,15,90,5,20,100,5,15,75,7,1,130,57,880]
[null,2,"Lācēni",6,15,90,3,10,30,5,15,75,5,20,100,8,120,1,10,10,6,20,120,4,15,60,6,15,90,7,1,130,52,825]
[null,3,"Zinātāji",6,15,90,2,10,20,6,20,120,6,15,90,6,90,1,15,15,5,15,75,4,20,80,6,10,60,7,1,130,50,770]
[null,4,"Brāķis bez metāla",6,15,90,3,15,45,4,10,40,4,20,80,6,90,3,15,45,5,10,50,3,15,45,6,20,120,7,1,130,48,735]
[null,5,"Animāļi",3,10,30,4,20,80,6,15,90,3,15,45,7,105,2,10,20,5,20,100,4,15,60,4,15,60,7,1,130,46,720]
[null,6,"BioBio Guiņas",6,20,120,5,15,75,5,10,50,4,15,60,1,15,3,15,45,6,20,120,3,10,30,5,15,75,7,1,130,46,720]
[null,7,"Alternative facts",5,10,50,5,20,100,5,15,75,3,15,45,4,60,3,10,30,5,20,100,4,15,60,5,15,75,6.5,1,122.5,46.5,717.5]
[null,8,"Cukurfabrika",4,20,80,3,15,45,4,10,40,3,15,45,8,120,1,20,20,6,10,60,4,15,60,6,15,90,6,1,115,46,675]
[null,9,"Slagūnes Metalurgs",6,15,90,5,15,75,3,10,30,4,20,80,0,0,2,10,20,5,20,100,3,15,45,6,15,90,6,1,115,41,645]
[null,10,"Vortusiņš",6,15,90,3,15,45,5,10,50,2,20,40,5,75,2,20,40,6,10,60,5,15,75,4,15,60,5.5,1,107.5,44.5,642.5]
[null,11,"Mūsdienu jaunatne",0,20,0,4,15,60,2,15,30,4,10,40,4,60,5,15,75,4,10,40,5,20,100,4,15,60,5.5,1,107.5,38.5,572.5]
[null,12,"No one",5,10,50,5,20,100,2,15,30,4,15,60,0,0,2,15,30,5,20,100,3,15,45,4,10,40,6,1,115,37,570]
[null,13,"SPSS",2,15,30,4,15,60,5,20,100,4,10,40,1,15,3,20,60,4,15,60,1,10,10,2,15,30,3,0,45,29,450]
[null,14,{"$f":"#REF!","v":{"$error":"#REF!"}},null,{"$f":"VLOOKUP(C18,#REF!,2,FALSE)","v":{"$error":"#REF!"}},{"$f":"D18*E18","v":{"$error":"#REF!"}},null,{"$f":"VLOOKUP(C18,#REF!,3,FALSE)","v":{"$error":"#REF!"}},{"$f":"G18*H18","v":{"$error":"#REF!"}},null,{"$f":"VLOOKUP(C18,#REF!,4,FALSE)","v":{"$error":"#REF!"}},{"$f":"J18*K18","v":{"$error":"#REF!"}},null,{"$f":"VLOOKUP(C18,#REF!,5,FALSE)","v":{"$error":"#REF!"}},{"$f":"M18*N18","v":{"$error":"#REF!"}},null,{"$f":"P18*15","v":0},null,{"$f":"VLOOKUP(C18,#REF!,2,FALSE)","v":{"$error":"#REF!"}},{"$f":"R18*S18","v":{"$error":"#REF!"}},null,{"$f":"VLOOKUP(C18,#REF!,3,FALSE)","v":{"$error":"#REF!"}},{"$f":"U18*V18","v":{"$error":"#REF!"}},null,{"$f":"VLOOKUP(C18,#REF!,4,FALSE)","v":{"$error":"#REF!"}},{"$f":"X18*Y18","v":{"$error":"#REF!"}},null,{"$f":"VLOOKUP(C18,#REF!,5,FALSE)","v":{"$error":"#REF!"}},{"$f":"AA18*AB18","v":{"$error":"#REF!"}},null,null,{"$f":"AD18*15+AE18*25","v":0},{"$f":"D18+G18+J18+M18+R18+U18+X18+AA18+AD18+AE18+P18","v":0},{"$f":"F18+I18+L18+O18+Q18+T18+W18+Z18+AC18+AF18","v":{"$error":"#REF!"}}]
[null,15,{"$f":"#REF!","v":{"$error":"#REF!"}},null,{"$f":"VLOOKUP(C19,#REF!,2,FALSE)","v":{"$error":"#REF!"}},{"$error":"#REF!"},null,{"$f":"VLOOKUP(C19,#REF!,3,FALSE)","v":{"$error":"#REF!"}},{"$error":"#REF!"},null,{"$f":"VLOOKUP(C19,#REF!,4,FALSE)","v":{"$error":"#REF!"}},{"$error":"#REF!"},null,{"$f":"VLOOKUP(C19,#REF!,5,FALSE)","v":{"$error":"#REF!"}},{"$error":"#REF!"},null,0,null,{"$f":"VLOOKUP(C19,#REF!,2,FALSE)","v":{"$error":"#REF!"}},{"$error":"#REF!"},null,{"$f":"VLOOKUP(C19,#REF!,3,FALSE)","v":{"$error":"#REF!"}},{"$error":"#REF!"},null,{"$f":"VLOOKUP(C19,#REF!,4,FALSE)","v":{"$error":"#REF!"}},{"$error":"#REF!"},null,{"$f":"VLOOKUP(C19,#REF!,5,FALSE)","v":{"$error":"#REF!"}},{"$error":"#REF!"},null,null,0,0,{"$error":"#REF!"}]
[null,16,{"$f":"#REF!","v":{"$error":"#REF!"}},null,{"$f":"VLOOKUP(C20,#REF!,2,FALSE)","v":{"$error":"#REF!"}},{"$error":"#REF!"},null,{"$f":"VLOOKUP(C20,#REF!,3,FALSE)","v":{"$error":"#REF!"}},{"$error":"#REF!"},null,{"$f":"VLOOKUP(C20,#REF!,4,FALSE)","v":{"$error":"#REF!"}},{"$error":"#REF!"},null,{"$f":"VLOOKUP(C20,#REF!,5,FALSE)","v":{"$error":"#REF!"}},{"$error":"#REF!"},null,0,null,{"$f":"VLOOKUP(C20,#REF!,2,FALSE)","v":{"$error":"#REF!"}},{"$error":"#REF!"},null,{"$f":"VLOOKUP(C20,#REF!,3,FALSE)","v":{"$error":"#REF!"}},{"$error":"#REF!"},null,{"$f":"VLOOKUP(C20,#REF!,4,FALSE)","v":{"$error":"#REF!"}},{"$error":"#REF!"},null,{"$f":"VLOOKUP(C20,#REF!,5,FALSE)","v":{"$error":"#REF!"}},{"$error":"#REF!"},null,null,0,0,{"$error":"#REF!"}]
[null,17,{"$f":"#REF!","v":{"$error":"#REF!"}},null,{"$f":"VLOOKUP(C21,#REF!,2,FALSE)","v":{"$error":"#REF!"}},{"$error":"#REF!"},null,{"$f":"VLOOKUP(C21,#REF!,3,FALSE)","v":{"$error":"#REF!"}},{"$error":"#REF!"},null,{"$f":"VLOOKUP(C21,#REF!,4,FALSE)","v":{"$error":"#REF!"}},{"$error":"#REF!"},null,{"$f":"VLOOKUP(C21,#REF!,5,FALSE)","v":{"$error":"#REF!"}},{"$error":"#REF!"},null,0,null,{"$f":"VLOOKUP(C21,#REF!,2,FALSE)","v":{"$error":"#REF!"}},{"$error":"#REF!"},null,{"$f":"VLOOKUP(C21,#REF!,3,FALSE)","v":{"$error":"#REF!"}},{"$error":"#REF!"},null,{"$f":"VLOOKUP(C21,#REF!,4,FALSE)","v":{"$error":"#REF!"}},{"$error":"#REF!"},null,{"$f":"VLOOKUP(C21,#REF!,5,FALSE)","v":{"$error":"#REF!"}},{"$error":"#REF!"},null,null,0,0,{"$error":"#REF!"}]
[null,18,{"$f":"#REF!","v":{"$error":"#REF!"}},null,{"$f":"VLOOKUP(C22,#REF!,2,FALSE)","v":{"$error":"#REF!"}},{"$error":"#REF!"},null,{"$f":"VLOOKUP(C22,#REF!,3,FALSE)","v":{"$error":"#REF!"}},{"$error":"#REF!"},null,{"$f":"VLOOKUP(C22,#REF!,4,FALSE)","v":{"$error":"#REF!"}},{"$error":"#REF!"},null,{"$f":"VLOOKUP(C22,#REF!,5,FALSE)","v":{"$error":"#REF!"}},{"$error":"#REF!"},null,0,null,{"$f":"VLOOKUP(C22,#REF!,2,FALSE)","v":{"$error":"#REF!"}},{"$error":"#REF!"},null,{"$f":"VLOOKUP(C22,#REF!,3,FALSE)","v":{"$error":"#REF!"}},{"$error":"#REF!"},null,{"$f":"VLOOKUP(C22,#REF!,4,FALSE)","v":{"$error":"#REF!"}},{"$error":"#REF!"},null,{"$f":"VLOOKUP(C22,#REF!,5,FALSE)","v":{"$error":"#REF!"}},{"$error":"#REF!"},null,null,0,0,{"$error":"#REF!"}]
[null,19,{"$f":"#REF!","v":{"$error":"#REF!"}},null,{"$f":"VLOOKUP(C23,#REF!,2,FALSE)","v":{"$error":"#REF!"}},{"$error":"#REF!"},null,{"$f":"VLOOKUP(C23,#REF!,3,FALSE)","v":{"$error":"#REF!"}},{"$error":"#REF!"},null,{"$f":"VLOOKUP(C23,#REF!,4,FALSE)","v":{"$error":"#REF!"}},{"$error":"#REF!"},null,{"$f":"VLOOKUP(C23,#REF!,5,FALSE)","v":{"$error":"#REF!"}},{"$error":"#REF!"},null,0,null,{"$f":"VLOOKUP(C23,#REF!,2,FALSE)","v":{"$error":"#REF!"}},{"$error":"#REF!"},null,{"$f":"VLOOKUP(C23,#REF!,3,FALSE)","v":{"$error":"#REF!"}},{"$error":"#REF!"},null,{"$f":"VLOOKUP(C23,#REF!,4,FALSE)","v":{"$error":"#REF!"}},{"$error":"#REF!"},null,{"$f":"VLOOKUP(C23,#REF!,5,FALSE)","v":{"$error":"#REF!"}},{"$error":"#REF!"},null,null,0,0,{"$error":"#REF!"}]
[null,20,{"$f":"#REF!","v":{"$error":"#REF!"}},null,{"$f":"VLOOKUP(C24,#REF!,2,FALSE)","v":{"$error":"#REF!"}},{"$error":"#REF!"},null,{"$f":"VLOOKUP(C24,#REF!,3,FALSE)","v":{"$error":"#REF!"}},{"$error":"#REF!"},null,{"$f":"VLOOKUP(C24,#REF!,4,FALSE)","v":{"$error":"#REF!"}},{"$error":"#REF!"},null,{"$f":"VLOOKUP(C24,#REF!,5,FALSE)","v":{"$error":"#REF!"}},{"$error":"#REF!"},null,0,null,{"$f":"VLOOKUP(C24,#REF!,2,FALSE)","v":{"$error":"#REF!"}},{"$error":"#REF!"},null,{"$f":"VLOOKUP(C24,#REF!,3,FALSE)","v":{"$error":"#REF!"}},{"$error":"#REF!"},null,{"$f":"VLOOKUP(C24,#REF!,4,FALSE)","v":{"$error":"#REF!"}},{"$error":"#REF!"},null,{"$f":"VLOOKUP(C24,#REF!,5,FALSE)","v":{"$error":"#REF!"}},{"$error":"#REF!"},null,null,0,0,{"$error":"#REF!"}]
[null,21,{"$f":"#REF!","v":{"$error":"#REF!"}},null,{"$f":"VLOOKUP(C25,#REF!,2,FALSE)","v":{"$error":"#REF!"}},{"$error":"#REF!"},null,{"$f":"VLOOKUP(C25,#REF!,3,FALSE)","v":{"$error":"#REF!"}},{"$error":"#REF!"},null,{"$f":"VLOOKUP(C25,#REF!,4,FALSE)","v":{"$error":"#REF!"}},{"$error":"#REF!"},null,{"$f":"VLOOKUP(C25,#REF!,5,FALSE)","v":{"$error":"#REF!"}},{"$error":"#REF!"},null,0,null,{"$f":"VLOOKUP(C25,#REF!,2,FALSE)","v":{"$error":"#REF!"}},{"$error":"#REF!"},null,{"$f":"VLOOKUP(C25,#REF!,3,FALSE)","v":{"$error":"#REF!"}},{"$error":"#REF!"},null,{"$f":"VLOOKUP(C25,#REF!,4,FALSE)","v":{"$error":"#REF!"}},{"$error":"#REF!"},null,{"$f":"VLOOKUP(C25,#REF!,5,FALSE)","v":{"$error":"#REF!"}},{"$error":"#REF!"},null,null,0,0,{"$error":"#REF!"}]

{"sheet":"3grupa","index":11,"n_rows":25,"n_cols":34,"rows_kept":25,"cut":false,"hidden":true,"merged":[[3,29,3,31],[3,32,3,33],[1,2,2,33],[3,3,3,5],[3,6,3,8],[3,9,3,11],[3,12,3,14],[3,15,3,16],[3,17,3,19],[3,20,3,22],[3,23,3,25],[3,26,3,28]]}
[]
[null,null,{"$f":"'F1'!B2","v":"Sporta viktorīnas speciālizlaidums | F1 viktorīna | 2025.gada 13.augusts"}]
[]
[null,"#","Komandas / Raundi",1,null,null,2,null,null,3,null,null,4,null,null,"Ķēde",null,6,null,null,7,null,null,8,null,null,9,null,null,10,null,null,"KOPĀ"]
[null,1,"Āreče",6,20,120,6,15,90,4,10,40,6,15,90,8,120,4,15,60,6,15,90,5,20,100,6,10,60,7,1,130,59,900]
[null,2,"Sestais lieks",6,20,120,6,10,60,6,15,90,6,15,90,8,120,2,15,30,6,20,120,3,10,30,5,15,75,7,1,130,56,865]
[null,3,"Hektora apustuļi",5,15,75,4,10,40,5,15,75,6,20,120,8,120,3,10,30,6,15,90,4,20,80,6,15,90,6,1,115,54,835]
[null,4,"Bunkurs_13",6,20,120,4,10,40,6,15,90,5,15,75,8,120,3,15,45,6,20,120,3,15,45,5,10,50,7,1,130,54,835]
[null,5,"RAĢ Pīķi & Co",5,15,75,6,15,90,4,10,40,5,20,100,7,105,6,20,120,4,10,40,4,15,60,5,15,75,7,1,130,54,835]
[null,6,"kOzis",5,15,75,5,20,100,5,10,50,5,15,75,8,120,4,20,80,5,15,75,4,15,60,5,10,50,7,1,130,54,815]
[null,7,"Mordanga",6,15,90,3,15,45,4,10,40,5,20,100,8,120,2,10,20,6,20,120,6,15,90,4,15,60,7,1,130,52,815]
[null,8,"Žeņšeņa borščs",5,10,50,6,15,90,5,15,75,5,20,100,8,120,4,20,80,5,10,50,3,15,45,4,15,60,7,1,130,53,800]
[null,9,"AC Seda",6,15,90,6,15,90,4,10,40,5,20,100,2,30,2,10,20,5,20,100,4,15,60,5,15,75,5.5,1,107.5,45.5,712.5]
[null,10,"Atkal Mēs",5,10,50,3,15,45,4,15,60,4,20,80,7,105,2,15,30,3,15,45,3,10,30,6,20,120,6,1,115,44,680]
[null,11,"Pa zoino",3,15,45,5,20,100,4,10,40,4,15,60,5,75,3,20,60,4,15,60,3,10,30,4,15,60,7,1,130,43,660]
[null,12,"Gurinētie Marķīši",3,10,30,2,15,30,4,15,60,4,20,80,7,105,2,15,30,4,10,40,4,20,80,5,15,75,6.5,1,122.5,42.5,652.5]
[null,13,"Bugatti Veyron",5,15,75,2,15,30,4,10,40,4,20,80,2,30,3,20,60,4,15,60,2,10,20,4,15,60,6,1,115,37,570]
[null,14,"Hektora saime",4,15,60,5,20,100,4,10,40,4,15,60,0,0,2,15,30,3,10,30,3,20,60,5,15,75,5.5,1,107.5,36.5,562.5]
[null,15,"Badijs spēlē viktorīnu",4,10,40,3,15,45,5,20,100,4,15,60,1,15,3,20,60,2,15,30,2,10,20,4,15,60,5,1,100,34,530]
[null,16,"Labi, ka nav tiešraide",3,15,45,3,15,45,5,20,100,4,10,40,2,30,2,20,40,4,15,60,2,15,30,1,10,10,5,1,100,32,500]
[null,17,{"$f":"#REF!","v":{"$error":"#REF!"}},null,{"$f":"VLOOKUP(C21,#REF!,2,FALSE)","v":{"$error":"#REF!"}},{"$f":"D21*E21","v":{"$error":"#REF!"}},null,{"$f":"VLOOKUP(C21,#REF!,3,FALSE)","v":{"$error":"#REF!"}},{"$f":"G21*H21","v":{"$error":"#REF!"}},null,{"$f":"VLOOKUP(C21,#REF!,4,FALSE)","v":{"$error":"#REF!"}},{"$f":"J21*K21","v":{"$error":"#REF!"}},null,{"$f":"VLOOKUP(C21,#REF!,5,FALSE)","v":{"$error":"#REF!"}},{"$f":"M21*N21","v":{"$error":"#REF!"}},null,{"$f":"P21*15","v":0},null,{"$f":"VLOOKUP(C21,#REF!,2,FALSE)","v":{"$error":"#REF!"}},{"$f":"R21*S21","v":{"$error":"#REF!"}},null,{"$f":"VLOOKUP(C21,#REF!,3,FALSE)","v":{"$error":"#REF!"}},{"$f":"U21*V21","v":{"$error":"#REF!"}},null,{"$f":"VLOOKUP(C21,#REF!,4,FALSE)","v":{"$error":"#REF!"}},{"$f":"X21*Y21","v":{"$error":"#REF!"}},null,{"$f":"VLOOKUP(C21,#REF!,5,FALSE)","v":{"$error":"#REF!"}},{"$f":"AA21*AB21","v":{"$error":"#REF!"}},null,null,{"$f":"AD21*15+AE21*25","v":0},{"$f":"D21+G21+J21+M21+R21+U21+X21+AA21+AD21+AE21+P21","v":0},{"$f":"F21+I21+L21+O21+Q21+T21+W21+Z21+AC21+AF21","v":{"$error":"#REF!"}}]
[null,18,{"$f":"#REF!","v":{"$error":"#REF!"}},null,{"$f":"VLOOKUP(C22,#REF!,2,FALSE)","v":{"$error":"#REF!"}},{"$error":"#REF!"},null,{"$f":"VLOOKUP(C22,#REF!,3,FALSE)","v":{"$error":"#REF!"}},{"$error":"#REF!"},null,{"$f":"VLOOKUP(C22,#REF!,4,FALSE)","v":{"$error":"#REF!"}},{"$error":"#REF!"},null,{"$f":"VLOOKUP(C22,#REF!,5,FALSE)","v":{"$error":"#REF!"}},{"$error":"#REF!"},null,0,null,{"$f":"VLOOKUP(C22,#REF!,2,FALSE)","v":{"$error":"#REF!"}},{"$error":"#REF!"},null,{"$f":"VLOOKUP(C22,#REF!,3,FALSE)","v":{"$error":"#REF!"}},{"$error":"#REF!"},null,{"$f":"VLOOKUP(C22,#REF!,4,FALSE)","v":{"$error":"#REF!"}},{"$error":"#REF!"},null,{"$f":"VLOOKUP(C22,#REF!,5,FALSE)","v":{"$error":"#REF!"}},{"$error":"#REF!"},null,null,0,0,{"$error":"#REF!"}]
[null,19,{"$f":"#REF!","v":{"$error":"#REF!"}},null,{"$f":"VLOOKUP(C23,#REF!,2,FALSE)","v":{"$error":"#REF!"}},{"$error":"#REF!"},null,{"$f":"VLOOKUP(C23,#REF!,3,FALSE)","v":{"$error":"#REF!"}},{"$error":"#REF!"},null,{"$f":"VLOOKUP(C23,#REF!,4,FALSE)","v":{"$error":"#REF!"}},{"$error":"#REF!"},null,{"$f":"VLOOKUP(C23,#REF!,5,FALSE)","v":{"$error":"#REF!"}},{"$error":"#REF!"},null,0,null,{"$f":"VLOOKUP(C23,#REF!,2,FALSE)","v":{"$error":"#REF!"}},{"$error":"#REF!"},null,{"$f":"VLOOKUP(C23,#REF!,3,FALSE)","v":{"$error":"#REF!"}},{"$error":"#REF!"},null,{"$f":"VLOOKUP(C23,#REF!,4,FALSE)","v":{"$error":"#REF!"}},{"$error":"#REF!"},null,{"$f":"VLOOKUP(C23,#REF!,5,FALSE)","v":{"$error":"#REF!"}},{"$error":"#REF!"},null,null,0,0,{"$error":"#REF!"}]
[null,20,{"$f":"#REF!","v":{"$error":"#REF!"}},null,{"$f":"VLOOKUP(C24,#REF!,2,FALSE)","v":{"$error":"#REF!"}},{"$error":"#REF!"},null,{"$f":"VLOOKUP(C24,#REF!,3,FALSE)","v":{"$error":"#REF!"}},{"$error":"#REF!"},null,{"$f":"VLOOKUP(C24,#REF!,4,FALSE)","v":{"$error":"#REF!"}},{"$error":"#REF!"},null,{"$f":"VLOOKUP(C24,#REF!,5,FALSE)","v":{"$error":"#REF!"}},{"$error":"#REF!"},null,0,null,{"$f":"VLOOKUP(C24,#REF!,2,FALSE)","v":{"$error":"#REF!"}},{"$error":"#REF!"},null,{"$f":"VLOOKUP(C24,#REF!,3,FALSE)","v":{"$error":"#REF!"}},{"$error":"#REF!"},null,{"$f":"VLOOKUP(C24,#REF!,4,FALSE)","v":{"$error":"#REF!"}},{"$error":"#REF!"},null,{"$f":"VLOOKUP(C24,#REF!,5,FALSE)","v":{"$error":"#REF!"}},{"$error":"#REF!"},null,null,0,0,{"$error":"#REF!"}]
[null,21,{"$f":"#REF!","v":{"$error":"#REF!"}},null,{"$f":"VLOOKUP(C25,#REF!,2,FALSE)","v":{"$error":"#REF!"}},{"$error":"#REF!"},null,{"$f":"VLOOKUP(C25,#REF!,3,FALSE)","v":{"$error":"#REF!"}},{"$error":"#REF!"},null,{"$f":"VLOOKUP(C25,#REF!,4,FALSE)","v":{"$error":"#REF!"}},{"$error":"#REF!"},null,{"$f":"VLOOKUP(C25,#REF!,5,FALSE)","v":{"$error":"#REF!"}},{"$error":"#REF!"},null,0,null,{"$f":"VLOOKUP(C25,#REF!,2,FALSE)","v":{"$error":"#REF!"}},{"$error":"#REF!"},null,{"$f":"VLOOKUP(C25,#REF!,3,FALSE)","v":{"$error":"#REF!"}},{"$error":"#REF!"},null,{"$f":"VLOOKUP(C25,#REF!,4,FALSE)","v":{"$error":"#REF!"}},{"$error":"#REF!"},null,{"$f":"VLOOKUP(C25,#REF!,5,FALSE)","v":{"$error":"#REF!"}},{"$error":"#REF!"},null,null,0,0,{"$error":"#REF!"}]

{"sheet":"4grupa","index":12,"n_rows":25,"n_cols":34,"rows_kept":25,"cut":false,"hidden":true,"merged":[[3,29,3,31],[3,32,3,33],[1,2,2,33],[3,3,3,5],[3,6,3,8],[3,9,3,11],[3,12,3,14],[3,15,3,16],[3,17,3,19],[3,20,3,22],[3,23,3,25],[3,26,3,28]]}
[]
[null,null,{"$f":"'F1'!B2","v":"Sporta viktorīnas speciālizlaidums | F1 viktorīna | 2025.gada 13.augusts"}]
[]
[null,"#","Komandas / Raundi",1,null,null,2,null,null,3,null,null,4,null,null,"Ķēde",null,6,null,null,7,null,null,8,null,null,9,null,null,10,null,null,"KOPĀ"]
[null,1,"Jon BorJomi",6,15,90,5,15,75,6,10,60,6,20,120,8,120,4,15,60,6,10,60,3,20,60,5,15,75,6,1,115,56,835]
[null,2,"Trombons un citas problēmas",6,20,120,4,10,40,6,15,90,4,15,60,8,120,4,10,40,5,20,100,4,15,60,5,15,75,7,1,130,54,835]
[null,3,"DeJaVu",5,15,75,5,15,75,5,10,50,6,20,120,8,120,2,15,30,6,20,120,4,10,40,5,15,75,7,1,130,54,834.99]
[null,4,"Žīdam ir taisnība",5,15,75,6,20,120,4,10,40,4,15,60,8,120,2,10,20,6,15,90,5,20,100,3,15,45,7,1,130,51,800]
[null,5,"Aģenti",6,20,120,5,10,50,6,15,90,4,15,60,1,15,6,20,120,6,15,90,4,15,60,5,10,50,7,1,130,51,785]
[null,6,"Džokers un pieci dūži",6,20,120,3,10,30,5,15,75,6,15,90,4,60,1,10,10,6,20,120,4,15,60,5,15,75,7,1,130,48,770]
[null,7,"Gaujas hiēnas",5,20,100,4,15,60,4,10,40,4,15,60,4,60,2,10,20,6,15,90,5,15,75,5,20,100,6,1,115,46,720]
[null,8,"Kavētāji",6,15,90,4,10,40,3,15,45,4,20,80,4,60,2,10,20,5,15,75,4,20,80,4,15,60,6.5,1,122.5,43.5,672.5]
[null,9,"BunS",4,10,40,4,15,60,5,20,100,5,15,75,5,75,3,10,30,5,20,100,2,15,30,3,15,45,6,1,115,43,670]
[null,10,"Faceless Victorians",4,15,60,2,15,30,5,10,50,5,20,100,6,90,3,15,45,4,15,60,3,20,60,4,10,40,7,1,130,44,665]
[null,11,"MĒS",4,15,60,5,10,50,5,15,75,5,20,100,1,15,1,10,10,6,15,90,3,20,60,4,15,60,7,1,130,42,650]
[null,12,{"$f":"#REF!","v":{"$error":"#REF!"}},null,{"$f":"VLOOKUP(C16,#REF!,2,FALSE)","v":{"$error":"#REF!"}},{"$f":"D16*E16","v":{"$error":"#REF!"}},null,{"$f":"VLOOKUP(C16,#REF!,3,FALSE)","v":{"$error":"#REF!"}},{"$f":"G16*H16","v":{"$error":"#REF!"}},null,{"$f":"VLOOKUP(C16,#REF!,4,FALSE)","v":{"$error":"#REF!"}},{"$f":"J16*K16","v":{"$error":"#REF!"}},null,{"$f":"VLOOKUP(C16,#REF!,5,FALSE)","v":{"$error":"#REF!"}},{"$f":"M16*N16","v":{"$error":"#REF!"}},null,{"$f":"P16*15","v":0},null,{"$f":"VLOOKUP(C16,#REF!,2,FALSE)","v":{"$error":"#REF!"}},{"$f":"R16*S16","v":{"$error":"#REF!"}},null,{"$f":"VLOOKUP(C16,#REF!,3,FALSE)","v":{"$error":"#REF!"}},{"$f":"U16*V16","v":{"$error":"#REF!"}},null,{"$f":"VLOOKUP(C16,#REF!,4,FALSE)","v":{"$error":"#REF!"}},{"$f":"X16*Y16","v":{"$error":"#REF!"}},null,{"$f":"VLOOKUP(C16,#REF!,5,FALSE)","v":{"$error":"#REF!"}},{"$f":"AA16*AB16","v":{"$error":"#REF!"}},null,null,{"$f":"AD16*15+AE16*25","v":0},{"$f":"D16+G16+J16+M16+R16+U16+X16+AA16+AD16+AE16+P16","v":0},{"$f":"F16+I16+L16+O16+Q16+T16+W16+Z16+AC16+AF16","v":{"$error":"#REF!"}}]
[null,13,{"$f":"#REF!","v":{"$error":"#REF!"}},null,{"$f":"VLOOKUP(C17,#REF!,2,FALSE)","v":{"$error":"#REF!"}},{"$error":"#REF!"},null,{"$f":"VLOOKUP(C17,#REF!,3,FALSE)","v":{"$error":"#REF!"}},{"$error":"#REF!"},null,{"$f":"VLOOKUP(C17,#REF!,4,FALSE)","v":{"$error":"#REF!"}},{"$error":"#REF!"},null,{"$f":"VLOOKUP(C17,#REF!,5,FALSE)","v":{"$error":"#REF!"}},{"$error":"#REF!"},null,0,null,{"$f":"VLOOKUP(C17,#REF!,2,FALSE)","v":{"$error":"#REF!"}},{"$error":"#REF!"},null,{"$f":"VLOOKUP(C17,#REF!,3,FALSE)","v":{"$error":"#REF!"}},{"$error":"#REF!"},null,{"$f":"VLOOKUP(C17,#REF!,4,FALSE)","v":{"$error":"#REF!"}},{"$error":"#REF!"},null,{"$f":"VLOOKUP(C17,#REF!,5,FALSE)","v":{"$error":"#REF!"}},{"$error":"#REF!"},null,null,0,0,{"$error":"#REF!"}]
[null,14,{"$f":"#REF!","v":{"$error":"#REF!"}},null,{"$f":"VLOOKUP(C18,#REF!,2,FALSE)","v":{"$error":"#REF!"}},{"$error":"#REF!"},null,{"$f":"VLOOKUP(C18,#REF!,3,FALSE)","v":{"$error":"#REF!"}},{"$error":"#REF!"},null,{"$f":"VLOOKUP(C18,#REF!,4,FALSE)","v":{"$error":"#REF!"}},{"$error":"#REF!"},null,{"$f":"VLOOKUP(C18,#REF!,5,FALSE)","v":{"$error":"#REF!"}},{"$error":"#REF!"},null,0,null,{"$f":"VLOOKUP(C18,#REF!,2,FALSE)","v":{"$error":"#REF!"}},{"$error":"#REF!"},null,{"$f":"VLOOKUP(C18,#REF!,3,FALSE)","v":{"$error":"#REF!"}},{"$error":"#REF!"},null,{"$f":"VLOOKUP(C18,#REF!,4,FALSE)","v":{"$error":"#REF!"}},{"$error":"#REF!"},null,{"$f":"VLOOKUP(C18,#REF!,5,FALSE)","v":{"$error":"#REF!"}},{"$error":"#REF!"},null,null,0,0,{"$error":"#REF!"}]
[null,15,{"$f":"#REF!","v":{"$error":"#REF!"}},null,{"$f":"VLOOKUP(C19,#REF!,2,FALSE)","v":{"$error":"#REF!"}},{"$error":"#REF!"},null,{"$f":"VLOOKUP(C19,#REF!,3,FALSE)","v":{"$error":"#REF!"}},{"$error":"#REF!"},null,{"$f":"VLOOKUP(C19,#REF!,4,FALSE)","v":{"$error":"#REF!"}},{"$error":"#REF!"},null,{"$f":"VLOOKUP(C19,#REF!,5,FALSE)","v":{"$error":"#REF!"}},{"$error":"#REF!"},null,0,null,{"$f":"VLOOKUP(C19,#REF!,2,FALSE)","v":{"$error":"#REF!"}},{"$error":"#REF!"},null,{"$f":"VLOOKUP(C19,#REF!,3,FALSE)","v":{"$error":"#REF!"}},{"$error":"#REF!"},null,{"$f":"VLOOKUP(C19,#REF!,4,FALSE)","v":{"$error":"#REF!"}},{"$error":"#REF!"},null,{"$f":"VLOOKUP(C19,#REF!,5,FALSE)","v":{"$error":"#REF!"}},{"$error":"#REF!"},null,null,0,0,{"$error":"#REF!"}]
[null,16,{"$f":"#REF!","v":{"$error":"#REF!"}},null,{"$f":"VLOOKUP(C20,#REF!,2,FALSE)","v":{"$error":"#REF!"}},{"$error":"#REF!"},null,{"$f":"VLOOKUP(C20,#REF!,3,FALSE)","v":{"$error":"#REF!"}},{"$error":"#REF!"},null,{"$f":"VLOOKUP(C20,#REF!,4,FALSE)","v":{"$error":"#REF!"}},{"$error":"#REF!"},null,{"$f":"VLOOKUP(C20,#REF!,5,FALSE)","v":{"$error":"#REF!"}},{"$error":"#REF!"},null,0,null,{"$f":"VLOOKUP(C20,#REF!,2,FALSE)","v":{"$error":"#REF!"}},{"$error":"#REF!"},null,{"$f":"VLOOKUP(C20,#REF!,3,FALSE)","v":{"$error":"#REF!"}},{"$error":"#REF!"},null,{"$f":"VLOOKUP(C20,#REF!,4,FALSE)","v":{"$error":"#REF!"}},{"$error":"#REF!"},null,{"$f":"VLOOKUP(C20,#REF!,5,FALSE)","v":{"$error":"#REF!"}},{"$error":"#REF!"},null,null,0,0,{"$error":"#REF!"}]
[null,17,{"$f":"#REF!","v":{"$error":"#REF!"}},null,{"$f":"VLOOKUP(C21,#REF!,2,FALSE)","v":{"$error":"#REF!"}},{"$error":"#REF!"},null,{"$f":"VLOOKUP(C21,#REF!,3,FALSE)","v":{"$error":"#REF!"}},{"$error":"#REF!"},null,{"$f":"VLOOKUP(C21,#REF!,4,FALSE)","v":{"$error":"#REF!"}},{"$error":"#REF!"},null,{"$f":"VLOOKUP(C21,#REF!,5,FALSE)","v":{"$error":"#REF!"}},{"$error":"#REF!"},null,0,null,{"$f":"VLOOKUP(C21,#REF!,2,FALSE)","v":{"$error":"#REF!"}},{"$error":"#REF!"},null,{"$f":"VLOOKUP(C21,#REF!,3,FALSE)","v":{"$error":"#REF!"}},{"$error":"#REF!"},null,{"$f":"VLOOKUP(C21,#REF!,4,FALSE)","v":{"$error":"#REF!"}},{"$error":"#REF!"},null,{"$f":"VLOOKUP(C21,#REF!,5,FALSE)","v":{"$error":"#REF!"}},{"$error":"#REF!"},null,null,0,0,{"$error":"#REF!"}]
[null,18,{"$f":"#REF!","v":{"$error":"#REF!"}},null,{"$f":"VLOOKUP(C22,#REF!,2,FALSE)","v":{"$error":"#REF!"}},{"$error":"#REF!"},null,{"$f":"VLOOKUP(C22,#REF!,3,FALSE)","v":{"$error":"#REF!"}},{"$error":"#REF!"},null,{"$f":"VLOOKUP(C22,#REF!,4,FALSE)","v":{"$error":"#REF!"}},{"$error":"#REF!"},null,{"$f":"VLOOKUP(C22,#REF!,5,FALSE)","v":{"$error":"#REF!"}},{"$error":"#REF!"},null,0,null,{"$f":"VLOOKUP(C22,#REF!,2,FALSE)","v":{"$error":"#REF!"}},{"$error":"#REF!"},null,{"$f":"VLOOKUP(C22,#REF!,3,FALSE)","v":{"$error":"#REF!"}},{"$error":"#REF!"},null,{"$f":"VLOOKUP(C22,#REF!,4,FALSE)","v":{"$error":"#REF!"}},{"$error":"#REF!"},null,{"$f":"VLOOKUP(C22,#REF!,5,FALSE)","v":{"$error":"#REF!"}},{"$error":"#REF!"},null,null,0,0,{"$error":"#REF!"}]
[null,19,{"$f":"#REF!","v":{"$error":"#REF!"}},null,{"$f":"VLOOKUP(C23,#REF!,2,FALSE)","v":{"$error":"#REF!"}},{"$error":"#REF!"},null,{"$f":"VLOOKUP(C23,#REF!,3,FALSE)","v":{"$error":"#REF!"}},{"$error":"#REF!"},null,{"$f":"VLOOKUP(C23,#REF!,4,FALSE)","v":{"$error":"#REF!"}},{"$error":"#REF!"},null,{"$f":"VLOOKUP(C23,#REF!,5,FALSE)","v":{"$error":"#REF!"}},{"$error":"#REF!"},null,0,null,{"$f":"VLOOKUP(C23,#REF!,2,FALSE)","v":{"$error":"#REF!"}},{"$error":"#REF!"},null,{"$f":"VLOOKUP(C23,#REF!,3,FALSE)","v":{"$error":"#REF!"}},{"$error":"#REF!"},null,{"$f":"VLOOKUP(C23,#REF!,4,FALSE)","v":{"$error":"#REF!"}},{"$error":"#REF!"},null,{"$f":"VLOOKUP(C23,#REF!,5,FALSE)","v":{"$error":"#REF!"}},{"$error":"#REF!"},null,null,0,0,{"$error":"#REF!"}]
[null,20,{"$f":"#REF!","v":{"$error":"#REF!"}},null,{"$f":"VLOOKUP(C24,#REF!,2,FALSE)","v":{"$error":"#REF!"}},{"$error":"#REF!"},null,{"$f":"VLOOKUP(C24,#REF!,3,FALSE)","v":{"$error":"#REF!"}},{"$error":"#REF!"},null,{"$f":"VLOOKUP(C24,#REF!,4,FALSE)","v":{"$error":"#REF!"}},{"$error":"#REF!"},null,{"$f":"VLOOKUP(C24,#REF!,5,FALSE)","v":{"$error":"#REF!"}},{"$error":"#REF!"},null,0,null,{"$f":"VLOOKUP(C24,#REF!,2,FALSE)","v":{"$error":"#REF!"}},{"$error":"#REF!"},null,{"$f":"VLOOKUP(C24,#REF!,3,FALSE)","v":{"$error":"#REF!"}},{"$error":"#REF!"},null,{"$f":"VLOOKUP(C24,#REF!,4,FALSE)","v":{"$error":"#REF!"}},{"$error":"#REF!"},null,{"$f":"VLOOKUP(C24,#REF!,5,FALSE)","v":{"$error":"#REF!"}},{"$error":"#REF!"},null,null,0,0,{"$error":"#REF!"}]
[null,21,{"$f":"#REF!","v":{"$error":"#REF!"}},null,{"$f":"VLOOKUP(C25,#REF!,2,FALSE)","v":{"$error":"#REF!"}},{"$error":"#REF!"},null,{"$f":"VLOOKUP(C25,#REF!,3,FALSE)","v":{"$error":"#REF!"}},{"$error":"#REF!"},null,{"$f":"VLOOKUP(C25,#REF!,4,FALSE)","v":{"$error":"#REF!"}},{"$error":"#REF!"},null,{"$f":"VLOOKUP(C25,#REF!,5,FALSE)","v":{"$error":"#REF!"}},{"$error":"#REF!"},null,0,null,{"$f":"VLOOKUP(C25,#REF!,2,FALSE)","v":{"$error":"#REF!"}},{"$error":"#REF!"},null,{"$f":"VLOOKUP(C25,#REF!,3,FALSE)","v":{"$error":"#REF!"}},{"$error":"#REF!"},null,{"$f":"VLOOKUP(C25,#REF!,4,FALSE)","v":{"$error":"#REF!"}},{"$error":"#REF!"},null,{"$f":"VLOOKUP(C25,#REF!,5,FALSE)","v":{"$error":"#REF!"}},{"$error":"#REF!"},null,null,0,0,{"$error":"#REF!"}]

{"sheet":"prikols","index":13,"n_rows":30,"n_cols":35,"rows_kept":30,"cut":false,"hidden":true,"merged":[[3,30,3,32],[3,33,3,34],[1,3,2,34],[3,4,3,6],[3,7,3,9],[3,10,3,12],[3,13,3,15],[3,16,3,17],[3,18,3,20],[3,21,3,23],[3,24,3,26],[3,27,3,29]]}
[]
[null,null,null,"\"Sporta viktorīna\" | 6.kārta - 1.grupa"]
[]
[null,"#","#  grupā","Komandas / Raundi",null,null,null,null,null,null,null,null,null,null,null,null,null,null,null,null,null,null,null,null,null,null,null,null,null,null,null,null,null,"KOPĀ"]
[null,1,1,"Alus zaldāti",4,15,60,4,10,40,5,15,75,6,20,120,8,120,5,15,75,5,20,100,4,10,40,4,15,60,6,1,115,52,{"$f":"AH5*15","v":780}]
[null,2,2,"Diskusiju klubiņš",5.5,15,82.5,2,10,20,4,15,60,6,20,120,2,30,6,20,120,5,10,50,5,15,75,5,15,75,5,0,75,45.5,{"$f":"AH6*15","v":682.5}]
[null,3,3,"Stosi",6,15,90,3,15,45,2,10,20,6,20,120,3,45,2,10,20,4,15,60,6,20,120,4,15,60,6,1,115,43,645]
[null,4,4,"Baltais gailis",6,15,90,5,10,50,4,15,60,5,20,100,3,45,6,20,120,3,10,30,4,15,60,3,15,45,5,0,75,42,630]
[null,5,5,"A komanda",5.5,15,82.5,4,10,40,4,15,60,5,20,100,3,45,4,10,40,5,15,75,5,15,75,4,20,80,4,0,60,39,585]
[null,6,6,"Jeržābeks",6,10,60,4,15,60,4,15,60,5,20,100,0,0,5,10,50,3,15,45,5,20,100,5,15,75,4,0,60,35,525]
[null,7,7,"Fireball",5.5,10,55,4,15,60,2,15,30,5,20,100,0,0,5,15,75,3,15,45,2,10,20,5,20,100,6,1,115,31,465]
[null,8,8,"Turks un polis",4.5,10,45,4,15,60,2,15,30,4,20,80,1,15,3,10,30,3,15,45,2,15,30,4,20,80,3,0,45,28,420]
[null,9,9,"Maurīcijs",null,null,null,null,null,null,null,null,null,null,null,null,null,null,null,null,null,null,null,null,null,null,null,null,null,null,null,null,null,18,270]
[null,10]
[null,11]
[null,12]
[null,13]
[null,14]
[null,15]
[null,16]
[null,17]
[null,18]
[null,19]
[null,20]
[null,21]
[null,22]
[null,23]
[null,24]
[null,25]
[null,26]

{"sheet":"LV2k1g","index":14,"n_rows":25,"n_cols":34,"rows_kept":25,"cut":false,"hidden":true,"merged":[[3,29,3,31],[3,32,3,33],[1,2,2,33],[3,3,3,5],[3,6,3,8],[3,9,3,11],[3,12,3,14],[3,15,3,16],[3,17,3,19],[3,20,3,22],[3,23,3,25],[3,26,3,28]]}
[]
[null,null,"\"Lielā viktorīna\" | 2.kārta | 1.grupa - 2025.gada 3.februāris"]
[]
[null,"#","Komandas / Raundi",1,null,null,2,null,null,3,null,null,4,null,null,5,null,6,null,null,7,null,null,8,null,null,9,null,null,10,null,null,"KOPĀ"]
[null,1,"Brāķis bez metāla",5,15,75,4,15,60,5,10,50,5,20,100,8,120,5,15,75,3,10,30,5,15,75,5,20,100,7,1,130,53,815]
[null,2,"Laimes rācenis",5,20,100,2.5,10,25,6,15,90,4,15,60,8,120,5,15,75,5,20,100,6,15,90,4,10,40,6,1,115,52.5,815]
[null,3,"Alus zaldāti",3,15,45,3,10,30,4,15,60,6,20,120,8,120,5,15,75,5,20,100,5,15,75,5,10,50,7,1,130,52,805]
[null,4,"Apskaidrība",4,15,60,3.5,15,52.5,3,10,30,6,20,120,7,105,5,20,100,5,15,75,5,10,50,5,15,75,7,1,130,51.5,797.5]
[null,5,"Gorbunovi",4,10,40,3.5,15,52.5,5,15,75,5,20,100,8,120,4,10,40,4,20,80,6,15,90,4,15,60,7,1,130,51.5,787.5]
[null,6,"Nasing spešal",4,15,60,5,15,75,3,10,30,6,20,120,8,120,5,10,50,3,20,60,4,15,60,5,15,75,7,1,130,51,780]
[null,7,"Rozā krekli un mokasīni",3,15,45,4,10,40,5,15,75,5,20,100,7,105,5,20,100,2,15,30,6,10,60,5,15,75,7,1,130,50,760]
[null,8,"Fireball",4,15,60,5,10,50,6,15,90,6,20,120,8,120,5,15,75,4,15,60,6,20,120,0,10,0,4,0,60,48,755]
[null,9,"Lapsas",5,15,75,5,10,50,2,15,30,6,20,120,7,105,5,15,75,3,20,60,6,10,60,4,15,60,6,1,115,50,750]
[null,10,"Zēniņi sports nav priekš jums",3,15,45,4.5,15,67.5,3,10,30,4,20,80,7,105,5,20,100,3,10,30,4,15,60,5,15,75,6,1,115,45.5,707.5]
[null,11,"RAĢ Pīķi & Co",3,15,45,2.5,15,37.5,3,10,30,5,20,100,6,90,5,15,75,2,10,20,5,15,75,6,20,120,6,1,115,44.5,707.5]
[null,12,"Sfinksa",5,10,50,4,15,60,4,20,80,5,15,75,8,120,3,10,30,5,20,100,3,15,45,1,15,15,7,1,130,46,705]
[null,13,"Žīdam ir taisnība",4,15,60,3.5,15,52.5,3,10,30,5,20,100,8,120,5,20,100,2,15,30,5,15,75,4,10,40,4,1,85,44.5,692.5]
[null,14,"Mind Machines",2,15,30,4,15,60,1,10,10,6,20,120,4,60,5,15,75,3,10,30,5,20,100,5,15,75,6,1,115,42,675]
[null,15,"Vortusiņš",2,15,30,3,15,45,1,10,10,4,20,80,6,90,5,15,75,3,15,45,5,20,100,5,10,50,2,0,30,36,555]
[null,16,"Marvels",1,15,15,3.5,15,52.5,2,10,20,5,20,100,2,30,4,15,60,1,10,10,4,20,80,4,15,60,4,0,60,30.5,487.5]
[null,17,{"$f":"#REF!","v":{"$error":"#REF!"}},null,{"$f":"VLOOKUP(C21,#REF!,2,FALSE)","v":{"$error":"#REF!"}},{"$f":"D21*E21","v":{"$error":"#REF!"}},null,{"$f":"VLOOKUP(C21,#REF!,3,FALSE)","v":{"$error":"#REF!"}},{"$f":"G21*H21","v":{"$error":"#REF!"}},null,{"$f":"VLOOKUP(C21,#REF!,4,FALSE)","v":{"$error":"#REF!"}},{"$f":"J21*K21","v":{"$error":"#REF!"}},null,{"$f":"VLOOKUP(C21,#REF!,5,FALSE)","v":{"$error":"#REF!"}},{"$f":"M21*N21","v":{"$error":"#REF!"}},null,{"$f":"P21*15","v":0},null,{"$f":"VLOOKUP(C21,#REF!,2,FALSE)","v":{"$error":"#REF!"}},{"$f":"R21*S21","v":{"$error":"#REF!"}},null,{"$f":"VLOOKUP(C21,#REF!,3,FALSE)","v":{"$error":"#REF!"}},{"$f":"U21*V21","v":{"$error":"#REF!"}},null,{"$f":"VLOOKUP(C21,#REF!,4,FALSE)","v":{"$error":"#REF!"}},{"$f":"X21*Y21","v":{"$error":"#REF!"}},null,{"$f":"VLOOKUP(C21,#REF!,5,FALSE)","v":{"$error":"#REF!"}},{"$f":"AA21*AB21","v":{"$error":"#REF!"}},null,null,{"$f":"AD21*15+AE21*25","v":0},{"$f":"D21+G21+J21+M21+R21+U21+X21+AA21+AD21+AE21+P21","v":0},{"$f":"F21+I21+L21+O21+Q21+T21+W21+Z21+AC21+AF21","v":{"$error":"#REF!"}}]
[null,18,{"$f":"#REF!","v":{"$error":"#REF!"}},null,{"$f":"VLOOKUP(C22,#REF!,2,FALSE)","v":{"$error":"#REF!"}},{"$error":"#REF!"},null,{"$f":"VLOOKUP(C22,#REF!,3,FALSE)","v":{"$error":"#REF!"}},{"$error":"#REF!"},null,{"$f":"VLOOKUP(C22,#REF!,4,FALSE)","v":{"$error":"#REF!"}},{"$error":"#REF!"},null,{"$f":"VLOOKUP(C22,#REF!,5,FALSE)","v":{"$error":"#REF!"}},{"$error":"#REF!"},null,0,null,{"$f":"VLOOKUP(C22,#REF!,2,FALSE)","v":{"$error":"#REF!"}},{"$error":"#REF!"},null,{"$f":"VLOOKUP(C22,#REF!,3,FALSE)","v":{"$error":"#REF!"}},{"$error":"#REF!"},null,{"$f":"VLOOKUP(C22,#REF!,4,FALSE)","v":{"$error":"#REF!"}},{"$error":"#REF!"},null,{"$f":"VLOOKUP(C22,#REF!,5,FALSE)","v":{"$error":"#REF!"}},{"$error":"#REF!"},null,null,0,0,{"$error":"#REF!"}]
[null,19,{"$f":"#REF!","v":{"$error":"#REF!"}},null,{"$f":"VLOOKUP(C23,#REF!,2,FALSE)","v":{"$error":"#REF!"}},{"$error":"#REF!"},null,{"$f":"VLOOKUP(C23,#REF!,3,FALSE)","v":{"$error":"#REF!"}},{"$error":"#REF!"},null,{"$f":"VLOOKUP(C23,#REF!,4,FALSE)","v":{"$error":"#REF!"}},{"$error":"#REF!"},null,{"$f":"VLOOKUP(C23,#REF!,5,FALSE)","v":{"$error":"#REF!"}},{"$error":"#REF!"},null,0,null,{"$f":"VLOOKUP(C23,#REF!,2,FALSE)","v":{"$error":"#REF!"}},{"$error":"#REF!"},null,{"$f":"VLOOKUP(C23,#REF!,3,FALSE)","v":{"$error":"#REF!"}},{"$error":"#REF!"},null,{"$f":"VLOOKUP(C23,#REF!,4,FALSE)","v":{"$error":"#REF!"}},{"$error":"#REF!"},null,{"$f":"VLOOKUP(C23,#REF!,5,FALSE)","v":{"$error":"#REF!"}},{"$error":"#REF!"},null,null,0,0,{"$error":"#REF!"}]
[null,20,{"$f":"#REF!","v":{"$error":"#REF!"}},null,{"$f":"VLOOKUP(C24,#REF!,2,FALSE)","v":{"$error":"#REF!"}},{"$error":"#REF!"},null,{"$f":"VLOOKUP(C24,#REF!,3,FALSE)","v":{"$error":"#REF!"}},{"$error":"#REF!"},null,{"$f":"VLOOKUP(C24,#REF!,4,FALSE)","v":{"$error":"#REF!"}},{"$error":"#REF!"},null,{"$f":"VLOOKUP(C24,#REF!,5,FALSE)","v":{"$error":"#REF!"}},{"$error":"#REF!"},null,0,null,{"$f":"VLOOKUP(C24,#REF!,2,FALSE)","v":{"$error":"#REF!"}},{"$error":"#REF!"},null,{"$f":"VLOOKUP(C24,#REF!,3,FALSE)","v":{"$error":"#REF!"}},{"$error":"#REF!"},null,{"$f":"VLOOKUP(C24,#REF!,4,FALSE)","v":{"$error":"#REF!"}},{"$error":"#REF!"},null,{"$f":"VLOOKUP(C24,#REF!,5,FALSE)","v":{"$error":"#REF!"}},{"$error":"#REF!"},null,null,0,0,{"$error":"#REF!"}]
[null,21,{"$f":"#REF!","v":{"$error":"#REF!"}},null,{"$f":"VLOOKUP(C25,#REF!,2,FALSE)","v":{"$error":"#REF!"}},{"$error":"#REF!"},null,{"$f":"VLOOKUP(C25,#REF!,3,FALSE)","v":{"$error":"#REF!"}},{"$error":"#REF!"},null,{"$f":"VLOOKUP(C25,#REF!,4,FALSE)","v":{"$error":"#REF!"}},{"$error":"#REF!"},null,{"$f":"VLOOKUP(C25,#REF!,5,FALSE)","v":{"$error":"#REF!"}},{"$error":"#REF!"},null,0,null,{"$f":"VLOOKUP(C25,#REF!,2,FALSE)","v":{"$error":"#REF!"}},{"$error":"#REF!"},null,{"$f":"VLOOKUP(C25,#REF!,3,FALSE)","v":{"$error":"#REF!"}},{"$error":"#REF!"},null,{"$f":"VLOOKUP(C25,#REF!,4,FALSE)","v":{"$error":"#REF!"}},{"$error":"#REF!"},null,{"$f":"VLOOKUP(C25,#REF!,5,FALSE)","v":{"$error":"#REF!"}},{"$error":"#REF!"},null,null,0,0,{"$error":"#REF!"}]

{"sheet":"LV2k2g","index":15,"n_rows":25,"n_cols":34,"rows_kept":25,"cut":false,"hidden":true,"merged":[[3,29,3,31],[3,32,3,33],[1,2,2,33],[3,3,3,5],[3,6,3,8],[3,9,3,11],[3,12,3,14],[3,15,3,16],[3,17,3,19],[3,20,3,22],[3,23,3,25],[3,26,3,28]]}
[]
[null,null,"\"Lielā viktorīna\" | 2.kārta | 2.grupa - 2025.gada 4.februāris"]
[]
[null,"#","Komandas / Raundi",1,null,null,2,null,null,3,null,null,4,null,null,5,null,6,null,null,7,null,null,8,null,null,9,null,null,10,null,null,"KOPĀ"]
[null,1,"Štepselētāju atgriešanās",6,15,90,5,10,50,4,15,60,6,20,120,8,120,5,15,75,5,15,75,6,20,120,4,10,40,7,1,130,57,880]
[null,2,"Hektora apustuļi",6,15,90,3.5,10,35,5,15,75,6,20,120,7,105,5,15,75,4,20,80,6,15,90,5,10,50,5,1,100,53.5,820]
[null,3,"Bunkurs_13",4,15,60,3,15,45,4,10,40,5,20,100,8,120,6,10,60,5,15,75,6,20,120,4,15,60,7,1,130,53,810]
[null,4,"Sestais lieks",3,15,45,4,15,60,4,10,40,6,20,120,8,120,5,20,100,3,15,45,6,10,60,6,15,90,7,1,130,53,810]
[null,5,"Mordanga",4,15,60,4,15,60,4,10,40,4,20,80,8,120,5,15,75,5,20,100,5,15,75,5,10,50,7,1,130,52,790]
[null,6,"Lācēni",4,15,60,5,10,50,4,15,60,4,20,80,8,120,5,15,75,4,20,80,5,15,75,4,10,40,7,1,130,51,770]
[null,7,"DeJaVu",5,10,50,4.5,15,67.5,2,15,30,6,20,120,8,120,5,10,50,6,20,120,4,15,60,1,15,15,7,1,130,49.5,762.5]
[null,8,"Faceless Victorians",2,15,30,3,15,45,3,10,30,5,20,100,8,120,5,20,100,5,10,50,5,15,75,5,15,75,6,1,115,48,740]
[null,9,"5AM",3,15,45,3.5,15,52.5,4,10,40,5,20,100,8,120,5,15,75,3,15,45,3,10,30,5,20,100,7,1,130,47.5,737.5]
[null,10,"Atkal Mēs",3,15,45,4,15,60,3,10,30,6,20,120,8,120,4,15,60,4,15,60,4,20,80,2,10,20,6,1,115,45,710]
[null,11,"Cukurfabrika",2,15,30,4,10,40,3,15,45,5,20,100,7,105,5,15,75,3,10,30,6,20,120,6,15,90,4,0,60,45,695]
[null,12,"MĒS",5,15,75,4,15,60,3,10,30,6,20,120,7,105,3,15,45,2,15,30,4,20,80,1,10,10,7,1,130,43,685]
[null,13,"Alternative facts",2,20,40,4,10,40,2,15,30,5,15,75,7,105,5,20,100,4,15,60,5,15,75,2,10,20,6,1,115,43,660]
[null,14,"BunS",5,10,50,3.5,20,70,2,15,30,5,15,75,7,105,5,15,75,2,15,30,2,20,40,0,10,0,6,1,115,38.5,590]
[null,15,"Netīrs netīrs",3,15,45,3,15,45,1,10,10,5,20,100,6,90,5,20,100,4,10,40,6,15,90,2,15,30,2,0,30,37,580]
[null,16,{"$f":"#REF!","v":{"$error":"#REF!"}},null,{"$f":"VLOOKUP(C20,#REF!,2,FALSE)","v":{"$error":"#REF!"}},{"$f":"D20*E20","v":{"$error":"#REF!"}},null,{"$f":"VLOOKUP(C20,#REF!,3,FALSE)","v":{"$error":"#REF!"}},{"$f":"G20*H20","v":{"$error":"#REF!"}},null,{"$f":"VLOOKUP(C20,#REF!,4,FALSE)","v":{"$error":"#REF!"}},{"$f":"J20*K20","v":{"$error":"#REF!"}},null,{"$f":"VLOOKUP(C20,#REF!,5,FALSE)","v":{"$error":"#REF!"}},{"$f":"M20*N20","v":{"$error":"#REF!"}},null,{"$f":"P20*15","v":0},null,{"$f":"VLOOKUP(C20,#REF!,2,FALSE)","v":{"$error":"#REF!"}},{"$f":"R20*S20","v":{"$error":"#REF!"}},null,{"$f":"VLOOKUP(C20,#REF!,3,FALSE)","v":{"$error":"#REF!"}},{"$f":"U20*V20","v":{"$error":"#REF!"}},null,{"$f":"VLOOKUP(C20,#REF!,4,FALSE)","v":{"$error":"#REF!"}},{"$f":"X20*Y20","v":{"$error":"#REF!"}},null,{"$f":"VLOOKUP(C20,#REF!,5,FALSE)","v":{"$error":"#REF!"}},{"$f":"AA20*AB20","v":{"$error":"#REF!"}},null,null,{"$f":"AD20*15+AE20*25","v":0},{"$f":"D20+G20+J20+M20+R20+U20+X20+AA20+AD20+AE20+P20","v":0},{"$f":"F20+I20+L20+O20+Q20+T20+W20+Z20+AC20+AF20","v":{"$error":"#REF!"}}]
[null,17,{"$f":"#REF!","v":{"$error":"#REF!"}},null,{"$f":"VLOOKUP(C21,#REF!,2,FALSE)","v":{"$error":"#REF!"}},{"$error":"#REF!"},null,{"$f":"VLOOKUP(C21,#REF!,3,FALSE)","v":{"$error":"#REF!"}},{"$error":"#REF!"},null,{"$f":"VLOOKUP(C21,#REF!,4,FALSE)","v":{"$error":"#REF!"}},{"$error":"#REF!"},null,{"$f":"VLOOKUP(C21,#REF!,5,FALSE)","v":{"$error":"#REF!"}},{"$error":"#REF!"},null,0,null,{"$f":"VLOOKUP(C21,#REF!,2,FALSE)","v":{"$error":"#REF!"}},{"$error":"#REF!"},null,{"$f":"VLOOKUP(C21,#REF!,3,FALSE)","v":{"$error":"#REF!"}},{"$error":"#REF!"},null,{"$f":"VLOOKUP(C21,#REF!,4,FALSE)","v":{"$error":"#REF!"}},{"$error":"#REF!"},null,{"$f":"VLOOKUP(C21,#REF!,5,FALSE)","v":{"$error":"#REF!"}},{"$error":"#REF!"},null,null,0,0,{"$error":"#REF!"}]
[null,18,{"$f":"#REF!","v":{"$error":"#REF!"}},null,{"$f":"VLOOKUP(C22,#REF!,2,FALSE)","v":{"$error":"#REF!"}},{"$error":"#REF!"},null,{"$f":"VLOOKUP(C22,#REF!,3,FALSE)","v":{"$error":"#REF!"}},{"$error":"#REF!"},null,{"$f":"VLOOKUP(C22,#REF!,4,FALSE)","v":{"$error":"#REF!"}},{"$error":"#REF!"},null,{"$f":"VLOOKUP(C22,#REF!,5,FALSE)","v":{"$error":"#REF!"}},{"$error":"#REF!"},null,0,null,{"$f":"VLOOKUP(C22,#REF!,2,FALSE)","v":{"$error":"#REF!"}},{"$error":"#REF!"},null,{"$f":"VLOOKUP(C22,#REF!,3,FALSE)","v":{"$error":"#REF!"}},{"$error":"#REF!"},null,{"$f":"VLOOKUP(C22,#REF!,4,FALSE)","v":{"$error":"#REF!"}},{"$error":"#REF!"},null,{"$f":"VLOOKUP(C22,#REF!,5,FALSE)","v":{"$error":"#REF!"}},{"$error":"#REF!"},null,null,0,0,{"$error":"#REF!"}]
[null,19,{"$f":"#REF!","v":{"$error":"#REF!"}},null,{"$f":"VLOOKUP(C23,#REF!,2,FALSE)","v":{"$error":"#REF!"}},{"$error":"#REF!"},null,{"$f":"VLOOKUP(C23,#REF!,3,FALSE)","v":{"$error":"#REF!"}},{"$error":"#REF!"},null,{"$f":"VLOOKUP(C23,#REF!,4,FALSE)","v":{"$error":"#REF!"}},{"$error":"#REF!"},null,{"$f":"VLOOKUP(C23,#REF!,5,FALSE)","v":{"$error":"#REF!"}},{"$error":"#REF!"},null,0,null,{"$f":"VLOOKUP(C23,#REF!,2,FALSE)","v":{"$error":"#REF!"}},{"$error":"#REF!"},null,{"$f":"VLOOKUP(C23,#REF!,3,FALSE)","v":{"$error":"#REF!"}},{"$error":"#REF!"},null,{"$f":"VLOOKUP(C23,#REF!,4,FALSE)","v":{"$error":"#REF!"}},{"$error":"#REF!"},null,{"$f":"VLOOKUP(C23,#REF!,5,FALSE)","v":{"$error":"#REF!"}},{"$error":"#REF!"},null,null,0,0,{"$error":"#REF!"}]
[null,20,{"$f":"#REF!","v":{"$error":"#REF!"}},null,{"$f":"VLOOKUP(C24,#REF!,2,FALSE)","v":{"$error":"#REF!"}},{"$error":"#REF!"},null,{"$f":"VLOOKUP(C24,#REF!,3,FALSE)","v":{"$error":"#REF!"}},{"$error":"#REF!"},null,{"$f":"VLOOKUP(C24,#REF!,4,FALSE)","v":{"$error":"#REF!"}},{"$error":"#REF!"},null,{"$f":"VLOOKUP(C24,#REF!,5,FALSE)","v":{"$error":"#REF!"}},{"$error":"#REF!"},null,0,null,{"$f":"VLOOKUP(C24,#REF!,2,FALSE)","v":{"$error":"#REF!"}},{"$error":"#REF!"},null,{"$f":"VLOOKUP(C24,#REF!,3,FALSE)","v":{"$error":"#REF!"}},{"$error":"#REF!"},null,{"$f":"VLOOKUP(C24,#REF!,4,FALSE)","v":{"$error":"#REF!"}},{"$error":"#REF!"},null,{"$f":"VLOOKUP(C24,#REF!,5,FALSE)","v":{"$error":"#REF!"}},{"$error":"#REF!"},null,null,0,0,{"$error":"#REF!"}]
[null,21,{"$f":"#REF!","v":{"$error":"#REF!"}},null,{"$f":"VLOOKUP(C25,#REF!,2,FALSE)","v":{"$error":"#REF!"}},{"$error":"#REF!"},null,{"$f":"VLOOKUP(C25,#REF!,3,FALSE)","v":{"$error":"#REF!"}},{"$error":"#REF!"},null,{"$f":"VLOOKUP(C25,#REF!,4,FALSE)","v":{"$error":"#REF!"}},{"$error":"#REF!"},null,{"$f":"VLOOKUP(C25,#REF!,5,FALSE)","v":{"$error":"#REF!"}},{"$error":"#REF!"},null,0,null,{"$f":"VLOOKUP(C25,#REF!,2,FALSE)","v":{"$error":"#REF!"}},{"$error":"#REF!"},null,{"$f":"VLOOKUP(C25,#REF!,3,FALSE)","v":{"$error":"#REF!"}},{"$error":"#REF!"},null,{"$f":"VLOOKUP(C25,#REF!,4,FALSE)","v":{"$error":"#REF!"}},{"$error":"#REF!"},null,{"$f":"VLOOKUP(C25,#REF!,5,FALSE)","v":{"$error":"#REF!"}},{"$error":"#REF!"},null,null,0,0,{"$error":"#REF!"}]

{"sheet":"LV2k3g","index":16,"n_rows":25,"n_cols":34,"rows_kept":25,"cut":false,"hidden":true,"merged":[[3,29,3,31],[3,32,3,33],[1,2,2,33],[3,3,3,5],[3,6,3,8],[3,9,3,11],[3,12,3,14],[3,15,3,16],[3,17,3,19],[3,20,3,22],[3,23,3,25],[3,26,3,28]]}
[]
[null,null,"\"Lielā viktorīna\" | 2.kārta | 3.grupa - 2025.gada 5.februāris"]
[]
[null,"#","Komandas / Raundi",1,null,null,2,null,null,3,null,null,4,null,null,5,null,6,null,null,7,null,null,8,null,null,9,null,null,10,null,null,"KOPĀ"]
[null,1,"Baltijas jūras izsmelšanas b.",6,15,90,4,15,60,4,10,40,5,20,100,8,120,6,15,90,4,15,60,6,10,60,5,20,100,4,1,85,53,805]
[null,2,"Jon BorJomi",5,15,75,3.5,10,35,4,15,60,5,20,100,8,120,5,15,75,4,15,60,6,20,120,4,10,40,5,1,100,50.5,785]
[null,3,"Mežpils miglā",5,15,75,5,15,75,6,10,60,5,20,100,8,120,5,20,100,2,15,30,4,15,60,3,10,30,6,1,115,50,765]
[null,4,"Zinātāji",5,15,75,4,15,60,3,10,30,4,20,80,8,120,5,15,75,4,20,80,5,15,75,1,10,10,7,1,130,47,735]
[null,5,"Ansamblis X",2,15,30,4.5,15,67.5,4,10,40,5,20,100,8,120,5,15,75,3,15,45,5,20,100,1,10,10,7,1,130,45.5,717.5]
[null,6,"Animāļi",3,15,45,4,15,60,5,10,50,5,20,100,8,120,6,15,90,2,20,40,6,15,90,4,10,40,5,0,75,48,710]
[null,7,"Slagūnes Metalurgs",4,15,60,4,15,60,1,10,10,5,20,100,6,90,5,15,75,3,20,60,6,15,90,5,10,50,5,1,100,45,695]
[null,8,"Bugatti Veyron",1,15,15,2,15,30,3,10,30,5,20,100,8,120,4,15,60,4,10,40,6,15,90,4,20,80,6,1,115,44,680]
[null,9,"Putekļi uz grāmatām",4,15,60,5.5,15,82.5,4,10,40,5,20,100,4,60,4,15,60,3,15,45,6,20,120,5,10,50,4,0,60,44.5,677.5]
[null,10,"Hektora saime",2,15,30,4,15,60,1,10,10,6,20,120,5,75,5,15,75,2,15,30,5,20,100,3,10,30,2,1,55,36,585]
[null,11,"Bez Agritas",2,20,40,2,15,30,1,10,10,5,15,75,5,75,5,20,100,3,15,45,5,15,75,3,10,30,5,1,100,37,580]
[null,12,"Fiasko",3,15,45,2,15,30,2,10,20,4,20,80,3,45,6,20,120,2,15,30,5,15,75,3,10,30,3,1,70,34,545]
[null,13,"Te tikai Dieviņš palīdzēs",3,10,30,2,15,30,1,15,15,4,20,80,4,60,5,15,75,2,10,20,5,15,75,6,20,120,2,0,30,34,535]
[null,14,"No one",2,15,30,2,10,20,3,15,45,3,20,60,1,15,5,15,75,1,10,10,5,20,100,0,15,0,2,0,30,24,385]
[null,15,{"$f":"#REF!","v":{"$error":"#REF!"}},null,{"$f":"VLOOKUP(C19,#REF!,2,FALSE)","v":{"$error":"#REF!"}},{"$f":"D19*E19","v":{"$error":"#REF!"}},null,{"$f":"VLOOKUP(C19,#REF!,3,FALSE)","v":{"$error":"#REF!"}},{"$f":"G19*H19","v":{"$error":"#REF!"}},null,{"$f":"VLOOKUP(C19,#REF!,4,FALSE)","v":{"$error":"#REF!"}},{"$f":"J19*K19","v":{"$error":"#REF!"}},null,{"$f":"VLOOKUP(C19,#REF!,5,FALSE)","v":{"$error":"#REF!"}},{"$f":"M19*N19","v":{"$error":"#REF!"}},null,{"$f":"P19*15","v":0},null,{"$f":"VLOOKUP(C19,#REF!,2,FALSE)","v":{"$error":"#REF!"}},{"$f":"R19*S19","v":{"$error":"#REF!"}},null,{"$f":"VLOOKUP(C19,#REF!,3,FALSE)","v":{"$error":"#REF!"}},{"$f":"U19*V19","v":{"$error":"#REF!"}},null,{"$f":"VLOOKUP(C19,#REF!,4,FALSE)","v":{"$error":"#REF!"}},{"$f":"X19*Y19","v":{"$error":"#REF!"}},null,{"$f":"VLOOKUP(C19,#REF!,5,FALSE)","v":{"$error":"#REF!"}},{"$f":"AA19*AB19","v":{"$error":"#REF!"}},null,null,{"$f":"AD19*15+AE19*25","v":0},{"$f":"D19+G19+J19+M19+R19+U19+X19+AA19+AD19+AE19+P19","v":0},{"$f":"F19+I19+L19+O19+Q19+T19+W19+Z19+AC19+AF19","v":{"$error":"#REF!"}}]
[null,16,{"$f":"#REF!","v":{"$error":"#REF!"}},null,{"$f":"VLOOKUP(C20,#REF!,2,FALSE)","v":{"$error":"#REF!"}},{"$error":"#REF!"},null,{"$f":"VLOOKUP(C20,#REF!,3,FALSE)","v":{"$error":"#REF!"}},{"$error":"#REF!"},null,{"$f":"VLOOKUP(C20,#REF!,4,FALSE)","v":{"$error":"#REF!"}},{"$error":"#REF!"},null,{"$f":"VLOOKUP(C20,#REF!,5,FALSE)","v":{"$error":"#REF!"}},{"$error":"#REF!"},null,0,null,{"$f":"VLOOKUP(C20,#REF!,2,FALSE)","v":{"$error":"#REF!"}},{"$error":"#REF!"},null,{"$f":"VLOOKUP(C20,#REF!,3,FALSE)","v":{"$error":"#REF!"}},{"$error":"#REF!"},null,{"$f":"VLOOKUP(C20,#REF!,4,FALSE)","v":{"$error":"#REF!"}},{"$error":"#REF!"},null,{"$f":"VLOOKUP(C20,#REF!,5,FALSE)","v":{"$error":"#REF!"}},{"$error":"#REF!"},null,null,0,0,{"$error":"#REF!"}]
[null,17,{"$f":"#REF!","v":{"$error":"#REF!"}},null,{"$f":"VLOOKUP(C21,#REF!,2,FALSE)","v":{"$error":"#REF!"}},{"$error":"#REF!"},null,{"$f":"VLOOKUP(C21,#REF!,3,FALSE)","v":{"$error":"#REF!"}},{"$error":"#REF!"},null,{"$f":"VLOOKUP(C21,#REF!,4,FALSE)","v":{"$error":"#REF!"}},{"$error":"#REF!"},null,{"$f":"VLOOKUP(C21,#REF!,5,FALSE)","v":{"$error":"#REF!"}},{"$error":"#REF!"},null,0,null,{"$f":"VLOOKUP(C21,#REF!,2,FALSE)","v":{"$error":"#REF!"}},{"$error":"#REF!"},null,{"$f":"VLOOKUP(C21,#REF!,3,FALSE)","v":{"$error":"#REF!"}},{"$error":"#REF!"},null,{"$f":"VLOOKUP(C21,#REF!,4,FALSE)","v":{"$error":"#REF!"}},{"$error":"#REF!"},null,{"$f":"VLOOKUP(C21,#REF!,5,FALSE)","v":{"$error":"#REF!"}},{"$error":"#REF!"},null,null,0,0,{"$error":"#REF!"}]
[null,18,{"$f":"#REF!","v":{"$error":"#REF!"}},null,{"$f":"VLOOKUP(C22,#REF!,2,FALSE)","v":{"$error":"#REF!"}},{"$error":"#REF!"},null,{"$f":"VLOOKUP(C22,#REF!,3,FALSE)","v":{"$error":"#REF!"}},{"$error":"#REF!"},null,{"$f":"VLOOKUP(C22,#REF!,4,FALSE)","v":{"$error":"#REF!"}},{"$error":"#REF!"},null,{"$f":"VLOOKUP(C22,#REF!,5,FALSE)","v":{"$error":"#REF!"}},{"$error":"#REF!"},null,0,null,{"$f":"VLOOKUP(C22,#REF!,2,FALSE)","v":{"$error":"#REF!"}},{"$error":"#REF!"},null,{"$f":"VLOOKUP(C22,#REF!,3,FALSE)","v":{"$error":"#REF!"}},{"$error":"#REF!"},null,{"$f":"VLOOKUP(C22,#REF!,4,FALSE)","v":{"$error":"#REF!"}},{"$error":"#REF!"},null,{"$f":"VLOOKUP(C22,#REF!,5,FALSE)","v":{"$error":"#REF!"}},{"$error":"#REF!"},null,null,0,0,{"$error":"#REF!"}]
[null,19,{"$f":"#REF!","v":{"$error":"#REF!"}},null,{"$f":"VLOOKUP(C23,#REF!,2,FALSE)","v":{"$error":"#REF!"}},{"$error":"#REF!"},null,{"$f":"VLOOKUP(C23,#REF!,3,FALSE)","v":{"$error":"#REF!"}},{"$error":"#REF!"},null,{"$f":"VLOOKUP(C23,#REF!,4,FALSE)","v":{"$error":"#REF!"}},{"$error":"#REF!"},null,{"$f":"VLOOKUP(C23,#REF!,5,FALSE)","v":{"$error":"#REF!"}},{"$error":"#REF!"},null,0,null,{"$f":"VLOOKUP(C23,#REF!,2,FALSE)","v":{"$error":"#REF!"}},{"$error":"#REF!"},null,{"$f":"VLOOKUP(C23,#REF!,3,FALSE)","v":{"$error":"#REF!"}},{"$error":"#REF!"},null,{"$f":"VLOOKUP(C23,#REF!,4,FALSE)","v":{"$error":"#REF!"}},{"$error":"#REF!"},null,{"$f":"VLOOKUP(C23,#REF!,5,FALSE)","v":{"$error":"#REF!"}},{"$error":"#REF!"},null,null,0,0,{"$error":"#REF!"}]
[null,20,{"$f":"#REF!","v":{"$error":"#REF!"}},null,{"$f":"VLOOKUP(C24,#REF!,2,FALSE)","v":{"$error":"#REF!"}},{"$error":"#REF!"},null,{"$f":"VLOOKUP(C24,#REF!,3,FALSE)","v":{"$error":"#REF!"}},{"$error":"#REF!"},null,{"$f":"VLOOKUP(C24,#REF!,4,FALSE)","v":{"$error":"#REF!"}},{"$error":"#REF!"},null,{"$f":"VLOOKUP(C24,#REF!,5,FALSE)","v":{"$error":"#REF!"}},{"$error":"#REF!"},null,0,null,{"$f":"VLOOKUP(C24,#REF!,2,FALSE)","v":{"$error":"#REF!"}},{"$error":"#REF!"},null,{"$f":"VLOOKUP(C24,#REF!,3,FALSE)","v":{"$error":"#REF!"}},{"$error":"#REF!"},null,{"$f":"VLOOKUP(C24,#REF!,4,FALSE)","v":{"$error":"#REF!"}},{"$error":"#REF!"},null,{"$f":"VLOOKUP(C24,#REF!,5,FALSE)","v":{"$error":"#REF!"}},{"$error":"#REF!"},null,null,0,0,{"$error":"#REF!"}]
[null,21,{"$f":"#REF!","v":{"$error":"#REF!"}},null,{"$f":"VLOOKUP(C25,#REF!,2,FALSE)","v":{"$error":"#REF!"}},{"$error":"#REF!"},null,{"$f":"VLOOKUP(C25,#REF!,3,FALSE)","v":{"$error":"#REF!"}},{"$error":"#REF!"},null,{"$f":"VLOOKUP(C25,#REF!,4,FALSE)","v":{"$error":"#REF!"}},{"$error":"#REF!"},null,{"$f":"VLOOKUP(C25,#REF!,5,FALSE)","v":{"$error":"#REF!"}},{"$error":"#REF!"},null,0,null,{"$f":"VLOOKUP(C25,#REF!,2,FALSE)","v":{"$error":"#REF!"}},{"$error":"#REF!"},null,{"$f":"VLOOKUP(C25,#REF!,3,FALSE)","v":{"$error":"#REF!"}},{"$error":"#REF!"},null,{"$f":"VLOOKUP(C25,#REF!,4,FALSE)","v":{"$error":"#REF!"}},{"$error":"#REF!"},null,{"$f":"VLOOKUP(C25,#REF!,5,FALSE)","v":{"$error":"#REF!"}},{"$error":"#REF!"},null,null,0,0,{"$error":"#REF!"}]

{"sheet":"Lv2k4g","index":17,"n_rows":25,"n_cols":34,"rows_kept":25,"cut":false,"hidden":true,"merged":[[3,29,3,31],[3,32,3,33],[1,2,2,33],[3,3,3,5],[3,6,3,8],[3,9,3,11],[3,12,3,14],[3,15,3,16],[3,17,3,19],[3,20,3,22],[3,23,3,25],[3,26,3,28]]}
[]
[null,null,{"$f":"'F1'!B2","v":"Sporta viktorīnas speciālizlaidums | F1 viktorīna | 2025.gada 13.augusts"}]
[]
[null,"#","Komandas / Raundi",1,null,null,2,null,null,3,null,null,4,null,null,5,null,6,null,null,7,null,null,8,null,null,9,null,null,10,null,null,"KOPĀ"]
[null,1,"Trombons un citas problēmas",6,15,90,3,10,30,3,15,45,6,20,120,8,120,6,10,60,5,15,75,6,20,120,5,15,75,7,1,130,56,865]
[null,2,"Žeņšeņa borščs",5,15,75,5,10,50,4,15,60,6,20,120,8,120,5,15,75,3,15,45,6,10,60,6,20,120,7,1,130,56,855]
[null,3,"Āreče",6,20,120,4.5,15,67.5,4,10,40,5,15,75,8,120,6,10,60,3,15,45,6,20,120,5,15,75,7,1,130,55.5,852.5]
[null,4,"Aģenti",3,15,45,3.5,10,35,4,15,60,5,20,100,8,120,5,15,75,6,15,90,5,10,50,6,20,120,7,1,130,53.5,825]
[null,5,"AC Seda",5,15,75,5.5,10,55,4,15,60,6,20,120,8,120,5,15,75,3,15,45,5,20,100,4,10,40,7,1,130,53.5,820]
[null,6,"kOzis",2,15,30,4,15,60,5,10,50,6,20,120,8,120,6,20,120,2,15,30,5,10,50,6,15,90,4,1,85,49,755]
[null,7,"Gaujas hiēnas",5,10,50,3.5,15,52.5,3,15,45,6,20,120,7,105,5,15,75,2,15,30,5,20,100,4,10,40,7,1,130,48.5,747.5]
[null,8,"Amatieru pietura",2,15,30,4,10,40,4,20,80,5,15,75,7,105,5,15,75,5,20,100,5,10,50,4,15,60,6,1,115,48,730]
[null,9,"Prāta eklektika",5,15,75,3.5,10,35,4,20,80,4,15,60,8,120,6,15,90,3,20,60,4,15,60,2,10,20,7,1,130,47.5,730]
[null,10,"Džokers un pieci dūži",5,15,75,4,10,40,4,15,60,4,20,80,8,120,5,15,75,4,15,60,4,20,80,1,10,10,7,1,130,47,730]
[null,11,"Gurinētie Marķīši",5,15,75,3.5,20,70,3,10,30,6,15,90,4,60,5,15,75,2,10,20,6,20,120,4,15,60,7,1,130,46.5,730]
[null,12,"Atbilde ir 42",0.5,15,7.5,4,15,60,4,10,40,5,20,100,8,120,5,20,100,4,15,60,4,15,60,4,10,40,6,1,115,45.5,702.5]
[null,13,"Kukuržņi",2.5,20,50,4,15,60,0,10,0,4,15,60,7,105,5,15,75,2,15,30,5,20,100,4,10,40,5,1,100,39.5,620]
[null,14,"Domājam nosaukumu",3,20,60,2.5,10,25,3,15,45,4,15,60,4,60,5,15,75,3,20,60,2,15,30,3,10,30,7,1,130,37.5,575]
[null,15,"Pa zoino",3,15,45,5.5,15,82.5,1,10,10,5,20,100,5,75,5,15,75,2,15,30,1,10,10,4,20,80,3,0,45,34.5,552.5]
[null,16,{"$f":"#REF!","v":{"$error":"#REF!"}},null,{"$f":"VLOOKUP(C20,#REF!,2,FALSE)","v":{"$error":"#REF!"}},{"$f":"D20*E20","v":{"$error":"#REF!"}},null,{"$f":"VLOOKUP(C20,#REF!,3,FALSE)","v":{"$error":"#REF!"}},{"$f":"G20*H20","v":{"$error":"#REF!"}},null,{"$f":"VLOOKUP(C20,#REF!,4,FALSE)","v":{"$error":"#REF!"}},{"$f":"J20*K20","v":{"$error":"#REF!"}},null,{"$f":"VLOOKUP(C20,#REF!,5,FALSE)","v":{"$error":"#REF!"}},{"$f":"M20*N20","v":{"$error":"#REF!"}},null,{"$f":"P20*15","v":0},null,{"$f":"VLOOKUP(C20,#REF!,2,FALSE)","v":{"$error":"#REF!"}},{"$f":"R20*S20","v":{"$error":"#REF!"}},null,{"$f":"VLOOKUP(C20,#REF!,3,FALSE)","v":{"$error":"#REF!"}},{"$f":"U20*V20","v":{"$error":"#REF!"}},null,{"$f":"VLOOKUP(C20,#REF!,4,FALSE)","v":{"$error":"#REF!"}},{"$f":"X20*Y20","v":{"$error":"#REF!"}},null,{"$f":"VLOOKUP(C20,#REF!,5,FALSE)","v":{"$error":"#REF!"}},{"$f":"AA20*AB20","v":{"$error":"#REF!"}},null,null,{"$f":"AD20*15+AE20*25","v":0},{"$f":"D20+G20+J20+M20+R20+U20+X20+AA20+AD20+AE20+P20","v":0},{"$f":"F20+I20+L20+O20+Q20+T20+W20+Z20+AC20+AF20","v":{"$error":"#REF!"}}]
[null,17,{"$f":"#REF!","v":{"$error":"#REF!"}},null,{"$f":"VLOOKUP(C21,#REF!,2,FALSE)","v":{"$error":"#REF!"}},{"$error":"#REF!"},null,{"$f":"VLOOKUP(C21,#REF!,3,FALSE)","v":{"$error":"#REF!"}},{"$error":"#REF!"},null,{"$f":"VLOOKUP(C21,#REF!,4,FALSE)","v":{"$error":"#REF!"}},{"$error":"#REF!"},null,{"$f":"VLOOKUP(C21,#REF!,5,FALSE)","v":{"$error":"#REF!"}},{"$error":"#REF!"},null,0,null,{"$f":"VLOOKUP(C21,#REF!,2,FALSE)","v":{"$error":"#REF!"}},{"$error":"#REF!"},null,{"$f":"VLOOKUP(C21,#REF!,3,FALSE)","v":{"$error":"#REF!"}},{"$error":"#REF!"},null,{"$f":"VLOOKUP(C21,#REF!,4,FALSE)","v":{"$error":"#REF!"}},{"$error":"#REF!"},null,{"$f":"VLOOKUP(C21,#REF!,5,FALSE)","v":{"$error":"#REF!"}},{"$error":"#REF!"},null,null,0,0,{"$error":"#REF!"}]
[null,18,{"$f":"#REF!","v":{"$error":"#REF!"}},null,{"$f":"VLOOKUP(C22,#REF!,2,FALSE)","v":{"$error":"#REF!"}},{"$error":"#REF!"},null,{"$f":"VLOOKUP(C22,#REF!,3,FALSE)","v":{"$error":"#REF!"}},{"$error":"#REF!"},null,{"$f":"VLOOKUP(C22,#REF!,4,FALSE)","v":{"$error":"#REF!"}},{"$error":"#REF!"},null,{"$f":"VLOOKUP(C22,#REF!,5,FALSE)","v":{"$error":"#REF!"}},{"$error":"#REF!"},null,0,null,{"$f":"VLOOKUP(C22,#REF!,2,FALSE)","v":{"$error":"#REF!"}},{"$error":"#REF!"},null,{"$f":"VLOOKUP(C22,#REF!,3,FALSE)","v":{"$error":"#REF!"}},{"$error":"#REF!"},null,{"$f":"VLOOKUP(C22,#REF!,4,FALSE)","v":{"$error":"#REF!"}},{"$error":"#REF!"},null,{"$f":"VLOOKUP(C22,#REF!,5,FALSE)","v":{"$error":"#REF!"}},{"$error":"#REF!"},null,null,0,0,{"$error":"#REF!"}]
[null,19,{"$f":"#REF!","v":{"$error":"#REF!"}},null,{"$f":"VLOOKUP(C23,#REF!,2,FALSE)","v":{"$error":"#REF!"}},{"$error":"#REF!"},null,{"$f":"VLOOKUP(C23,#REF!,3,FALSE)","v":{"$error":"#REF!"}},{"$error":"#REF!"},null,{"$f":"VLOOKUP(C23,#REF!,4,FALSE)","v":{"$error":"#REF!"}},{"$error":"#REF!"},null,{"$f":"VLOOKUP(C23,#REF!,5,FALSE)","v":{"$error":"#REF!"}},{"$error":"#REF!"},null,0,null,{"$f":"VLOOKUP(C23,#REF!,2,FALSE)","v":{"$error":"#REF!"}},{"$error":"#REF!"},null,{"$f":"VLOOKUP(C23,#REF!,3,FALSE)","v":{"$error":"#REF!"}},{"$error":"#REF!"},null,{"$f":"VLOOKUP(C23,#REF!,4,FALSE)","v":{"$error":"#REF!"}},{"$error":"#REF!"},null,{"$f":"VLOOKUP(C23,#REF!,5,FALSE)","v":{"$error":"#REF!"}},{"$error":"#REF!"},null,null,0,0,{"$error":"#REF!"}]
[null,20,{"$f":"#REF!","v":{"$error":"#REF!"}},null,{"$f":"VLOOKUP(C24,#REF!,2,FALSE)","v":{"$error":"#REF!"}},{"$error":"#REF!"},null,{"$f":"VLOOKUP(C24,#REF!,3,FALSE)","v":{"$error":"#REF!"}},{"$error":"#REF!"},null,{"$f":"VLOOKUP(C24,#REF!,4,FALSE)","v":{"$error":"#REF!"}},{"$error":"#REF!"},null,{"$f":"VLOOKUP(C24,#REF!,5,FALSE)","v":{"$error":"#REF!"}},{"$error":"#REF!"},null,0,null,{"$f":"VLOOKUP(C24,#REF!,2,FALSE)","v":{"$error":"#REF!"}},{"$error":"#REF!"},null,{"$f":"VLOOKUP(C24,#REF!,3,FALSE)","v":{"$error":"#REF!"}},{"$error":"#REF!"},null,{"$f":"VLOOKUP(C24,#REF!,4,FALSE)","v":{"$error":"#REF!"}},{"$error":"#REF!"},null,{"$f":"VLOOKUP(C24,#REF!,5,FALSE)","v":{"$error":"#REF!"}},{"$error":"#REF!"},null,null,0,0,{"$error":"#REF!"}]
[null,21,{"$f":"#REF!","v":{"$error":"#REF!"}},null,{"$f":"VLOOKUP(C25,#REF!,2,FALSE)","v":{"$error":"#REF!"}},{"$error":"#REF!"},null,{"$f":"VLOOKUP(C25,#REF!,3,FALSE)","v":{"$error":"#REF!"}},{"$error":"#REF!"},null,{"$f":"VLOOKUP(C25,#REF!,4,FALSE)","v":{"$error":"#REF!"}},{"$error":"#REF!"},null,{"$f":"VLOOKUP(C25,#REF!,5,FALSE)","v":{"$error":"#REF!"}},{"$error":"#REF!"},null,0,null,{"$f":"VLOOKUP(C25,#REF!,2,FALSE)","v":{"$error":"#REF!"}},{"$error":"#REF!"},null,{"$f":"VLOOKUP(C25,#REF!,3,FALSE)","v":{"$error":"#REF!"}},{"$error":"#REF!"},null,{"$f":"VLOOKUP(C25,#REF!,4,FALSE)","v":{"$error":"#REF!"}},{"$error":"#REF!"},null,{"$f":"VLOOKUP(C25,#REF!,5,FALSE)","v":{"$error":"#REF!"}},{"$error":"#REF!"},null,null,0,0,{"$error":"#REF!"}]

{"sheet":"2kkopv","index":18,"n_rows":36,"n_cols":34,"rows_kept":36,"cut":false,"hidden":true,"merged":[[3,29,3,31],[3,32,3,33],[1,2,2,33],[3,3,3,5],[3,6,3,8],[3,9,3,11],[3,12,3,14],[3,15,3,16],[3,17,3,19],[3,20,3,22],[3,23,3,25],[3,26,3,28]]}
[]
[null,null,"2.kārtas kopvērtējums | 27. un 28.janvāris"]
[]
[null,"#","Komandas / Raundi","Valstis uz K, Ķ burta",null,null,"Latviešu hokejisti",null,null,"Video",null,null,"Profesionālām mājsaimniecēm",null,null,"Ķēde",null,"Sporta karalis",null,null,"Eirolīgas NBA džeki",null,null,"Ārpus kastes",null,null,"Neolimpiskie sporta veidi",null,null,"Anagramma",null,null,"KOPĀ"]
[null,1,"Japānas beisbola izlase",6,15,90,6,20,120,4,10,40,5,15,75,8,120,5,20,100,5,10,50,5,15,75,5.5,15,82.5,7,1,130,57.5,882.5]
[null,2,"Diskusiju klubiņš",5.5,15,82.5,4.5,10,45,5,15,75,5,20,100,8,120,3,10,30,6,15,90,5,15,75,5,20,100,7,1,130,55,847.5]
[null,3,"Stosi",6,15,90,5,15,75,5,10,50,6,20,120,8,120,4,15,60,6,15,90,4,10,40,6,20,120,5,0,75,55,840]
[null,4,"Zigfrīds Muktupāvels",6,15,90,4.5,20,90,5,10,50,5,15,75,8,120,5,15,75,5,10,50,5,15,75,5,20,100,6,0,90,54.5,815]
[null,5,"Dīvānueksperti.lv",6,15,90,5,10,50,5,15,75,6,20,120,7,105,5,15,75,5,15,75,5,20,100,5,10,50,5,0,75,54,815]
[null,6,"Alus zaldāti",5,10,50,5,15,75,6,15,90,6,20,120,8,120,3,15,45,6,20,120,4,15,60,4,10,40,6,0,90,53,810]
[null,7,"Baltais gailis",4,15,60,2,10,20,4,15,60,4,20,80,8,120,5,15,75,5,15,75,3,10,30,6,20,120,7,1,130,49,770]
[null,8,"Karaliskais kronis",4.5,15,67.5,4.5,20,90,4,10,40,5,15,75,8,120,3,20,60,5,15,75,4,15,60,5,10,50,7,1,130,51,767.5]
[null,9,"Katlakalns / KKK",4.5,15,67.5,3.5,10,35,6,20,120,5,15,75,7,105,2,15,30,5,20,100,5,10,50,4.5,15,67.5,6,1,115,49.5,765]
[null,10,"Melnstrādnieki",5,10,50,5,20,100,6,15,90,4.5,15,67.5,7,105,2,15,30,6,10,60,2,15,30,5,20,100,7,1,130,50.5,762.5]
[null,11,"Jeržābeks",3,20,60,3,10,30,4,15,60,5,15,75,6,90,4,20,80,4,10,40,6,15,90,6,15,90,7,1,130,49,745]
[null,12,"0%Apskaidrība",5,15,75,4.5,10,45,5,15,75,5,20,100,7,105,4,20,80,4,10,40,3,15,45,5.5,15,82.5,6,0,90,49,737.5]
[null,13,"Fireball",4.5,10,45,2.5,15,37.5,5,20,100,5,15,75,8,120,2,15,30,6,15,90,3,10,30,3.5,20,70,7,1,130,47.5,727.5]
[null,14,"kOzis",3.5,10,35,3,15,45,5,15,75,6,20,120,4,60,6,15,90,6,20,120,3,15,45,4,10,40,5,0,75,45.5,705]
[null,15,"Džamolidins Abdužaparovs",6,15,90,4,10,40,4,15,60,4.5,20,90,4,60,5,15,75,2,15,30,5,10,50,6,20,120,5,0,75,45.5,690]
[null,16,"Arigo Toro",4.5,10,45,6,20,120,5,15,75,4,15,60,3,45,2,15,30,6,20,120,4,15,60,4.5,10,45,5,0,75,44,675]
[null,17,"Rozā krekli un mokasīni",5,20,100,1.5,15,22.5,3,10,30,5,15,75,8,120,2,10,20,4,20,80,5,15,75,4,15,60,6,0,90,43.5,672.5]
[null,18,"Lai Top",3.5,10,35,4.5,15,67.5,6,20,120,5.5,15,82.5,5,75,2,20,40,6,15,90,3,15,45,3,10,30,5,0,75,43.5,660]
[null,19,{"$f":"#REF!","v":{"$error":"#REF!"}},null,{"$f":"VLOOKUP(C23,#REF!,2,FALSE)","v":{"$error":"#REF!"}},{"$f":"D23*E23","v":{"$error":"#REF!"}},null,{"$f":"VLOOKUP(C23,#REF!,3,FALSE)","v":{"$error":"#REF!"}},{"$f":"G23*H23","v":{"$error":"#REF!"}},null,{"$f":"VLOOKUP(C23,#REF!,4,FALSE)","v":{"$error":"#REF!"}},{"$f":"J23*K23","v":{"$error":"#REF!"}},null,{"$f":"VLOOKUP(C23,#REF!,5,FALSE)","v":{"$error":"#REF!"}},{"$f":"M23*N23","v":{"$error":"#REF!"}},null,{"$f":"P23*15","v":0},null,{"$f":"VLOOKUP(C23,#REF!,2,FALSE)","v":{"$error":"#REF!"}},{"$f":"R23*S23","v":{"$error":"#REF!"}},null,{"$f":"VLOOKUP(C23,#REF!,3,FALSE)","v":{"$error":"#REF!"}},{"$f":"U23*V23","v":{"$error":"#REF!"}},null,{"$f":"VLOOKUP(C23,#REF!,4,FALSE)","v":{"$error":"#REF!"}},{"$f":"X23*Y23","v":{"$error":"#REF!"}},null,{"$f":"VLOOKUP(C23,#REF!,5,FALSE)","v":{"$error":"#REF!"}},{"$f":"AA23*AB23","v":{"$error":"#REF!"}},null,null,{"$f":"AD23*15+AE23*25","v":0},{"$f":"D23+G23+J23+M23+R23+U23+X23+AA23+AD23+AE23+P23","v":0},{"$f":"F23+I23+L23+O23+Q23+T23+W23+Z23+AC23+AF23","v":{"$error":"#REF!"}}]
[null,20,{"$f":"#REF!","v":{"$error":"#REF!"}},null,{"$f":"VLOOKUP(C24,#REF!,2,FALSE)","v":{"$error":"#REF!"}},{"$f":"D24*E24","v":{"$error":"#REF!"}},null,{"$f":"VLOOKUP(C24,#REF!,3,FALSE)","v":{"$error":"#REF!"}},{"$f":"G24*H24","v":{"$error":"#REF!"}},null,{"$f":"VLOOKUP(C24,#REF!,4,FALSE)","v":{"$error":"#REF!"}},{"$f":"J24*K24","v":{"$error":"#REF!"}},null,{"$f":"VLOOKUP(C24,#REF!,5,FALSE)","v":{"$error":"#REF!"}},{"$f":"M24*N24","v":{"$error":"#REF!"}},null,{"$f":"P24*15","v":0},null,{"$f":"VLOOKUP(C24,#REF!,2,FALSE)","v":{"$error":"#REF!"}},{"$f":"R24*S24","v":{"$error":"#REF!"}},null,{"$f":"VLOOKUP(C24,#REF!,3,FALSE)","v":{"$error":"#REF!"}},{"$f":"U24*V24","v":{"$error":"#REF!"}},null,{"$f":"VLOOKUP(C24,#REF!,4,FALSE)","v":{"$error":"#REF!"}},{"$f":"X24*Y24","v":{"$error":"#REF!"}},null,{"$f":"VLOOKUP(C24,#REF!,5,FALSE)","v":{"$error":"#REF!"}},{"$f":"AA24*AB24","v":{"$error":"#REF!"}},null,null,{"$f":"AD24*15+AE24*25","v":0},{"$f":"D24+G24+J24+M24+R24+U24+X24+AA24+AD24+AE24+P24","v":0},{"$f":"F24+I24+L24+O24+Q24+T24+W24+Z24+AC24+AF24","v":{"$error":"#REF!"}}]
[null,21,{"$f":"#REF!","v":{"$error":"#REF!"}},null,{"$f":"VLOOKUP(C25,#REF!,2,FALSE)","v":{"$error":"#REF!"}},{"$f":"D25*E25","v":{"$error":"#REF!"}},null,{"$f":"VLOOKUP(C25,#REF!,3,FALSE)","v":{"$error":"#REF!"}},{"$f":"G25*H25","v":{"$error":"#REF!"}},null,{"$f":"VLOOKUP(C25,#REF!,4,FALSE)","v":{"$error":"#REF!"}},{"$f":"J25*K25","v":{"$error":"#REF!"}},null,{"$f":"VLOOKUP(C25,#REF!,5,FALSE)","v":{"$error":"#REF!"}},{"$f":"M25*N25","v":{"$error":"#REF!"}},null,{"$f":"P25*15","v":0},null,{"$f":"VLOOKUP(C25,#REF!,2,FALSE)","v":{"$error":"#REF!"}},{"$f":"R25*S25","v":{"$error":"#REF!"}},null,{"$f":"VLOOKUP(C25,#REF!,3,FALSE)","v":{"$error":"#REF!"}},{"$f":"U25*V25","v":{"$error":"#REF!"}},null,{"$f":"VLOOKUP(C25,#REF!,4,FALSE)","v":{"$error":"#REF!"}},{"$f":"X25*Y25","v":{"$error":"#REF!"}},null,{"$f":"VLOOKUP(C25,#REF!,5,FALSE)","v":{"$error":"#REF!"}},{"$f":"AA25*AB25","v":{"$error":"#REF!"}},null,null,{"$f":"AD25*15+AE25*25","v":0},{"$f":"D25+G25+J25+M25+R25+U25+X25+AA25+AD25+AE25+P25","v":0},{"$f":"F25+I25+L25+O25+Q25+T25+W25+Z25+AC25+AF25","v":{"$error":"#REF!"}}]
[null,22,"Zinātāji",4.5,15,67.5,1.5,10,15,3,15,45,5,20,100,5,75,3,15,45,2,10,20,5,15,75,5,20,100,6,1,115,41,657.5]
[null,23,"A komanda",4,15,60,6,20,120,2,10,20,5,15,75,4,60,5,15,75,5,15,75,1,20,20,2.5,10,25,6,0,90,40.5,620]
[null,24,"Enkurs rauj ezerā",4,15,60,4.5,20,90,3,10,30,4,15,60,4,60,4,15,60,5,20,100,2,15,30,3.5,10,35,6,0,90,40,615]
[null,25,"BallDontLie",5.5,15,82.5,4,20,80,4,10,40,4,15,60,3,45,3,15,45,6,20,120,2,10,20,4.5,15,67.5,3,0,45,39,605]
[null,26,"Maurīcijs",3,10,30,2.5,20,50,5,15,75,5,15,75,7,105,3,15,45,4,20,80,3,10,30,3.5,15,52.5,4,0,60,40,602.5]
[null,27,"Amatieru pietura",5,15,75,4,15,60,4,10,40,4,20,80,2,30,3,15,45,5,20,100,3,10,30,4.5,15,67.5,4,0,60,38.5,587.5]
[null,28,"Rozetes un kabeļi",2.5,15,37.5,2.5,20,50,4,10,40,5,15,75,4,60,3,15,45,6,20,120,2,15,30,1.5,10,15,2,0,30,32.5,502.5]
[null,29,"Lācēni",3,15,45,2.5,15,37.5,2,10,20,3,20,60,3,45,2,15,30,1,10,10,5,20,100,4,15,60,3,0,45,28.5,452.5]
[null,30,"Turks un polis",5,10,50,5.5,20,110,2,15,30,3.5,15,52.5,0,0,2,20,40,3,10,30,2,15,30,3,15,45,4,0,60,30,447.5]
[null,31,"Melnais zirdziņš",4,15,60,1.5,15,22.5,4,10,40,5,20,100,0,0,2,20,40,5,15,75,1,15,15,4,10,40,2,0,30,28.5,422.5]
[null,32,"Ātrie",1,10,10,3,15,45,3,20,60,1,15,15,3,45,1,10,10,4,15,60,3,20,60,3,15,45,2,0,30,24,380]

{"sheet":"aktuala (2)","index":19,"n_rows":25,"n_cols":34,"rows_kept":25,"cut":false,"hidden":true,"merged":[[3,29,3,31],[3,32,3,33],[1,2,2,33],[3,3,3,5],[3,6,3,8],[3,9,3,11],[3,12,3,14],[3,15,3,16],[3,17,3,19],[3,20,3,22],[3,23,3,25],[3,26,3,28]]}
[]
[null,null,{"$f":"'F1'!B2","v":"Sporta viktorīnas speciālizlaidums | F1 viktorīna | 2025.gada 13.augusts"}]
[]
[null,"#","Komandas / Raundi",1,null,null,2,null,null,3,null,null,4,null,null,5,null,6,null,null,7,null,null,8,null,null,9,null,null,10,null,null,"KOPĀ"]
[null,1,"Lapsas",4,15,60,6,20,120,4,10,40,3.5,15,52.5,7,105,6,15,90,5,10,50,5,15,75,4,20,80,6,1,115,51.5,787.5]
[null,2,"Nasing spešal",6,15,90,4,15,60,3,10,30,5,20,100,7,105,3,15,45,5,10,50,6,15,90,5,20,100,6,1,115,51,785]
[null,3,"Alus zaldāti",6,15,90,5,10,50,2,15,30,6,20,120,8,120,3,15,45,5,15,75,5,20,100,2,10,20,7,1,130,50,780]
[null,4,"RAĢ Pīķi & Co",6,15,90,3,15,45,2,10,20,6,20,120,7,105,1,15,15,4,10,40,5,15,75,6,20,120,6,1,115,47,745]
[null,5,"Žeņšeņa borščs",6,10,60,4,15,60,2,15,30,5,20,100,8,120,3,15,45,4,10,40,6,15,90,4,20,80,6,1,115,49,740]
[null,6,"Fireball",4,15,60,5,20,100,2,10,20,5,15,75,8,120,2,15,30,5,15,75,5,20,100,3,10,30,7,1,130,47,740]
[null,7,"Gorbunovi",4,15,60,5,10,50,2,15,30,3,20,60,8,120,5,20,100,5,15,75,6,10,60,4,15,60,5,1,100,48,715]
[null,8,"Rozā krekli un mokasīni",5,20,100,5,10,50,3,15,45,4,15,60,4,60,5,15,75,5,10,50,6,15,90,4,20,80,4,1,85,46,695]
[null,9,"Sfinksa",3,10,30,5,20,100,2,15,30,4,15,60,7,105,4,15,60,5,20,100,6,15,90,2,10,20,5,1,100,44,695]
[null,10,"Mind Machines",6,15,90,3,15,45,2,10,20,4.5,20,90,7,105,4,15,60,5,10,50,6,20,120,2,15,30,4,0,60,43.5,670]
[null,11,"Animāļi",4,15,60,4,15,60,2,10,20,5,20,100,8,120,3,10,30,5,20,100,3,15,45,2,15,30,5,1,100,42,665]
[null,12,"Jon BorJomi",5,15,75,3,10,30,1,15,15,3.5,20,70,8,120,2,10,20,5,15,75,4,20,80,3,15,45,7,1,130,42.5,660]
[null,13,"Vortusiņš",5,15,75,5,15,75,1,10,10,6,20,120,7,105,2,15,30,5,10,50,3,20,60,2,15,30,5,1,100,42,655]
[null,14,"Zēniņi sports nav priekš jums",5,15,75,4,15,60,3,10,30,6,20,120,1,15,4,15,60,3,10,30,5,20,100,3,15,45,5,1,100,40,635]
[null,15,"Laimes rācenis",5,20,100,4,15,60,2,10,20,4.5,15,67.5,8,120,3,15,45,5,10,50,4,20,80,4,15,60,2,0,30,41.5,632.5]
[null,16,"Atbilde ir 42",5,20,100,3,15,45,1,15,15,5,10,50,8,120,2,10,20,4,15,60,4,15,60,1,20,20,7,1,130,41,620]
[null,17,"Bez Agritas",5,15,75,3,20,60,3,10,30,6,15,90,4,60,2,20,40,4,15,60,3,15,45,3,10,30,6,1,115,40,605]
[null,18,"Marvels",4,15,60,3,10,30,3,15,45,4,20,80,4,60,2,15,30,4,10,40,5,20,100,2,15,30,3,0,45,34,520]
[null,19,"Go3 & Chill",6,20,120,3,15,45,1,10,10,4,15,60,4,60,1,15,15,2,10,20,3,20,60,1,15,15,3,0,45,28,450]
[null,20,"Fiasko",4,15,60,1,15,15,1,20,20,2.5,10,25,6,90,3,15,45,3,10,30,3,20,60,2,15,30,3,0,45,28.5,420]
[null,21,"BunS",4,10,40,4,15,60,3,15,45,3,20,60,1,15,2,15,30,5,15,75,3,20,60,0,10,0,2,0,30,27,415]

{"sheet":"aktuala (3)","index":20,"n_rows":25,"n_cols":34,"rows_kept":25,"cut":false,"hidden":true,"merged":[[3,29,3,31],[3,32,3,33],[1,2,2,33],[3,3,3,5],[3,6,3,8],[3,9,3,11],[3,12,3,14],[3,15,3,16],[3,17,3,19],[3,20,3,22],[3,23,3,25],[3,26,3,28]]}
[]
[null,null,{"$f":"'F1'!B2","v":"Sporta viktorīnas speciālizlaidums | F1 viktorīna | 2025.gada 13.augusts"}]
[]
[null,"#","Komandas / Raundi",1,null,null,2,null,null,3,null,null,4,null,null,5,null,6,null,null,7,null,null,8,null,null,9,null,null,10,null,null,"KOPĀ"]
[null,1,"Lācēni",5,10,50,6,15,90,3,15,45,6,20,120,8,120,5,15,75,5,20,100,6,15,90,1,10,10,7,1,130,53,830]
[null,2,"DeJaVu",5,15,75,5,20,100,3,10,30,5,15,75,8,120,5,20,100,5,15,75,6,10,60,3,15,45,6,1,115,52,795]
[null,3,"Bunkurs_13",5,15,75,5,15,75,2,10,20,4,20,80,8,120,4,15,60,5,10,50,6,20,120,4,15,60,7,1,130,51,790]
[null,4,"Slagūnes Metalurgs",5,15,75,3,15,45,1,10,10,6,20,120,8,120,4,15,60,6,15,90,6,20,120,2,10,20,6,1,115,48,775]
[null,5,"Štepselētāju atgriešanās",5,15,75,6,15,90,2,10,20,3.5,20,70,8,120,2,10,20,4,15,60,6,20,120,4,15,60,6,1,115,47.5,750]
[null,6,"Mordanga",5,20,100,5,15,75,2,10,20,5,15,75,5,75,4,15,60,5,20,100,6,15,90,2,10,20,7,1,130,47,745]
[null,7,"5AM",5,15,75,6,15,90,2,10,20,5.5,20,110,8,120,3,15,45,5,10,50,4,15,60,3,20,60,5,1,100,47.5,730]
[null,8,"Atkal Mēs",6,20,120,4,15,60,4,10,40,6,15,90,8,120,3,15,45,4,10,40,6,20,120,2,15,30,4,0,60,47,725]
[null,9,"Alternative facts",6,20,120,4,15,60,2,10,20,4,15,60,7,105,5,15,75,5,10,50,4,20,80,2,15,30,5,1,100,45,700]
[null,10,"Hektora apustuļi",4,15,60,4,15,60,3,10,30,6,20,120,4,60,6,20,120,3,10,30,4,15,60,2,15,30,5,1,100,42,670]
[null,11,"kOzis",6,15,90,4,15,60,1,10,10,3,20,60,6,90,1,10,10,5,20,100,4,15,60,4,15,60,7,1,130,42,670]
[null,12,"MĒS",4,15,60,4,15,60,1,10,10,4,20,80,5,75,5,15,75,5,15,75,5,20,100,2,10,20,5,1,100,41,655]
[null,13,"Cukurfabrika",6,20,120,4,15,60,2,10,20,4,15,60,5,75,4,20,80,5,10,50,3,15,45,4,15,60,5,0,75,42,645]
[null,14,"Faceless Victorians",6,20,120,4,15,60,1,10,10,4.5,15,67.5,5,75,3,15,45,3,10,30,6,20,120,2,15,30,5,0,75,39.5,632.5]
[null,15,"Džimenes ārsts",4,15,60,2,15,30,1,10,10,5,20,100,8,120,1,15,15,5,10,50,3,15,45,3,20,60,3,1,70,36,560]
[null,16,"Netīrs netīrs",4,20,80,3,15,45,1,10,10,5,15,75,1,15,3,15,45,4,10,40,6,15,90,3,20,60,3,0,45,33,505]
[null,17,"Plānā galdiņa urbējas",1,15,15,1,10,10,1,15,15,3.5,20,70,4,60,3,10,30,1,15,15,3,20,60,0,15,0,4,0,60,21.5,335]
[null,18,{"$f":"#REF!","v":{"$error":"#REF!"}},null,{"$f":"VLOOKUP(C22,#REF!,2,FALSE)","v":{"$error":"#REF!"}},{"$f":"D22*E22","v":{"$error":"#REF!"}},null,{"$f":"VLOOKUP(C22,#REF!,3,FALSE)","v":{"$error":"#REF!"}},{"$f":"G22*H22","v":{"$error":"#REF!"}},null,{"$f":"VLOOKUP(C22,#REF!,4,FALSE)","v":{"$error":"#REF!"}},{"$f":"J22*K22","v":{"$error":"#REF!"}},4,{"$f":"VLOOKUP(C22,#REF!,5,FALSE)","v":{"$error":"#REF!"}},{"$f":"M22*N22","v":{"$error":"#REF!"}},4,{"$f":"P22*15","v":60},2,{"$f":"VLOOKUP(C22,#REF!,2,FALSE)","v":{"$error":"#REF!"}},{"$f":"R22*S22","v":{"$error":"#REF!"}},4,{"$f":"VLOOKUP(C22,#REF!,3,FALSE)","v":{"$error":"#REF!"}},{"$f":"U22*V22","v":{"$error":"#REF!"}},5,{"$f":"VLOOKUP(C22,#REF!,4,FALSE)","v":{"$error":"#REF!"}},{"$f":"X22*Y22","v":{"$error":"#REF!"}},2,{"$f":"VLOOKUP(C22,#REF!,5,FALSE)","v":{"$error":"#REF!"}},{"$f":"AA22*AB22","v":{"$error":"#REF!"}},3,0,{"$f":"AD22*15+AE22*25","v":45},{"$f":"D22+G22+J22+M22+R22+U22+X22+AA22+AD22+AE22+P22","v":24},{"$f":"F22+I22+L22+O22+Q22+T22+W22+Z22+AC22+AF22","v":{"$error":"#REF!"}}]
[null,19,{"$f":"#REF!","v":{"$error":"#REF!"}},null,{"$f":"VLOOKUP(C23,#REF!,2,FALSE)","v":{"$error":"#REF!"}},{"$error":"#REF!"},null,{"$f":"VLOOKUP(C23,#REF!,3,FALSE)","v":{"$error":"#REF!"}},{"$error":"#REF!"},null,{"$f":"VLOOKUP(C23,#REF!,4,FALSE)","v":{"$error":"#REF!"}},{"$error":"#REF!"},4,{"$f":"VLOOKUP(C23,#REF!,5,FALSE)","v":{"$error":"#REF!"}},{"$error":"#REF!"},4,60,1,{"$f":"VLOOKUP(C23,#REF!,2,FALSE)","v":{"$error":"#REF!"}},{"$error":"#REF!"},2,{"$f":"VLOOKUP(C23,#REF!,3,FALSE)","v":{"$error":"#REF!"}},{"$error":"#REF!"},3,{"$f":"VLOOKUP(C23,#REF!,4,FALSE)","v":{"$error":"#REF!"}},{"$error":"#REF!"},1,{"$f":"VLOOKUP(C23,#REF!,5,FALSE)","v":{"$error":"#REF!"}},{"$error":"#REF!"},3,0,45,18,{"$error":"#REF!"}]
[null,20,{"$f":"#REF!","v":{"$error":"#REF!"}},null,{"$f":"VLOOKUP(C24,#REF!,2,FALSE)","v":{"$error":"#REF!"}},{"$error":"#REF!"},null,{"$f":"VLOOKUP(C24,#REF!,3,FALSE)","v":{"$error":"#REF!"}},{"$error":"#REF!"},null,{"$f":"VLOOKUP(C24,#REF!,4,FALSE)","v":{"$error":"#REF!"}},{"$error":"#REF!"},2.5,{"$f":"VLOOKUP(C24,#REF!,5,FALSE)","v":{"$error":"#REF!"}},{"$error":"#REF!"},6,90,3,{"$f":"VLOOKUP(C24,#REF!,2,FALSE)","v":{"$error":"#REF!"}},{"$error":"#REF!"},3,{"$f":"VLOOKUP(C24,#REF!,3,FALSE)","v":{"$error":"#REF!"}},{"$error":"#REF!"},3,{"$f":"VLOOKUP(C24,#REF!,4,FALSE)","v":{"$error":"#REF!"}},{"$error":"#REF!"},2,{"$f":"VLOOKUP(C24,#REF!,5,FALSE)","v":{"$error":"#REF!"}},{"$error":"#REF!"},3,0,45,22.5,{"$error":"#REF!"}]
[null,21,{"$f":"#REF!","v":{"$error":"#REF!"}},null,{"$f":"VLOOKUP(C25,#REF!,2,FALSE)","v":{"$error":"#REF!"}},{"$error":"#REF!"},null,{"$f":"VLOOKUP(C25,#REF!,3,FALSE)","v":{"$error":"#REF!"}},{"$error":"#REF!"},null,{"$f":"VLOOKUP(C25,#REF!,4,FALSE)","v":{"$error":"#REF!"}},{"$error":"#REF!"},3,{"$f":"VLOOKUP(C25,#REF!,5,FALSE)","v":{"$error":"#REF!"}},{"$error":"#REF!"},1,15,2,{"$f":"VLOOKUP(C25,#REF!,2,FALSE)","v":{"$error":"#REF!"}},{"$error":"#REF!"},5,{"$f":"VLOOKUP(C25,#REF!,3,FALSE)","v":{"$error":"#REF!"}},{"$error":"#REF!"},3,{"$f":"VLOOKUP(C25,#REF!,4,FALSE)","v":{"$error":"#REF!"}},{"$error":"#REF!"},0,{"$f":"VLOOKUP(C25,#REF!,5,FALSE)","v":{"$error":"#REF!"}},{"$error":"#REF!"},2,0,30,16,{"$error":"#REF!"}]

{"sheet":"aktuala (4)","index":21,"n_rows":25,"n_cols":34,"rows_kept":25,"cut":false,"hidden":true,"merged":[[3,29,3,31],[3,32,3,33],[1,2,2,33],[3,3,3,5],[3,6,3,8],[3,9,3,11],[3,12,3,14],[3,15,3,16],[3,17,3,19],[3,20,3,22],[3,23,3,25],[3,26,3,28]]}
[]
[null,null,{"$f":"'F1'!B2","v":"Sporta viktorīnas speciālizlaidums | F1 viktorīna | 2025.gada 13.augusts"}]
[]
[null,"#","Komandas / Raundi",1,null,null,2,null,null,3,null,null,4,null,null,5,null,6,null,null,7,null,null,8,null,null,9,null,null,10,null,null,"KOPĀ"]
[null,1,"AC Seda",5,15,75,5,20,100,1,10,10,5,15,75,8,120,6,20,120,5,15,75,6,15,90,3,10,30,7,1,130,52,825]
[null,2,"Baltijas jūras izsmelšanas b.",6,20,120,6,15,90,2,10,20,5,15,75,8,120,4,10,40,5,15,75,5,15,75,2,20,40,7,1,130,51,785]
[null,3,"Sestais lieks",4,15,60,4,20,80,2,10,20,5,15,75,7,105,6,15,90,5,20,100,6,15,90,2,10,20,7,1,130,49,770]
[null,4,"Zinātāji",5,15,75,5,15,75,3,10,30,5,20,100,8,120,3,15,45,5,20,100,5,15,75,2,10,20,7,1,130,49,770]
[null,5,"Putekļi uz grāmatām",4,15,60,5,15,75,3,10,30,6,20,120,7,105,2,15,30,5,10,50,6,20,120,2,15,30,7,1,130,48,750]
[null,6,"Brāķis bez metāla",4,15,60,5,15,75,1,10,10,5,20,100,8,120,4,20,80,6,15,90,5,15,75,2,10,20,5,1,100,46,730]
[null,7,"Ansamblis X",3,15,45,4,15,60,3,10,30,6,20,120,6,90,4,15,60,5,15,75,6,20,120,1,10,10,5,1,100,44,710]
[null,8,"Mežpils miglā",4,15,60,5,15,75,3,10,30,5,20,100,6,90,5,15,75,6,10,60,4,20,80,1,15,15,4,1,85,44,670]
[null,9,"Žīdam ir taisnība",5,15,75,5,15,75,1,10,10,4,20,80,5,75,3,15,45,5,15,75,5,20,100,2,10,20,6,1,115,42,670]
[null,10,"Gurinētie Marķīši",4,15,60,4,15,60,1,10,10,6,20,120,3,45,4,15,60,3,10,30,6,20,120,4,15,60,3,1,70,39,635]
[null,11,"Bugatti Veyron",4,15,60,3,15,45,1,10,10,5,20,100,6,90,3,15,45,5,10,50,3,15,45,4,20,80,3,0,45,37,570]
[null,12,"Te tikai Dieviņš palīdzēs",4,15,60,3,15,45,1,10,10,4,20,80,3,45,1,10,10,5,15,75,4,15,60,1,20,20,0,0,0,26,405]
[null,13,"No one",3,20,60,1,10,10,0,15,0,3,15,45,1,15,1,15,15,1,10,10,3,20,60,1,15,15,0,0,0,14,230]
[null,14,{"$f":"#REF!","v":{"$error":"#REF!"}},null,{"$f":"VLOOKUP(C18,#REF!,2,FALSE)","v":{"$error":"#REF!"}},{"$f":"D18*E18","v":{"$error":"#REF!"}},null,{"$f":"VLOOKUP(C18,#REF!,3,FALSE)","v":{"$error":"#REF!"}},{"$f":"G18*H18","v":{"$error":"#REF!"}},null,{"$f":"VLOOKUP(C18,#REF!,4,FALSE)","v":{"$error":"#REF!"}},{"$f":"J18*K18","v":{"$error":"#REF!"}},null,{"$f":"VLOOKUP(C18,#REF!,5,FALSE)","v":{"$error":"#REF!"}},{"$f":"M18*N18","v":{"$error":"#REF!"}},null,{"$f":"P18*15","v":0},null,{"$f":"VLOOKUP(C18,#REF!,2,FALSE)","v":{"$error":"#REF!"}},{"$f":"R18*S18","v":{"$error":"#REF!"}},null,{"$f":"VLOOKUP(C18,#REF!,3,FALSE)","v":{"$error":"#REF!"}},{"$f":"U18*V18","v":{"$error":"#REF!"}},null,{"$f":"VLOOKUP(C18,#REF!,4,FALSE)","v":{"$error":"#REF!"}},{"$f":"X18*Y18","v":{"$error":"#REF!"}},null,{"$f":"VLOOKUP(C18,#REF!,5,FALSE)","v":{"$error":"#REF!"}},{"$f":"AA18*AB18","v":{"$error":"#REF!"}},null,null,{"$f":"AD18*15+AE18*25","v":0},{"$f":"D18+G18+J18+M18+R18+U18+X18+AA18+AD18+AE18+P18","v":0},{"$f":"F18+I18+L18+O18+Q18+T18+W18+Z18+AC18+AF18","v":{"$error":"#REF!"}}]
[null,15,{"$f":"#REF!","v":{"$error":"#REF!"}},null,{"$f":"VLOOKUP(C19,#REF!,2,FALSE)","v":{"$error":"#REF!"}},{"$error":"#REF!"},null,{"$f":"VLOOKUP(C19,#REF!,3,FALSE)","v":{"$error":"#REF!"}},{"$error":"#REF!"},null,{"$f":"VLOOKUP(C19,#REF!,4,FALSE)","v":{"$error":"#REF!"}},{"$error":"#REF!"},null,{"$f":"VLOOKUP(C19,#REF!,5,FALSE)","v":{"$error":"#REF!"}},{"$error":"#REF!"},null,0,null,{"$f":"VLOOKUP(C19,#REF!,2,FALSE)","v":{"$error":"#REF!"}},{"$error":"#REF!"},null,{"$f":"VLOOKUP(C19,#REF!,3,FALSE)","v":{"$error":"#REF!"}},{"$error":"#REF!"},null,{"$f":"VLOOKUP(C19,#REF!,4,FALSE)","v":{"$error":"#REF!"}},{"$error":"#REF!"},null,{"$f":"VLOOKUP(C19,#REF!,5,FALSE)","v":{"$error":"#REF!"}},{"$error":"#REF!"},null,null,0,0,{"$error":"#REF!"}]
[null,16,{"$f":"#REF!","v":{"$error":"#REF!"}},null,{"$f":"VLOOKUP(C20,#REF!,2,FALSE)","v":{"$error":"#REF!"}},{"$error":"#REF!"},null,{"$f":"VLOOKUP(C20,#REF!,3,FALSE)","v":{"$error":"#REF!"}},{"$error":"#REF!"},null,{"$f":"VLOOKUP(C20,#REF!,4,FALSE)","v":{"$error":"#REF!"}},{"$error":"#REF!"},null,{"$f":"VLOOKUP(C20,#REF!,5,FALSE)","v":{"$error":"#REF!"}},{"$error":"#REF!"},null,0,null,{"$f":"VLOOKUP(C20,#REF!,2,FALSE)","v":{"$error":"#REF!"}},{"$error":"#REF!"},null,{"$f":"VLOOKUP(C20,#REF!,3,FALSE)","v":{"$error":"#REF!"}},{"$error":"#REF!"},null,{"$f":"VLOOKUP(C20,#REF!,4,FALSE)","v":{"$error":"#REF!"}},{"$error":"#REF!"},null,{"$f":"VLOOKUP(C20,#REF!,5,FALSE)","v":{"$error":"#REF!"}},{"$error":"#REF!"},null,null,0,0,{"$error":"#REF!"}]
[null,17,{"$f":"#REF!","v":{"$error":"#REF!"}},null,{"$f":"VLOOKUP(C21,#REF!,2,FALSE)","v":{"$error":"#REF!"}},{"$error":"#REF!"},null,{"$f":"VLOOKUP(C21,#REF!,3,FALSE)","v":{"$error":"#REF!"}},{"$error":"#REF!"},null,{"$f":"VLOOKUP(C21,#REF!,4,FALSE)","v":{"$error":"#REF!"}},{"$error":"#REF!"},null,{"$f":"VLOOKUP(C21,#REF!,5,FALSE)","v":{"$error":"#REF!"}},{"$error":"#REF!"},null,0,null,{"$f":"VLOOKUP(C21,#REF!,2,FALSE)","v":{"$error":"#REF!"}},{"$error":"#REF!"},null,{"$f":"VLOOKUP(C21,#REF!,3,FALSE)","v":{"$error":"#REF!"}},{"$error":"#REF!"},null,{"$f":"VLOOKUP(C21,#REF!,4,FALSE)","v":{"$error":"#REF!"}},{"$error":"#REF!"},null,{"$f":"VLOOKUP(C21,#REF!,5,FALSE)","v":{"$error":"#REF!"}},{"$error":"#REF!"},null,null,0,0,{"$error":"#REF!"}]
[null,18,{"$f":"#REF!","v":{"$error":"#REF!"}},null,{"$f":"VLOOKUP(C22,#REF!,2,FALSE)","v":{"$error":"#REF!"}},{"$error":"#REF!"},null,{"$f":"VLOOKUP(C22,#REF!,3,FALSE)","v":{"$error":"#REF!"}},{"$error":"#REF!"},null,{"$f":"VLOOKUP(C22,#REF!,4,FALSE)","v":{"$error":"#REF!"}},{"$error":"#REF!"},4,{"$f":"VLOOKUP(C22,#REF!,5,FALSE)","v":{"$error":"#REF!"}},{"$error":"#REF!"},4,60,2,{"$f":"VLOOKUP(C22,#REF!,2,FALSE)","v":{"$error":"#REF!"}},{"$error":"#REF!"},4,{"$f":"VLOOKUP(C22,#REF!,3,FALSE)","v":{"$error":"#REF!"}},{"$error":"#REF!"},5,{"$f":"VLOOKUP(C22,#REF!,4,FALSE)","v":{"$error":"#REF!"}},{"$error":"#REF!"},2,{"$f":"VLOOKUP(C22,#REF!,5,FALSE)","v":{"$error":"#REF!"}},{"$error":"#REF!"},3,0,45,24,{"$error":"#REF!"}]
[null,19,{"$f":"#REF!","v":{"$error":"#REF!"}},null,{"$f":"VLOOKUP(C23,#REF!,2,FALSE)","v":{"$error":"#REF!"}},{"$error":"#REF!"},null,{"$f":"VLOOKUP(C23,#REF!,3,FALSE)","v":{"$error":"#REF!"}},{"$error":"#REF!"},null,{"$f":"VLOOKUP(C23,#REF!,4,FALSE)","v":{"$error":"#REF!"}},{"$error":"#REF!"},4,{"$f":"VLOOKUP(C23,#REF!,5,FALSE)","v":{"$error":"#REF!"}},{"$error":"#REF!"},4,60,1,{"$f":"VLOOKUP(C23,#REF!,2,FALSE)","v":{"$error":"#REF!"}},{"$error":"#REF!"},2,{"$f":"VLOOKUP(C23,#REF!,3,FALSE)","v":{"$error":"#REF!"}},{"$error":"#REF!"},3,{"$f":"VLOOKUP(C23,#REF!,4,FALSE)","v":{"$error":"#REF!"}},{"$error":"#REF!"},1,{"$f":"VLOOKUP(C23,#REF!,5,FALSE)","v":{"$error":"#REF!"}},{"$error":"#REF!"},3,0,45,18,{"$error":"#REF!"}]
[null,20,{"$f":"#REF!","v":{"$error":"#REF!"}},null,{"$f":"VLOOKUP(C24,#REF!,2,FALSE)","v":{"$error":"#REF!"}},{"$error":"#REF!"},null,{"$f":"VLOOKUP(C24,#REF!,3,FALSE)","v":{"$error":"#REF!"}},{"$error":"#REF!"},null,{"$f":"VLOOKUP(C24,#REF!,4,FALSE)","v":{"$error":"#REF!"}},{"$error":"#REF!"},2.5,{"$f":"VLOOKUP(C24,#REF!,5,FALSE)","v":{"$error":"#REF!"}},{"$error":"#REF!"},6,90,3,{"$f":"VLOOKUP(C24,#REF!,2,FALSE)","v":{"$error":"#REF!"}},{"$error":"#REF!"},3,{"$f":"VLOOKUP(C24,#REF!,3,FALSE)","v":{"$error":"#REF!"}},{"$error":"#REF!"},3,{"$f":"VLOOKUP(C24,#REF!,4,FALSE)","v":{"$error":"#REF!"}},{"$error":"#REF!"},2,{"$f":"VLOOKUP(C24,#REF!,5,FALSE)","v":{"$error":"#REF!"}},{"$error":"#REF!"},3,0,45,22.5,{"$error":"#REF!"}]
[null,21,{"$f":"#REF!","v":{"$error":"#REF!"}},null,{"$f":"VLOOKUP(C25,#REF!,2,FALSE)","v":{"$error":"#REF!"}},{"$error":"#REF!"},null,{"$f":"VLOOKUP(C25,#REF!,3,FALSE)","v":{"$error":"#REF!"}},{"$error":"#REF!"},null,{"$f":"VLOOKUP(C25,#REF!,4,FALSE)","v":{"$error":"#REF!"}},{"$error":"#REF!"},3,{"$f":"VLOOKUP(C25,#REF!,5,FALSE)","v":{"$error":"#REF!"}},{"$error":"#REF!"},1,15,2,{"$f":"VLOOKUP(C25,#REF!,2,FALSE)","v":{"$error":"#REF!"}},{"$error":"#REF!"},5,{"$f":"VLOOKUP(C25,#REF!,3,FALSE)","v":{"$error":"#REF!"}},{"$error":"#REF!"},3,{"$f":"VLOOKUP(C25,#REF!,4,FALSE)","v":{"$error":"#REF!"}},{"$error":"#REF!"},0,{"$f":"VLOOKUP(C25,#REF!,5,FALSE)","v":{"$error":"#REF!"}},{"$error":"#REF!"},2,0,30,16,{"$error":"#REF!"}]

{"sheet":"aktuala (5)","index":22,"n_rows":25,"n_cols":34,"rows_kept":25,"cut":false,"hidden":true,"merged":[[3,29,3,31],[3,32,3,33],[1,2,2,33],[3,3,3,5],[3,6,3,8],[3,9,3,11],[3,12,3,14],[3,15,3,16],[3,17,3,19],[3,20,3,22],[3,23,3,25],[3,26,3,28]]}
[]
[null,null,{"$f":"'F1'!B2","v":"Sporta viktorīnas speciālizlaidums | F1 viktorīna | 2025.gada 13.augusts"}]
[]
[null,"#","Komandas / Raundi",1,null,null,2,null,null,3,null,null,4,null,null,5,null,6,null,null,7,null,null,8,null,null,9,null,null,10,null,null,"KOPĀ"]
[null,1,"Āreče",6,15,90,6,20,120,3,10,30,5,15,75,8,120,5,10,50,6,20,120,6,15,90,2,15,30,7,1,130,55,855]
[null,2,"Trombons un citas problēmas",4,15,60,5,15,75,2,10,20,5.5,20,110,8,120,6,20,120,5,10,50,6,15,90,4,15,60,7,1,130,53.5,835]
[null,3,"Džokers un pieci dūži",4,10,40,6,20,120,3,15,45,5.5,15,82.5,8,120,6,15,90,3,15,45,6,20,120,3,10,30,6,1,115,51.5,807.5]
[null,4,"Prāta eklektika",5,10,50,6,20,120,3,15,45,5.5,15,82.5,8,120,5,15,75,5,15,75,4,20,80,2,10,20,6,1,115,50.5,782.5]
[null,5,"Apskaidrība",6,20,120,4,15,60,1,10,10,5,15,75,8,120,5,15,75,4,10,40,3.5,15,52.5,4,20,80,6,1,115,47.5,747.5]
[null,6,"Abula gepardi",4,10,40,4,15,60,3,15,45,5.5,20,110,8,120,5,15,75,5,10,50,5,20,100,2,15,30,4,0,60,45.5,690]
[null,7,"Aģenti",6,15,90,5,15,75,2,10,20,5,20,100,0,0,4,15,60,5,15,75,6,10,60,5,20,100,5,1,100,44,680]
[null,8,"Domājam nosaukumu",4,15,60,5,20,100,3,10,30,4,15,60,7,105,3,20,60,5,15,75,6,15,90,3,10,30,3,1,70,44,680]
[null,9,"Amatieru pietura",4,15,60,5,20,100,2,10,20,4,15,60,8,120,3,15,45,5,20,100,3,10,30,4,15,60,3,0,45,41,640]
[null,10,"Gaujas hiēnas",5,15,75,4,15,60,2,10,20,4.5,20,90,7,105,4,15,60,5,10,50,4,15,60,1,20,20,5,0,75,41.5,615]
[null,11,"Konkurences kavētāji",4,15,60,6,20,120,1,10,10,3.5,15,52.5,4,60,2,10,20,5,15,75,5,20,100,3,15,45,2,0,30,35.5,572.5]
[null,12,"Pa zoino",6,15,90,2,15,30,0,10,0,6,20,120,4,60,2,15,30,5,15,75,3,10,30,3,20,60,2,0,30,33,525]
[null,13,"HR All-Stars",5,15,75,3,15,45,1,10,10,3.5,20,70,6,90,2,15,30,4,10,40,3,15,45,2,20,40,5,0,75,34.5,520]
[null,14,"Hektora saime",4,15,60,3,20,60,0,10,0,3,15,45,6,90,2,15,30,5,10,50,3.5,20,70,2,15,30,5,0,75,33.5,510]
[null,15,"Kukuržņi",5,20,100,4,15,60,1,10,10,3,15,45,0,0,3,20,60,4,10,40,4,15,60,3,15,45,2,0,30,29,450]
[null,16,"HR Powerhouse",2,15,30,3,15,45,1,10,10,3,20,60,2,30,2,15,30,3,10,30,2.5,15,37.5,1,20,20,4,1,85,24.5,377.5]
[null,17,{"$f":"#REF!","v":{"$error":"#REF!"}},null,{"$f":"VLOOKUP(C21,#REF!,2,FALSE)","v":{"$error":"#REF!"}},{"$f":"D21*E21","v":{"$error":"#REF!"}},null,{"$f":"VLOOKUP(C21,#REF!,3,FALSE)","v":{"$error":"#REF!"}},{"$f":"G21*H21","v":{"$error":"#REF!"}},null,{"$f":"VLOOKUP(C21,#REF!,4,FALSE)","v":{"$error":"#REF!"}},{"$f":"J21*K21","v":{"$error":"#REF!"}},null,{"$f":"VLOOKUP(C21,#REF!,5,FALSE)","v":{"$error":"#REF!"}},{"$f":"M21*N21","v":{"$error":"#REF!"}},null,{"$f":"P21*15","v":0},null,{"$f":"VLOOKUP(C21,#REF!,2,FALSE)","v":{"$error":"#REF!"}},{"$f":"R21*S21","v":{"$error":"#REF!"}},null,{"$f":"VLOOKUP(C21,#REF!,3,FALSE)","v":{"$error":"#REF!"}},{"$f":"U21*V21","v":{"$error":"#REF!"}},null,{"$f":"VLOOKUP(C21,#REF!,4,FALSE)","v":{"$error":"#REF!"}},{"$f":"X21*Y21","v":{"$error":"#REF!"}},null,{"$f":"VLOOKUP(C21,#REF!,5,FALSE)","v":{"$error":"#REF!"}},{"$f":"AA21*AB21","v":{"$error":"#REF!"}},null,null,{"$f":"AD21*15+AE21*25","v":0},{"$f":"D21+G21+J21+M21+R21+U21+X21+AA21+AD21+AE21+P21","v":0},{"$f":"F21+I21+L21+O21+Q21+T21+W21+Z21+AC21+AF21","v":{"$error":"#REF!"}}]
[null,18,{"$f":"#REF!","v":{"$error":"#REF!"}},null,{"$f":"VLOOKUP(C22,#REF!,2,FALSE)","v":{"$error":"#REF!"}},{"$error":"#REF!"},null,{"$f":"VLOOKUP(C22,#REF!,3,FALSE)","v":{"$error":"#REF!"}},{"$error":"#REF!"},null,{"$f":"VLOOKUP(C22,#REF!,4,FALSE)","v":{"$error":"#REF!"}},{"$error":"#REF!"},null,{"$f":"VLOOKUP(C22,#REF!,5,FALSE)","v":{"$error":"#REF!"}},{"$error":"#REF!"},null,0,null,{"$f":"VLOOKUP(C22,#REF!,2,FALSE)","v":{"$error":"#REF!"}},{"$error":"#REF!"},null,{"$f":"VLOOKUP(C22,#REF!,3,FALSE)","v":{"$error":"#REF!"}},{"$error":"#REF!"},null,{"$f":"VLOOKUP(C22,#REF!,4,FALSE)","v":{"$error":"#REF!"}},{"$error":"#REF!"},null,{"$f":"VLOOKUP(C22,#REF!,5,FALSE)","v":{"$error":"#REF!"}},{"$error":"#REF!"},null,null,0,0,{"$error":"#REF!"}]
[null,19,{"$f":"#REF!","v":{"$error":"#REF!"}},null,{"$f":"VLOOKUP(C23,#REF!,2,FALSE)","v":{"$error":"#REF!"}},{"$error":"#REF!"},null,{"$f":"VLOOKUP(C23,#REF!,3,FALSE)","v":{"$error":"#REF!"}},{"$error":"#REF!"},null,{"$f":"VLOOKUP(C23,#REF!,4,FALSE)","v":{"$error":"#REF!"}},{"$error":"#REF!"},null,{"$f":"VLOOKUP(C23,#REF!,5,FALSE)","v":{"$error":"#REF!"}},{"$error":"#REF!"},null,0,null,{"$f":"VLOOKUP(C23,#REF!,2,FALSE)","v":{"$error":"#REF!"}},{"$error":"#REF!"},null,{"$f":"VLOOKUP(C23,#REF!,3,FALSE)","v":{"$error":"#REF!"}},{"$error":"#REF!"},null,{"$f":"VLOOKUP(C23,#REF!,4,FALSE)","v":{"$error":"#REF!"}},{"$error":"#REF!"},null,{"$f":"VLOOKUP(C23,#REF!,5,FALSE)","v":{"$error":"#REF!"}},{"$error":"#REF!"},null,null,0,0,{"$error":"#REF!"}]
[null,20,{"$f":"#REF!","v":{"$error":"#REF!"}},null,{"$f":"VLOOKUP(C24,#REF!,2,FALSE)","v":{"$error":"#REF!"}},{"$error":"#REF!"},null,{"$f":"VLOOKUP(C24,#REF!,3,FALSE)","v":{"$error":"#REF!"}},{"$error":"#REF!"},null,{"$f":"VLOOKUP(C24,#REF!,4,FALSE)","v":{"$error":"#REF!"}},{"$error":"#REF!"},null,{"$f":"VLOOKUP(C24,#REF!,5,FALSE)","v":{"$error":"#REF!"}},{"$error":"#REF!"},null,0,null,{"$f":"VLOOKUP(C24,#REF!,2,FALSE)","v":{"$error":"#REF!"}},{"$error":"#REF!"},null,{"$f":"VLOOKUP(C24,#REF!,3,FALSE)","v":{"$error":"#REF!"}},{"$error":"#REF!"},null,{"$f":"VLOOKUP(C24,#REF!,4,FALSE)","v":{"$error":"#REF!"}},{"$error":"#REF!"},null,{"$f":"VLOOKUP(C24,#REF!,5,FALSE)","v":{"$error":"#REF!"}},{"$error":"#REF!"},null,null,0,0,{"$error":"#REF!"}]
[null,21,{"$f":"#REF!","v":{"$error":"#REF!"}},null,{"$f":"VLOOKUP(C25,#REF!,2,FALSE)","v":{"$error":"#REF!"}},{"$error":"#REF!"},null,{"$f":"VLOOKUP(C25,#REF!,3,FALSE)","v":{"$error":"#REF!"}},{"$error":"#REF!"},null,{"$f":"VLOOKUP(C25,#REF!,4,FALSE)","v":{"$error":"#REF!"}},{"$error":"#REF!"},null,{"$f":"VLOOKUP(C25,#REF!,5,FALSE)","v":{"$error":"#REF!"}},{"$error":"#REF!"},null,0,null,{"$f":"VLOOKUP(C25,#REF!,2,FALSE)","v":{"$error":"#REF!"}},{"$error":"#REF!"},null,{"$f":"VLOOKUP(C25,#REF!,3,FALSE)","v":{"$error":"#REF!"}},{"$error":"#REF!"},null,{"$f":"VLOOKUP(C25,#REF!,4,FALSE)","v":{"$error":"#REF!"}},{"$error":"#REF!"},null,{"$f":"VLOOKUP(C25,#REF!,5,FALSE)","v":{"$error":"#REF!"}},{"$error":"#REF!"},null,null,0,0,{"$error":"#REF!"}]

{"sheet":"arpuskastes","index":23,"n_rows":16,"n_cols":14,"rows_kept":16,"cut":false,"hidden":true,"merged":[[1,2,2,13]]}
[]
[null,null,"Speciālizlaidums \"ārpus KASTES viktorīna\"| 2025.gada 9.janvāris"]
[]
[null,"#","Komandas / Raundi",1,2,3,4,5,6,7,8,9,10,"KOPĀ"]
[null,1,"Fireball",5,5,3,5,8,5,4,5,null,null,{"$f":"SUM(D5:M5)","v":40}]
[null,2,"Jon BorJomi",5,3,3,5,7,5,6,5,null,null,39]
[null,3,"Īstvuda morda",6,4,4,5,6,2,5,4,null,null,36]
[null,4,"Siena",5,4,5,2,8,3,4,5,null,null,36]
[null,5,"Žīdam ir taisnība",6,4,4,1,8,4,4,5,null,null,36]
[null,6,"Marvels",5,4,4,4,7,3,4,3,null,null,34]
[null,7,"MĒS",6,4,1,1,8,4,3,4,null,null,31]
[null,8,"Zēniņi",4,3,3,2,7,3,3,5,null,null,30]
[null,9,"Mind Machines",4,3,2,2,4,4,4,3,null,null,26]
[null,10,"Trilonijas bumbas",3,1,2,3,4,3,4,3,null,null,23]
[null,11,"Verņaki",3,3,2,2,3,3,2,4,null,null,22]
[null,12,"BunS",3,2,1,1,5,3,2,3,null,null,20]

{"sheet":"ak_1","index":24,"n_rows":28,"n_cols":14,"rows_kept":28,"cut":false,"hidden":true,"merged":[[1,2,2,13]]}
[]
[null,null,"Speciālizlaidums \"ārpus KASTES viktorīna\"| 2025.g. 8. un 9.janvāris"]
[]
[null,"#","Komandas / Raundi","Dažādi","Kino","Bērniem","Dažādi","Kas kopīgs?","Auto","Izgudrojumi / izgudrotāji","Pieminekļi","Senā Roma","Kas kopīgs #1","KOPĀ"]
[null,1,"Hektora apustuļi",6,6,5,4,7,6,6,2,4,8,{"$f":"SUM(D5:M5)","v":54}]
[null,2,"Fireball",5,4,5,5,4,5,5,3,5,8,49]
[null,3,"Jon BorJomi",5,6,5,4,4,5,3,3,5,7,47]
[null,4,"Alus zaldāti",3,5,6,6,5,5,4,3,2,5,44]
[null,5,"Bunkurs_13, kas vairojas",4,6,5,4,2,4,5,3,4,7,44]
[null,6,"Vortusiņš",5,5,3,5,6,4,3,2,3,8,44]
[null,7,"Īstvuda morda",2,5,4,5,3,6,4,4,5,6,44]
[null,8,"Siena",3,4,5,4,3,5,4,5,2,8,43]
[null,9,"Žīdam ir taisnība",4,4,5,3,4,6,4,4,1,8,43]
[null,10,null,null,null,null,null,null,null,null,null,null,null,0]
[null,11,null,null,null,null,null,null,null,null,null,null,null,0]
[null,12,{"$f":"#REF!","v":{"$error":"#REF!"}},null,null,null,null,null,null,null,null,null,null,0]
[null,13,"Putekļi uz grāmatām",4,5,5,4,6,3,4,2,4,5,42]
[null,14,"Ansamblis X",4,3,5,3,3,5,4,4,2,8,41]
[null,15,"Marvels",3,4,3,4,3,5,4,4,4,7,41]
[null,16,"Gaujas hiēnas",5,5,4,3,2,3,4,2,4,8,40]
[null,17,"MĒS",4,3,4,5,3,6,4,1,1,8,39]
[null,18,"Zēniņi",3,3,5,4,4,4,3,3,2,7,38]
[null,19,"Mind Machines",4,4,3,4,7,4,3,2,2,4,37]
[null,20,"Bugatti Veyron",4,4,5,4,2,4,3,3,3,4,36]
[null,21,"Trilonijas bumbas",3,4,3,5,3,3,1,2,3,4,31]
[null,22,"Verņaki",3,2,4,3,4,3,3,2,2,3,29]
[null,23,"Tagad zinu - ko nezināju!",4,2,4,2,2,3,1,3,1,3,25]
[null,24,"BunS",3,2,3,3,2,3,2,1,1,5,25]

{"sheet":"EUROLEAGUE_5dec","index":25,"n_rows":13,"n_cols":14,"rows_kept":13,"cut":false,"hidden":true,"merged":[[1,2,2,13]]}
[]
[null,null,"Basketbola / Eirolīgas viktorīna - 2025.gada 5.decembris"]
[]
[null,"#","Komandas / Raundi","Dzimuši 2000.g. un jaunāki","Klubu mājvietas","Dažādi","LAT basketbolisti ārpus basketbola","Kas kopīgs?","Dažādi","Ārpus kastes","Iesaukas","Treneri jaunībā","Ķēde","KOPĀ"]
[null,1,"Rozā krekli un mokasīni",6,6,6,5,7,5,4,6,5,7,{"$f":"SUM(D5:M5)","v":57}]
[null,2,"Alus zaldāti",5,3,4.5,4,7,4,5,5,6,7,50.5]
[null,3,"Barangay Ginebra San Miguel",5,5,4,3,8,4,3,5,3,7,47]
[null,4,"Kozis",3,3,5,4,7,3,5,4,5,4,43]
[null,5,"Fireball",1,2,6,4,4,5,6,4,4,3,39]
[null,6,"Zigfrīds Abduldžabars",2,2,3,4,6,4,4,4,4,1,34]
[null,7,"Gražuli",3,5,2.5,0,7,4,3,3,3,2,32.5]
[null,8,"Kūpers",6,2,3,2,7,3,1,4,2,2,32]
[null,9,"Zikurāts",0,1,0,0,4,1,3,0,1,1,11]